pathview 1.11.0 Weijun Luo
Snapshot Date: 2015-10-26 20:20:04 -0400 (Mon, 26 Oct 2015) | URL: https://hedgehog.fhcrc.org/bioconductor/trunk/madman/Rpacks/pathview | Last Changed Rev: 109592 / Revision: 109948 | Last Changed Date: 2015-10-13 15:59:53 -0400 (Tue, 13 Oct 2015) |
| linux2.bioconductor.org | Linux (Ubuntu 14.04.2 LTS) / x86_64 | OK | OK | OK | | |
windows2.bioconductor.org | Windows Server 2012 R2 Enterprise SP1 (64-bit) / x64 | OK | OK | OK | [ OK ] | |
##############################################################################
##############################################################################
###
### Running command:
###
### cd pathview.buildbin-libdir/pathview && zip -r ../../pathview_1.11.0.zip . & cd ../..
###
##############################################################################
##############################################################################
adding: CITATION (188 bytes security) (deflated 47%)
adding: data/ (208 bytes security) (stored 0%)
adding: data/bods.rda (188 bytes security) (stored 0%)
adding: data/cpd.accs.rda (188 bytes security) (deflated 0%)
adding: data/cpd.names.rda (188 bytes security) (deflated 0%)
adding: data/cpd.simtypes.rda (188 bytes security) (stored 0%)
adding: data/datalist (188 bytes security) (deflated 28%)
adding: data/demo.paths.rda (188 bytes security) (stored 0%)
adding: data/gene.idtype.bods.rda (188 bytes security) (stored 0%)
adding: data/gene.idtype.list.rda (188 bytes security) (stored 0%)
adding: data/gse16873.d.rda (188 bytes security) (deflated 0%)
adding: data/kegg.met.rda (188 bytes security) (stored 0%)
adding: data/KEGGEdgeSubtype.rda (188 bytes security) (stored 0%)
adding: data/ko.ids.rda (188 bytes security) (deflated 0%)
adding: data/korg.rda (188 bytes security) (deflated 0%)
adding: data/paths.hsa.rda (188 bytes security) (stored 0%)
adding: data/rn.list.rda (188 bytes security) (stored 0%)
adding: DESCRIPTION (188 bytes security) (deflated 47%)
adding: doc/ (208 bytes security) (stored 0%)
adding: doc/index.html (188 bytes security) (deflated 58%)
adding: doc/pathview.pdf (188 bytes security) (deflated 7%)
adding: doc/pathview.R (188 bytes security) (deflated 83%)
adding: doc/pathview.Rnw (188 bytes security) (deflated 71%)
adding: extdata/ (208 bytes security) (stored 0%)
adding: extdata/gse16873.demo (188 bytes security) (deflated 51%)
adding: extdata/hsa04110.png (188 bytes security) (deflated 4%)
adding: extdata/hsa04110.xml (188 bytes security) (deflated 89%)
adding: extdata/kegg.sigmet.rda (188 bytes security) (stored 0%)
adding: help/ (208 bytes security) (stored 0%)
adding: help/aliases.rds (188 bytes security) (stored 0%)
adding: help/AnIndex (188 bytes security) (deflated 65%)
adding: help/paths.rds (188 bytes security) (stored 0%)
adding: help/pathview.rdb (188 bytes security) (deflated 1%)
adding: help/pathview.rdx (188 bytes security) (stored 0%)
adding: html/ (208 bytes security) (stored 0%)
adding: html/00Index.html (188 bytes security) (deflated 79%)
adding: html/R.css (188 bytes security) (deflated 75%)
adding: INDEX (188 bytes security) (deflated 66%)
adding: MD5 (188 bytes security) (deflated 45%)
adding: Meta/ (208 bytes security) (stored 0%)
adding: Meta/data.rds (188 bytes security) (stored 0%)
adding: Meta/hsearch.rds (188 bytes security) (stored 0%)
adding: Meta/links.rds (188 bytes security) (stored 0%)
adding: Meta/nsInfo.rds (188 bytes security) (stored 0%)
adding: Meta/package.rds (188 bytes security) (stored 0%)
adding: Meta/Rd.rds (188 bytes security) (stored 0%)
adding: Meta/vignette.rds (188 bytes security) (stored 0%)
adding: NAMESPACE (188 bytes security) (deflated 53%)
adding: NEWS (188 bytes security) (deflated 59%)
adding: R/ (208 bytes security) (stored 0%)
adding: R/pathview (188 bytes security) (deflated 41%)
adding: R/pathview.rdb (188 bytes security) (deflated 3%)
adding: R/pathview.rdx (188 bytes security) (stored 0%)
adding: unitTests/ (208 bytes security) (stored 0%)
adding: unitTests/test_mapper.R (188 bytes security) (deflated 71%)