Back to the "Multiple platform build/check report" A  B  C  D  E  F  G  H  I  J  K  L  M  N  O [P] Q  R  S  T  U  V  W  X  Y  Z 

BioC 3.3: CHECK report for pcaMethods on linux2.bioconductor.org

This page was generated on 2015-10-27 12:11:33 -0400 (Tue, 27 Oct 2015).

Package 759/1104HostnameOS / ArchINSTALLBUILDCHECKBUILD BIN
pcaMethods 1.61.0
Henning Redestig
Snapshot Date: 2015-10-26 20:20:04 -0400 (Mon, 26 Oct 2015)
URL: https://hedgehog.fhcrc.org/bioconductor/trunk/madman/Rpacks/pcaMethods
Last Changed Rev: 109592 / Revision: 109948
Last Changed Date: 2015-10-13 15:59:53 -0400 (Tue, 13 Oct 2015)
linux2.bioconductor.org Linux (Ubuntu 14.04.2 LTS) / x86_64  OK  OK [ OK ]UNNEEDED, same version exists in internal repository
windows2.bioconductor.org Windows Server 2012 R2 Enterprise SP1 (64-bit) / x64  OK  OK  OK  OK UNNEEDED, same version exists in internal repository

Summary

Package: pcaMethods
Version: 1.61.0
Command: /home/biocbuild/bbs-3.3-bioc/R/bin/R CMD check --no-vignettes --timings pcaMethods_1.61.0.tar.gz
StartedAt: 2015-10-27 06:38:30 -0400 (Tue, 27 Oct 2015)
EndedAt: 2015-10-27 06:39:56 -0400 (Tue, 27 Oct 2015)
EllapsedTime: 86.0 seconds
RetCode: 0
Status:  OK 
CheckDir: pcaMethods.Rcheck
Warnings: 0

Command output

##############################################################################
##############################################################################
###
### Running command:
###
###   /home/biocbuild/bbs-3.3-bioc/R/bin/R CMD check --no-vignettes --timings pcaMethods_1.61.0.tar.gz
###
##############################################################################
##############################################################################


* using log directory ‘/home/biocbuild/bbs-3.3-bioc/meat/pcaMethods.Rcheck’
* using R Under development (unstable) (2015-09-09 r69333)
* using platform: x86_64-pc-linux-gnu (64-bit)
* using session charset: UTF-8
* using option ‘--no-vignettes’
* checking for file ‘pcaMethods/DESCRIPTION’ ... OK
* this is package ‘pcaMethods’ version ‘1.61.0’
* checking package namespace information ... OK
* checking package dependencies ... OK
* checking if this is a source package ... OK
* checking if there is a namespace ... OK
* checking for hidden files and directories ... OK
* checking for portable file names ... OK
* checking for sufficient/correct file permissions ... OK
* checking whether package ‘pcaMethods’ can be installed ... [9s/9s] OK
* checking installed package size ... OK
* checking package directory ... OK
* checking ‘build’ directory ... OK
* checking DESCRIPTION meta-information ... OK
* checking top-level files ... OK
* checking for left-over files ... OK
* checking index information ... OK
* checking package subdirectories ... OK
* checking R files for non-ASCII characters ... OK
* checking R files for syntax errors ... OK
* checking whether the package can be loaded ... OK
* checking whether the package can be loaded with stated dependencies ... OK
* checking whether the package can be unloaded cleanly ... OK
* checking whether the namespace can be loaded with stated dependencies ... OK
* checking whether the namespace can be unloaded cleanly ... OK
* checking dependencies in R code ... NOTE
'library' or 'require' call to ‘matrixStats’ in package code.
  Please use :: or requireNamespace() instead.
  See section 'Suggested packages' in the 'Writing R Extensions' manual.
* checking S3 generic/method consistency ... OK
* checking replacement functions ... OK
* checking foreign function calls ... OK
* checking R code for possible problems ... OK
* checking Rd files ... OK
* checking Rd metadata ... OK
* checking Rd cross-references ... OK
* checking for missing documentation entries ... OK
* checking for code/documentation mismatches ... OK
* checking Rd \usage sections ... OK
* checking Rd contents ... OK
* checking for unstated dependencies in examples ... OK
* checking contents of ‘data’ directory ... OK
* checking data for non-ASCII characters ... OK
* checking data for ASCII and uncompressed saves ... OK
* checking line endings in C/C++/Fortran sources/headers ... OK
* checking compiled code ... OK
* checking installed files from ‘inst/doc’ ... OK
* checking files in ‘vignettes’ ... OK
* checking examples ... [46s/46s] OK
Examples with CPU or elapsed time > 5s
            user system elapsed
robustSvd 17.143  0.004  17.157
kEstimate 14.707  0.007  14.723
robustPca  7.887  0.000   7.894
* checking for unstated dependencies in vignettes ... OK
* checking package vignettes in ‘inst/doc’ ... OK
* checking running R code from vignettes ... SKIPPED
* checking re-building of vignette outputs ... SKIPPED
* checking PDF version of manual ... OK
* DONE

Status: 1 NOTE
See
  ‘/home/biocbuild/bbs-3.3-bioc/meat/pcaMethods.Rcheck/00check.log’
for details.


pcaMethods.Rcheck/00install.out:

* installing *source* package ‘pcaMethods’ ...
** libs
g++ -I/home/biocbuild/bbs-3.3-bioc/R/include -DNDEBUG  -I/usr/local/include -I"/home/biocbuild/bbs-3.3-bioc/R/library/Rcpp/include"   -fpic  -g -O2  -c RcppExports.cpp -o RcppExports.o
g++ -I/home/biocbuild/bbs-3.3-bioc/R/include -DNDEBUG  -I/usr/local/include -I"/home/biocbuild/bbs-3.3-bioc/R/library/Rcpp/include"   -fpic  -g -O2  -c nipals.cpp -o nipals.o
g++ -shared -L/home/biocbuild/bbs-3.3-bioc/R/lib -L/usr/local/lib -o pcaMethods.so RcppExports.o nipals.o -L/home/biocbuild/bbs-3.3-bioc/R/lib -lR
installing to /home/biocbuild/bbs-3.3-bioc/meat/pcaMethods.Rcheck/pcaMethods/libs
** R
** data
** inst
** preparing package for lazy loading
Creating a new generic function for ‘loadings’ in package ‘pcaMethods’
Creating a generic function for ‘print’ from package ‘base’ in package ‘pcaMethods’
Creating a generic function for ‘biplot’ from package ‘stats’ in package ‘pcaMethods’
Creating a generic function for ‘summary’ from package ‘base’ in package ‘pcaMethods’
Creating a generic function for ‘predict’ from package ‘stats’ in package ‘pcaMethods’
Creating a generic function for ‘resid’ from package ‘stats’ in package ‘pcaMethods’
Creating a generic function for ‘fitted’ from package ‘stats’ in package ‘pcaMethods’
Creating a generic function for ‘plot’ from package ‘graphics’ in package ‘pcaMethods’
** help
*** installing help indices
** building package indices
** installing vignettes
** testing if installed package can be loaded
* DONE (pcaMethods)

pcaMethods.Rcheck/pcaMethods-Ex.timings:

nameusersystemelapsed
DModX-pcaRes-method0.1140.0010.114
Q20.1520.0080.160
R2VX-pcaRes-method0.0060.0000.006
RnipalsPca0.2410.0040.244
biplot-methods0.0120.0000.012
bpca0.7890.0000.790
cvseg0.0080.0000.007
fitted-methods0.0050.0000.005
kEstimate14.707 0.00714.723
kEstimateFast0.2630.0000.263
leverage-pcaRes-method0.0120.0000.012
llsImpute0.2980.0000.298
nipalsPca0.0170.0000.016
nlpca2.5960.0162.616
nni0.2350.0000.236
pca0.0810.0000.081
plot.pcaRes0.4100.0000.411
plotPcs0.0230.0000.022
ppca0.0790.0000.079
predict-methods0.0150.0000.015
prep0.0020.0000.002
rediduals-methods0.0140.0000.015
robustPca7.8870.0007.894
robustSvd17.143 0.00417.157
slplot-pcaRes-method0.0150.0000.015
svdImpute0.0840.0000.084
svdPca0.0140.0000.015
wasna-pcaRes-method0.0110.0000.011