Back to the "Multiple platform build/check report" A  B  C  D  E  F  G  H  I  J  K  L  M  N  O [P] Q  R  S  T  U  V  W  X  Y  Z 

BioC 3.3: INSTALL report for phenoTest on linux2.bioconductor.org

This page was generated on 2015-10-27 12:11:54 -0400 (Tue, 27 Oct 2015).

Package 770/1104HostnameOS / ArchINSTALLBUILDCHECKBUILD BIN
phenoTest 1.19.0
Evarist Planet
Snapshot Date: 2015-10-26 20:20:04 -0400 (Mon, 26 Oct 2015)
URL: https://hedgehog.fhcrc.org/bioconductor/trunk/madman/Rpacks/phenoTest
Last Changed Rev: 109592 / Revision: 109948
Last Changed Date: 2015-10-13 15:59:53 -0400 (Tue, 13 Oct 2015)
linux2.bioconductor.org Linux (Ubuntu 14.04.2 LTS) / x86_64 [ OK ] OK  OK UNNEEDED, same version exists in internal repository
windows2.bioconductor.org Windows Server 2012 R2 Enterprise SP1 (64-bit) / x64  OK  OK  OK  OK UNNEEDED, same version exists in internal repository

Summary

Package: phenoTest
Version: 1.19.0
Command: /home/biocbuild/bbs-3.3-bioc/R/bin/R CMD INSTALL phenoTest
StartedAt: 2015-10-26 21:19:51 -0400 (Mon, 26 Oct 2015)
EndedAt: 2015-10-26 21:20:14 -0400 (Mon, 26 Oct 2015)
EllapsedTime: 22.9 seconds
RetCode: 0
Status:  OK 

Command output

##############################################################################
##############################################################################
###
### Running command:
###
###   /home/biocbuild/bbs-3.3-bioc/R/bin/R CMD INSTALL phenoTest
###
##############################################################################
##############################################################################


* installing to library ‘/home/biocbuild/bbs-3.3-bioc/R/library’
* installing *source* package ‘phenoTest’ ...
** R
** data
** inst
** preparing package for lazy loading
Warning: replacing previous import by ‘GSEABase::union’ when loading ‘HTSanalyzeR’
** help
*** installing help indices
** building package indices
** installing vignettes
** testing if installed package can be loaded
Warning: replacing previous import by ‘GSEABase::union’ when loading ‘HTSanalyzeR’
* DONE (phenoTest)