Back to the "Multiple platform build/check report" A  B  C  D  E  F  G  H  I  J  K  L  M  N  O  P  Q [R] S  T  U  V  W  X  Y  Z 

BioC 3.3: INSTALL report for rTANDEM on linux2.bioconductor.org

This page was generated on 2015-10-27 12:12:17 -0400 (Tue, 27 Oct 2015).

Package 921/1104HostnameOS / ArchINSTALLBUILDCHECKBUILD BIN
rTANDEM 1.11.0
Frederic Fournier
Snapshot Date: 2015-10-26 20:20:04 -0400 (Mon, 26 Oct 2015)
URL: https://hedgehog.fhcrc.org/bioconductor/trunk/madman/Rpacks/rTANDEM
Last Changed Rev: 109592 / Revision: 109948
Last Changed Date: 2015-10-13 15:59:53 -0400 (Tue, 13 Oct 2015)
linux2.bioconductor.org Linux (Ubuntu 14.04.2 LTS) / x86_64 [ OK ] OK  OK UNNEEDED, same version exists in internal repository
windows2.bioconductor.org Windows Server 2012 R2 Enterprise SP1 (64-bit) / x64  OK  OK  OK  OK UNNEEDED, same version exists in internal repository

Summary

Package: rTANDEM
Version: 1.11.0
Command: /home/biocbuild/bbs-3.3-bioc/R/bin/R CMD INSTALL rTANDEM
StartedAt: 2015-10-26 21:02:04 -0400 (Mon, 26 Oct 2015)
EndedAt: 2015-10-26 21:04:24 -0400 (Mon, 26 Oct 2015)
EllapsedTime: 139.5 seconds
RetCode: 0
Status:  OK 

Command output

##############################################################################
##############################################################################
###
### Running command:
###
###   /home/biocbuild/bbs-3.3-bioc/R/bin/R CMD INSTALL rTANDEM
###
##############################################################################
##############################################################################


* installing to library ‘/home/biocbuild/bbs-3.3-bioc/R/library’
* installing *source* package ‘rTANDEM’ ...
** libs
g++ -I/home/biocbuild/bbs-3.3-bioc/R/include -DNDEBUG  -I/usr/local/include -I"/home/biocbuild/bbs-3.3-bioc/R/library/Rcpp/include"   -fpic  -g -O2  -c PTMTreeSearch.cpp -o PTMTreeSearch.o
g++ -I/home/biocbuild/bbs-3.3-bioc/R/include -DNDEBUG  -I/usr/local/include -I"/home/biocbuild/bbs-3.3-bioc/R/library/Rcpp/include"   -fpic  -g -O2  -c PTMTreeSearchScore.cpp -o PTMTreeSearchScore.o
g++ -I/home/biocbuild/bbs-3.3-bioc/R/include -DNDEBUG  -I/usr/local/include -I"/home/biocbuild/bbs-3.3-bioc/R/library/Rcpp/include"   -fpic  -g -O2  -c base64.cpp -o base64.o
g++ -I/home/biocbuild/bbs-3.3-bioc/R/include -DNDEBUG  -I/usr/local/include -I"/home/biocbuild/bbs-3.3-bioc/R/library/Rcpp/include"   -fpic  -g -O2  -c dataLoader.cpp -o dataLoader.o
g++ -I/home/biocbuild/bbs-3.3-bioc/R/include -DNDEBUG  -I/usr/local/include -I"/home/biocbuild/bbs-3.3-bioc/R/library/Rcpp/include"   -fpic  -g -O2  -c loadmspectrum.cpp -o loadmspectrum.o
g++ -I/home/biocbuild/bbs-3.3-bioc/R/include -DNDEBUG  -I/usr/local/include -I"/home/biocbuild/bbs-3.3-bioc/R/library/Rcpp/include"   -fpic  -g -O2  -c masscalc.cpp -o masscalc.o
g++ -I/home/biocbuild/bbs-3.3-bioc/R/include -DNDEBUG  -I/usr/local/include -I"/home/biocbuild/bbs-3.3-bioc/R/library/Rcpp/include"   -fpic  -g -O2  -c mbiomlreport.cpp -o mbiomlreport.o
g++ -I/home/biocbuild/bbs-3.3-bioc/R/include -DNDEBUG  -I/usr/local/include -I"/home/biocbuild/bbs-3.3-bioc/R/library/Rcpp/include"   -fpic  -g -O2  -c mpam.cpp -o mpam.o
g++ -I/home/biocbuild/bbs-3.3-bioc/R/include -DNDEBUG  -I/usr/local/include -I"/home/biocbuild/bbs-3.3-bioc/R/library/Rcpp/include"   -fpic  -g -O2  -c mplugin.cpp -o mplugin.o
g++ -I/home/biocbuild/bbs-3.3-bioc/R/include -DNDEBUG  -I/usr/local/include -I"/home/biocbuild/bbs-3.3-bioc/R/library/Rcpp/include"   -fpic  -g -O2  -c mpmods.cpp -o mpmods.o
g++ -I/home/biocbuild/bbs-3.3-bioc/R/include -DNDEBUG  -I/usr/local/include -I"/home/biocbuild/bbs-3.3-bioc/R/library/Rcpp/include"   -fpic  -g -O2  -c mprocess.cpp -o mprocess.o
g++ -I/home/biocbuild/bbs-3.3-bioc/R/include -DNDEBUG  -I/usr/local/include -I"/home/biocbuild/bbs-3.3-bioc/R/library/Rcpp/include"   -fpic  -g -O2  -c mrefine.cpp -o mrefine.o
g++ -I/home/biocbuild/bbs-3.3-bioc/R/include -DNDEBUG  -I/usr/local/include -I"/home/biocbuild/bbs-3.3-bioc/R/library/Rcpp/include"   -fpic  -g -O2  -c mreport.cpp -o mreport.o
g++ -I/home/biocbuild/bbs-3.3-bioc/R/include -DNDEBUG  -I/usr/local/include -I"/home/biocbuild/bbs-3.3-bioc/R/library/Rcpp/include"   -fpic  -g -O2  -c mscore.cpp -o mscore.o
mscore.cpp: In constructor ‘mscore::mscore()’:
mscore.cpp:200:19: warning: iteration 16u invokes undefined behavior [-Waggressive-loop-optimizations]
   m_plCount[a] = 0;
                   ^
mscore.cpp:199:2: note: containing loop
  while(a < 20) {
  ^
g++ -I/home/biocbuild/bbs-3.3-bioc/R/include -DNDEBUG  -I/usr/local/include -I"/home/biocbuild/bbs-3.3-bioc/R/library/Rcpp/include"   -fpic  -g -O2  -c mscore_hrk.cpp -o mscore_hrk.o
g++ -I/home/biocbuild/bbs-3.3-bioc/R/include -DNDEBUG  -I/usr/local/include -I"/home/biocbuild/bbs-3.3-bioc/R/library/Rcpp/include"   -fpic  -g -O2  -c mscore_k.cpp -o mscore_k.o
g++ -I/home/biocbuild/bbs-3.3-bioc/R/include -DNDEBUG  -I/usr/local/include -I"/home/biocbuild/bbs-3.3-bioc/R/library/Rcpp/include"   -fpic  -g -O2  -c mscore_tandem.cpp -o mscore_tandem.o
g++ -I/home/biocbuild/bbs-3.3-bioc/R/include -DNDEBUG  -I/usr/local/include -I"/home/biocbuild/bbs-3.3-bioc/R/library/Rcpp/include"   -fpic  -g -O2  -c msequencecollection.cpp -o msequencecollection.o
g++ -I/home/biocbuild/bbs-3.3-bioc/R/include -DNDEBUG  -I/usr/local/include -I"/home/biocbuild/bbs-3.3-bioc/R/library/Rcpp/include"   -fpic  -g -O2  -c msequenceserver.cpp -o msequenceserver.o
g++ -I/home/biocbuild/bbs-3.3-bioc/R/include -DNDEBUG  -I/usr/local/include -I"/home/biocbuild/bbs-3.3-bioc/R/library/Rcpp/include"   -fpic  -g -O2  -c msequtilities.cpp -o msequtilities.o
g++ -I/home/biocbuild/bbs-3.3-bioc/R/include -DNDEBUG  -I/usr/local/include -I"/home/biocbuild/bbs-3.3-bioc/R/library/Rcpp/include"   -fpic  -g -O2  -c mspectrumcondition.cpp -o mspectrumcondition.o
g++ -I/home/biocbuild/bbs-3.3-bioc/R/include -DNDEBUG  -I/usr/local/include -I"/home/biocbuild/bbs-3.3-bioc/R/library/Rcpp/include"   -fpic  -g -O2  -c mtermmods.cpp -o mtermmods.o
g++ -I/home/biocbuild/bbs-3.3-bioc/R/include -DNDEBUG  -I/usr/local/include -I"/home/biocbuild/bbs-3.3-bioc/R/library/Rcpp/include"   -fpic  -g -O2  -c mxxcleavage.cpp -o mxxcleavage.o
g++ -I/home/biocbuild/bbs-3.3-bioc/R/include -DNDEBUG  -I/usr/local/include -I"/home/biocbuild/bbs-3.3-bioc/R/library/Rcpp/include"   -fpic  -g -O2  -c saxbiomlhandler.cpp -o saxbiomlhandler.o
g++ -I/home/biocbuild/bbs-3.3-bioc/R/include -DNDEBUG  -I/usr/local/include -I"/home/biocbuild/bbs-3.3-bioc/R/library/Rcpp/include"   -fpic  -g -O2  -c saxgamlhandler.cpp -o saxgamlhandler.o
g++ -I/home/biocbuild/bbs-3.3-bioc/R/include -DNDEBUG  -I/usr/local/include -I"/home/biocbuild/bbs-3.3-bioc/R/library/Rcpp/include"   -fpic  -g -O2  -c saxhandler.cpp -o saxhandler.o
g++ -I/home/biocbuild/bbs-3.3-bioc/R/include -DNDEBUG  -I/usr/local/include -I"/home/biocbuild/bbs-3.3-bioc/R/library/Rcpp/include"   -fpic  -g -O2  -c saxmodhandler.cpp -o saxmodhandler.o
g++ -I/home/biocbuild/bbs-3.3-bioc/R/include -DNDEBUG  -I/usr/local/include -I"/home/biocbuild/bbs-3.3-bioc/R/library/Rcpp/include"   -fpic  -g -O2  -c saxmzdatahandler.cpp -o saxmzdatahandler.o
g++ -I/home/biocbuild/bbs-3.3-bioc/R/include -DNDEBUG  -I/usr/local/include -I"/home/biocbuild/bbs-3.3-bioc/R/library/Rcpp/include"   -fpic  -g -O2  -c saxmzmlhandler.cpp -o saxmzmlhandler.o
g++ -I/home/biocbuild/bbs-3.3-bioc/R/include -DNDEBUG  -I/usr/local/include -I"/home/biocbuild/bbs-3.3-bioc/R/library/Rcpp/include"   -fpic  -g -O2  -c saxmzxmlhandler.cpp -o saxmzxmlhandler.o
g++ -I/home/biocbuild/bbs-3.3-bioc/R/include -DNDEBUG  -I/usr/local/include -I"/home/biocbuild/bbs-3.3-bioc/R/library/Rcpp/include"   -fpic  -g -O2  -c saxsaphandler.cpp -o saxsaphandler.o
g++ -I/home/biocbuild/bbs-3.3-bioc/R/include -DNDEBUG  -I/usr/local/include -I"/home/biocbuild/bbs-3.3-bioc/R/library/Rcpp/include"   -fpic  -g -O2  -c saxtandeminputhandler.cpp -o saxtandeminputhandler.o
g++ -I/home/biocbuild/bbs-3.3-bioc/R/include -DNDEBUG  -I/usr/local/include -I"/home/biocbuild/bbs-3.3-bioc/R/library/Rcpp/include"   -fpic  -g -O2  -c saxtaxhandler.cpp -o saxtaxhandler.o
g++ -I/home/biocbuild/bbs-3.3-bioc/R/include -DNDEBUG  -I/usr/local/include -I"/home/biocbuild/bbs-3.3-bioc/R/library/Rcpp/include"   -fpic  -g -O2  -c stdafx.cpp -o stdafx.o
g++ -I/home/biocbuild/bbs-3.3-bioc/R/include -DNDEBUG  -I/usr/local/include -I"/home/biocbuild/bbs-3.3-bioc/R/library/Rcpp/include"   -fpic  -g -O2  -c tandem.cpp -o tandem.o
g++ -I/home/biocbuild/bbs-3.3-bioc/R/include -DNDEBUG  -I/usr/local/include -I"/home/biocbuild/bbs-3.3-bioc/R/library/Rcpp/include"   -fpic  -g -O2  -c xmlparameter.cpp -o xmlparameter.o
g++ -I/home/biocbuild/bbs-3.3-bioc/R/include -DNDEBUG  -I/usr/local/include -I"/home/biocbuild/bbs-3.3-bioc/R/library/Rcpp/include"   -fpic  -g -O2  -c xmltaxonomy.cpp -o xmltaxonomy.o
g++ -shared -L/home/biocbuild/bbs-3.3-bioc/R/lib -L/usr/local/lib -o rTANDEM.so PTMTreeSearch.o PTMTreeSearchScore.o base64.o dataLoader.o loadmspectrum.o masscalc.o mbiomlreport.o mpam.o mplugin.o mpmods.o mprocess.o mrefine.o mreport.o mscore.o mscore_hrk.o mscore_k.o mscore_tandem.o msequencecollection.o msequenceserver.o msequtilities.o mspectrumcondition.o mtermmods.o mxxcleavage.o saxbiomlhandler.o saxgamlhandler.o saxhandler.o saxmodhandler.o saxmzdatahandler.o saxmzmlhandler.o saxmzxmlhandler.o saxsaphandler.o saxtandeminputhandler.o saxtaxhandler.o stdafx.o tandem.o xmlparameter.o xmltaxonomy.o -lpthread -lexpat -L/home/biocbuild/bbs-3.3-bioc/R/lib -lR
installing to /home/biocbuild/bbs-3.3-bioc/R/library/rTANDEM/libs
** R
** inst
** preparing package for lazy loading
** help
*** installing help indices
** building package indices
** installing vignettes
   ‘rTANDEM.Rnw’ 
** testing if installed package can be loaded
* DONE (rTANDEM)