sigPathway 1.39.0 Weil Lai
Snapshot Date: 2015-10-26 20:20:04 -0400 (Mon, 26 Oct 2015) | URL: https://hedgehog.fhcrc.org/bioconductor/trunk/madman/Rpacks/sigPathway | Last Changed Rev: 109592 / Revision: 109948 | Last Changed Date: 2015-10-13 15:59:53 -0400 (Tue, 13 Oct 2015) |
| linux2.bioconductor.org | Linux (Ubuntu 14.04.2 LTS) / x86_64 | OK | OK | OK | | |
windows2.bioconductor.org | Windows Server 2012 R2 Enterprise SP1 (64-bit) / x64 | [ OK ] | OK | OK | OK | |
##############################################################################
##############################################################################
###
### Running command:
###
### C:\cygwin64\bin\curl.exe -O http://linux2.bioconductor.org/BBS/3.3/bioc/src/contrib/sigPathway_1.39.0.tar.gz && c:\biocbld\bbs-3.3-bioc\R\bin\R.exe CMD INSTALL --merge-multiarch sigPathway_1.39.0.tar.gz && rm sigPathway_1.39.0.tar.gz
###
##############################################################################
##############################################################################
% Total % Received % Xferd Average Speed Time Time Time Current
Dload Upload Total Spent Left Speed
0 0 0 0 0 0 0 0 --:--:-- --:--:-- --:--:-- 0
100 454k 100 454k 0 0 52.7M 0 --:--:-- --:--:-- --:--:-- 88.7M
install for i386
* installing to library 'c:/biocbld/bbs-3.3-bioc/R/library'
* installing *source* package 'sigPathway' ...
** libs
gcc -m32 -I"c:/biocbld/BBS-3˜1.3-B/R/include" -DNDEBUG -I"d:/RCompile/r-compiling/local/local320/include" -O3 -Wall -std=gnu99 -mtune=core2 -c calc_gene_set_internal.c -o calc_gene_set_internal.o
gcc -m32 -I"c:/biocbld/BBS-3˜1.3-B/R/include" -DNDEBUG -I"d:/RCompile/r-compiling/local/local320/include" -O3 -Wall -std=gnu99 -mtune=core2 -c calc_gene_set_stat.c -o calc_gene_set_stat.o
gcc -m32 -I"c:/biocbld/BBS-3˜1.3-B/R/include" -DNDEBUG -I"d:/RCompile/r-compiling/local/local320/include" -O3 -Wall -std=gnu99 -mtune=core2 -c calc_probe_stat.c -o calc_probe_stat.o
gcc -m32 -I"c:/biocbld/BBS-3˜1.3-B/R/include" -DNDEBUG -I"d:/RCompile/r-compiling/local/local320/include" -O3 -Wall -std=gnu99 -mtune=core2 -c calc_weights.c -o calc_weights.o
gcc -m32 -I"c:/biocbld/BBS-3˜1.3-B/R/include" -DNDEBUG -I"d:/RCompile/r-compiling/local/local320/include" -O3 -Wall -std=gnu99 -mtune=core2 -c matrix_fn.c -o matrix_fn.o
gcc -m32 -I"c:/biocbld/BBS-3˜1.3-B/R/include" -DNDEBUG -I"d:/RCompile/r-compiling/local/local320/include" -O3 -Wall -std=gnu99 -mtune=core2 -c permute.c -o permute.o
gcc -m32 -I"c:/biocbld/BBS-3˜1.3-B/R/include" -DNDEBUG -I"d:/RCompile/r-compiling/local/local320/include" -O3 -Wall -std=gnu99 -mtune=core2 -c shuffle.c -o shuffle.o
gcc -m32 -I"c:/biocbld/BBS-3˜1.3-B/R/include" -DNDEBUG -I"d:/RCompile/r-compiling/local/local320/include" -O3 -Wall -std=gnu99 -mtune=core2 -c sigPathway.c -o sigPathway.o
gcc -m32 -shared -s -static-libgcc -o sigPathway.dll tmp.def calc_gene_set_internal.o calc_gene_set_stat.o calc_probe_stat.o calc_weights.o matrix_fn.o permute.o shuffle.o sigPathway.o -Lc:/biocbld/BBS-3˜1.3-B/R/bin/i386 -lRlapack -Lc:/biocbld/BBS-3˜1.3-B/R/bin/i386 -lRblas -lgfortran -lm -lquadmath -Ld:/RCompile/r-compiling/local/local320/lib/i386 -Ld:/RCompile/r-compiling/local/local320/lib -Lc:/biocbld/BBS-3˜1.3-B/R/bin/i386 -lR
installing to c:/biocbld/bbs-3.3-bioc/R/library/sigPathway/libs/i386
** R
** data
** preparing package for lazy loading
** help
*** installing help indices
** building package indices
** installing vignettes
** testing if installed package can be loaded
install for x64
* installing to library 'c:/biocbld/bbs-3.3-bioc/R/library'
* installing *source* package 'sigPathway' ...
** libs
gcc -m64 -I"c:/biocbld/BBS-3˜1.3-B/R/include" -DNDEBUG -I"d:/RCompile/r-compiling/local/local320/include" -O2 -Wall -std=gnu99 -mtune=core2 -c calc_gene_set_internal.c -o calc_gene_set_internal.o
gcc -m64 -I"c:/biocbld/BBS-3˜1.3-B/R/include" -DNDEBUG -I"d:/RCompile/r-compiling/local/local320/include" -O2 -Wall -std=gnu99 -mtune=core2 -c calc_gene_set_stat.c -o calc_gene_set_stat.o
gcc -m64 -I"c:/biocbld/BBS-3˜1.3-B/R/include" -DNDEBUG -I"d:/RCompile/r-compiling/local/local320/include" -O2 -Wall -std=gnu99 -mtune=core2 -c calc_probe_stat.c -o calc_probe_stat.o
gcc -m64 -I"c:/biocbld/BBS-3˜1.3-B/R/include" -DNDEBUG -I"d:/RCompile/r-compiling/local/local320/include" -O2 -Wall -std=gnu99 -mtune=core2 -c calc_weights.c -o calc_weights.o
gcc -m64 -I"c:/biocbld/BBS-3˜1.3-B/R/include" -DNDEBUG -I"d:/RCompile/r-compiling/local/local320/include" -O2 -Wall -std=gnu99 -mtune=core2 -c matrix_fn.c -o matrix_fn.o
gcc -m64 -I"c:/biocbld/BBS-3˜1.3-B/R/include" -DNDEBUG -I"d:/RCompile/r-compiling/local/local320/include" -O2 -Wall -std=gnu99 -mtune=core2 -c permute.c -o permute.o
gcc -m64 -I"c:/biocbld/BBS-3˜1.3-B/R/include" -DNDEBUG -I"d:/RCompile/r-compiling/local/local320/include" -O2 -Wall -std=gnu99 -mtune=core2 -c shuffle.c -o shuffle.o
gcc -m64 -I"c:/biocbld/BBS-3˜1.3-B/R/include" -DNDEBUG -I"d:/RCompile/r-compiling/local/local320/include" -O2 -Wall -std=gnu99 -mtune=core2 -c sigPathway.c -o sigPathway.o
gcc -m64 -shared -s -static-libgcc -o sigPathway.dll tmp.def calc_gene_set_internal.o calc_gene_set_stat.o calc_probe_stat.o calc_weights.o matrix_fn.o permute.o shuffle.o sigPathway.o -Lc:/biocbld/BBS-3˜1.3-B/R/bin/x64 -lRlapack -Lc:/biocbld/BBS-3˜1.3-B/R/bin/x64 -lRblas -lgfortran -lm -lquadmath -Ld:/RCompile/r-compiling/local/local320/lib/x64 -Ld:/RCompile/r-compiling/local/local320/lib -Lc:/biocbld/BBS-3˜1.3-B/R/bin/x64 -lR
installing to c:/biocbld/bbs-3.3-bioc/R/library/sigPathway/libs/x64
** testing if installed package can be loaded
* DONE (sigPathway)