Back to the "Multiple platform build/check report" A  B  C  D  E  F  G  H  I  J  K  L  M  N  O  P  Q  R [S] T  U  V  W  X  Y  Z 

BioC 3.3: CHECK report for sigaR on linux2.bioconductor.org

This page was generated on 2015-10-27 12:12:04 -0400 (Tue, 27 Oct 2015).

Package 969/1104HostnameOS / ArchINSTALLBUILDCHECKBUILD BIN
sigaR 1.15.0
Wessel N. van Wieringen
Snapshot Date: 2015-10-26 20:20:04 -0400 (Mon, 26 Oct 2015)
URL: https://hedgehog.fhcrc.org/bioconductor/trunk/madman/Rpacks/sigaR
Last Changed Rev: 109592 / Revision: 109948
Last Changed Date: 2015-10-13 15:59:53 -0400 (Tue, 13 Oct 2015)
linux2.bioconductor.org Linux (Ubuntu 14.04.2 LTS) / x86_64  OK  OK [ OK ]UNNEEDED, same version exists in internal repository
windows2.bioconductor.org Windows Server 2012 R2 Enterprise SP1 (64-bit) / x64  OK  OK  OK  OK UNNEEDED, same version exists in internal repository

Summary

Package: sigaR
Version: 1.15.0
Command: /home/biocbuild/bbs-3.3-bioc/R/bin/R CMD check --no-vignettes --timings sigaR_1.15.0.tar.gz
StartedAt: 2015-10-27 08:05:11 -0400 (Tue, 27 Oct 2015)
EndedAt: 2015-10-27 08:08:10 -0400 (Tue, 27 Oct 2015)
EllapsedTime: 179.7 seconds
RetCode: 0
Status:  OK 
CheckDir: sigaR.Rcheck
Warnings: 0

Command output

##############################################################################
##############################################################################
###
### Running command:
###
###   /home/biocbuild/bbs-3.3-bioc/R/bin/R CMD check --no-vignettes --timings sigaR_1.15.0.tar.gz
###
##############################################################################
##############################################################################


* using log directory ‘/home/biocbuild/bbs-3.3-bioc/meat/sigaR.Rcheck’
* using R Under development (unstable) (2015-09-09 r69333)
* using platform: x86_64-pc-linux-gnu (64-bit)
* using session charset: UTF-8
* using option ‘--no-vignettes’
* checking for file ‘sigaR/DESCRIPTION’ ... OK
* checking extension type ... Package
* this is package ‘sigaR’ version ‘1.15.0’
* checking package namespace information ... OK
* checking package dependencies ... OK
* checking if this is a source package ... OK
* checking if there is a namespace ... OK
* checking for hidden files and directories ... OK
* checking for portable file names ... OK
* checking for sufficient/correct file permissions ... OK
* checking whether package ‘sigaR’ can be installed ... [3s/3s] OK
* checking installed package size ... OK
* checking package directory ... OK
* checking ‘build’ directory ... OK
* checking DESCRIPTION meta-information ... NOTE
Packages listed in more than one of Depends, Imports, Suggests, Enhances:
  ‘mvtnorm’ ‘penalized’
A package should be listed in only one of these fields.
* checking top-level files ... OK
* checking for left-over files ... OK
* checking index information ... OK
* checking package subdirectories ... OK
* checking R files for non-ASCII characters ... OK
* checking R files for syntax errors ... OK
* checking whether the package can be loaded ... OK
* checking whether the package can be loaded with stated dependencies ... OK
* checking whether the package can be unloaded cleanly ... OK
* checking whether the namespace can be loaded with stated dependencies ... OK
* checking whether the namespace can be unloaded cleanly ... OK
* checking dependencies in R code ... OK
* checking S3 generic/method consistency ... OK
* checking replacement functions ... OK
* checking foreign function calls ... OK
* checking R code for possible problems ... NOTE
summary,entTest: warning in round(object@statistic, d = 3): partial
  argument match of 'd' to 'digits'
summary,entTest: warning in round(object@p.value, d = 3): partial
  argument match of 'd' to 'digits'
summary,miTest: warning in round(object@statistic, d = 3): partial
  argument match of 'd' to 'digits'
summary,miTest: warning in round(object@p.value, d = 3): partial
  argument match of 'd' to 'digits'
summary,rcmFit: warning in round(object@betas, d = 3): partial argument
  match of 'd' to 'digits'
summary,rcmFit: warning in round(object@tau2s, d = 3): partial argument
  match of 'd' to 'digits'
summary,rcmFit: warning in round(object@av.sigma2s, d = 3): partial
  argument match of 'd' to 'digits'
summary,rcmFit: warning in round(object@rho, d = 3): partial argument
  match of 'd' to 'digits'
summary,rcmFit: warning in round(object@shrinkage, d = 3): partial
  argument match of 'd' to 'digits'
summary,rcmFit: warning in round(object@loglik, d = 3): partial
  argument match of 'd' to 'digits'
summary,rcmTest: warning in round(object@betas, d = 3): partial
  argument match of 'd' to 'digits'
summary,rcmTest: warning in round(object@tau2s, d = 3): partial
  argument match of 'd' to 'digits'
summary,rcmTest: warning in round(object@av.sigma2s, d = 3): partial
  argument match of 'd' to 'digits'
summary,rcmTest: warning in round(object@rho, d = 3): partial argument
  match of 'd' to 'digits'
summary,rcmTest: warning in round(object@shrinkage, d = 3): partial
  argument match of 'd' to 'digits'
summary,rcmTest: warning in round(object@loglik, d = 3): partial
  argument match of 'd' to 'digits'
summary,rcmTest: warning in round(object@statistic, d = 3): partial
  argument match of 'd' to 'digits'
summary,rcmTest: warning in round(object@p.value, d = 3): partial
  argument match of 'd' to 'digits'
.pi0est: no visible global function definition for ‘convest’
ExpressionSet2weightedSubset: no visible binding for global variable
  ‘sigaR’
RCMestimation : RCMmlH2: multiple local function definitions for
  ‘tau.estimator’ with different formal arguments
RCMtest: no visible binding for global variable ‘sigaR’
RCMtest: no visible binding for global variable ‘quadprog’
RCMtest: no visible binding for global variable ‘MASS’
cghCall2maximumSubset: no visible binding for global variable ‘sigaR’
cghCall2order: no visible global function definition for ‘probdloss’
cghCall2order: no visible global function definition for ‘probdloss<-’
cghCall2subset: no visible global function definition for ‘probdloss’
cghCall2weightedSubset: no visible global function definition for
  ‘probdloss’
cghCall2weightedSubset: no visible binding for global variable ‘sigaR’
cghSeg2weightedSubset: no visible binding for global variable ‘sigaR’
entropyTest: no visible binding for global variable ‘sigaR’
entropyTest: no visible binding for global variable ‘corpcor’
matchAnn2Ann: no visible binding for global variable ‘sigaR’
matchCGHcall2ExpressionSet: no visible binding for global variable
  ‘sigaR’
merge2cghCalls: no visible global function definition for ‘probdloss’
mutInfTest: no visible binding for global variable ‘sigaR’
mutInfTest: no visible binding for global variable ‘corpcor’
Undefined global functions or variables:
  MASS convest corpcor probdloss probdloss<- quadprog sigaR
* checking Rd files ... OK
* checking Rd metadata ... OK
* checking Rd cross-references ... OK
* checking for missing documentation entries ... OK
* checking for code/documentation mismatches ... OK
* checking Rd \usage sections ... OK
* checking Rd contents ... OK
* checking for unstated dependencies in examples ... OK
* checking contents of ‘data’ directory ... OK
* checking data for non-ASCII characters ... OK
* checking data for ASCII and uncompressed saves ... OK
* checking installed files from ‘inst/doc’ ... OK
* checking files in ‘vignettes’ ... OK
* checking examples ... [133s/133s] OK
Examples with CPU or elapsed time > 5s
                 user system elapsed
mutInfTest    102.006  3.886 106.005
cisEffectTune  11.090  0.000  11.097
* checking for unstated dependencies in vignettes ... OK
* checking package vignettes in ‘inst/doc’ ... OK
* checking running R code from vignettes ... SKIPPED
* checking re-building of vignette outputs ... SKIPPED
* checking PDF version of manual ... OK
* DONE

Status: 2 NOTEs
See
  ‘/home/biocbuild/bbs-3.3-bioc/meat/sigaR.Rcheck/00check.log’
for details.


sigaR.Rcheck/00install.out:

* installing *source* package ‘sigaR’ ...
** R
** data
** inst
** preparing package for lazy loading
** help
*** installing help indices
** building package indices
** installing vignettes
** testing if installed package can be loaded
* DONE (sigaR)

sigaR.Rcheck/sigaR-Ex.timings:

nameusersystemelapsed
CNGEheatmaps0.6800.0080.689
ExpressionSet2order0.0060.0000.006
ExpressionSet2subset0.0040.0000.005
ExpressionSet2weightedSubset0.1610.0000.162
RCMestimation1.0940.0041.099
RCMrandom0.9750.0000.976
RCMtest3.6770.0083.688
cghCall2cghSeg0.0490.0000.050
cghCall2maximumSubset0.3140.0000.314
cghCall2order0.0140.0000.014
cghCall2subset0.0480.0000.049
cghCall2weightedSubset0.2150.0000.215
cghSeg2order0.0470.0000.048
cghSeg2subset0.0720.0000.073
cghSeg2weightedSubset0.2170.0000.217
cisEffectPlot0.0710.0000.070
cisEffectTable1.7480.0001.747
cisEffectTest1.2590.0001.259
cisEffectTune11.090 0.00011.097
cisTest-class0.0010.0000.001
entTest-class0.0010.0000.000
entropyTest0.1110.0030.115
expandMatching2singleIDs0.0250.0000.025
getSegFeatures0.0060.0000.006
hdEntropy0.0080.0000.008
hdMI0.2420.0000.242
matchAnn2Ann0.0210.0000.021
matchCGHcall2ExpressionSet0.0310.0000.031
merge2ExpressionSets0.0360.0000.036
merge2cghCalls0.060.000.06
miTest-class0.0010.0000.000
mutInfTest102.006 3.886106.005
nBreakpoints0.1150.0000.115
pathway1sample0.0910.0000.091
pathway2sample2.8830.0642.954
pathwayFit-class0.0010.0000.001
pathwayPlot0.1130.0000.113
pollackCN160.0050.0000.006
pollackGE160.0030.0000.003
profilesPlot0.1250.0040.129
rcmFit-class0.0010.0000.001
rcmTest-class0.0010.0000.001
splitMatchingAtBreakpoints0.220.000.22
uniqGenomicInfo0.0090.0000.009