Back to the "Multiple platform build/check report" A  B  C  D  E  F  G  H  I  J  K  L  M  N  O  P  Q  R [S] T  U  V  W  X  Y  Z 

BioC 3.3: CHECK report for survcomp on linux2.bioconductor.org

This page was generated on 2015-10-27 12:11:56 -0400 (Tue, 27 Oct 2015).

Package 1032/1104HostnameOS / ArchINSTALLBUILDCHECKBUILD BIN
survcomp 1.21.0
Benjamin Haibe-Kains , Markus Schroeder , Catharina Olsen
Snapshot Date: 2015-10-26 20:20:04 -0400 (Mon, 26 Oct 2015)
URL: https://hedgehog.fhcrc.org/bioconductor/trunk/madman/Rpacks/survcomp
Last Changed Rev: 109592 / Revision: 109948
Last Changed Date: 2015-10-13 15:59:53 -0400 (Tue, 13 Oct 2015)
linux2.bioconductor.org Linux (Ubuntu 14.04.2 LTS) / x86_64  OK  OK [ OK ]UNNEEDED, same version exists in internal repository
windows2.bioconductor.org Windows Server 2012 R2 Enterprise SP1 (64-bit) / x64  OK  OK  OK  OK UNNEEDED, same version exists in internal repository

Summary

Package: survcomp
Version: 1.21.0
Command: /home/biocbuild/bbs-3.3-bioc/R/bin/R CMD check --no-vignettes --timings survcomp_1.21.0.tar.gz
StartedAt: 2015-10-27 08:28:34 -0400 (Tue, 27 Oct 2015)
EndedAt: 2015-10-27 08:29:05 -0400 (Tue, 27 Oct 2015)
EllapsedTime: 30.9 seconds
RetCode: 0
Status:  OK 
CheckDir: survcomp.Rcheck
Warnings: 0

Command output

##############################################################################
##############################################################################
###
### Running command:
###
###   /home/biocbuild/bbs-3.3-bioc/R/bin/R CMD check --no-vignettes --timings survcomp_1.21.0.tar.gz
###
##############################################################################
##############################################################################


* using log directory ‘/home/biocbuild/bbs-3.3-bioc/meat/survcomp.Rcheck’
* using R Under development (unstable) (2015-09-09 r69333)
* using platform: x86_64-pc-linux-gnu (64-bit)
* using session charset: UTF-8
* using option ‘--no-vignettes’
* checking for file ‘survcomp/DESCRIPTION’ ... OK
* checking extension type ... Package
* this is package ‘survcomp’ version ‘1.21.0’
* checking package namespace information ... OK
* checking package dependencies ... OK
* checking if this is a source package ... OK
* checking if there is a namespace ... OK
* checking for hidden files and directories ... OK
* checking for portable file names ... OK
* checking for sufficient/correct file permissions ... OK
* checking whether package ‘survcomp’ can be installed ... [4s/4s] OK
* checking installed package size ... OK
* checking package directory ... OK
* checking ‘build’ directory ... OK
* checking DESCRIPTION meta-information ... OK
* checking top-level files ... OK
* checking for left-over files ... OK
* checking index information ... OK
* checking package subdirectories ... OK
* checking R files for non-ASCII characters ... OK
* checking R files for syntax errors ... OK
* checking whether the package can be loaded ... OK
* checking whether the package can be loaded with stated dependencies ... OK
* checking whether the package can be unloaded cleanly ... OK
* checking whether the namespace can be loaded with stated dependencies ... OK
* checking whether the namespace can be unloaded cleanly ... OK
* checking dependencies in R code ... NOTE
'library' or 'require' call to ‘survival’ which was already attached by Depends.
  Please remove these calls from your code.
Package in Depends field not imported from: ‘survival’
  These packages need to be imported from (in the NAMESPACE file)
  for when this namespace is loaded but not attached.
* checking S3 generic/method consistency ... OK
* checking replacement functions ... OK
* checking foreign function calls ... OK
* checking R code for possible problems ... NOTE
.extract.all.parents: warning in matrix(0, nc = nsol, nr = (maxparents
  + 1)): partial argument match of 'nr' to 'nrow'
.extract.all.parents: warning in matrix(0, nc = nsol, nr = (maxparents
  + 1)): partial argument match of 'nc' to 'ncol'
D.index: no visible global function definition for ‘coxph’
cvpl: no visible global function definition for ‘coxph’
hazard.ratio: no visible global function definition for ‘coxph’
km.coxph.plot: no visible global function definition for ‘survfit’
no.at.risk: no visible global function definition for ‘survfit’
sbrier.score2proba: no visible global function definition for ‘survfit’
sbrier.score2proba: no visible global function definition for ‘Surv’
score2proba: no visible global function definition for ‘coxph’
score2proba: no visible global function definition for ‘survfit’
Undefined global functions or variables:
  Surv coxph survfit
* checking Rd files ... OK
* checking Rd metadata ... OK
* checking Rd cross-references ... OK
* checking for missing documentation entries ... OK
* checking for code/documentation mismatches ... OK
* checking Rd \usage sections ... OK
* checking Rd contents ... OK
* checking for unstated dependencies in examples ... OK
* checking contents of ‘data’ directory ... OK
* checking data for non-ASCII characters ... OK
* checking data for ASCII and uncompressed saves ... OK
* checking line endings in C/C++/Fortran sources/headers ... OK
* checking compiled code ... NOTE
File ‘survcomp/libs/survcomp.so’:
  Found ‘rand’, possibly from ‘rand’ (C)
    Object: ‘foo_mrmr_ensemble_surv.o’
  Found ‘srand’, possibly from ‘srand’ (C)
    Object: ‘foo_mrmr_ensemble_surv.o’

Compiled code should not call entry points which might terminate R nor
write to stdout/stderr instead of to the console, nor the system RNG.

See ‘Writing portable packages’ in the ‘Writing R Extensions’ manual.
* checking installed files from ‘inst/doc’ ... OK
* checking files in ‘vignettes’ ... OK
* checking examples ... [3s/3s] OK
* checking for unstated dependencies in vignettes ... NOTE
'library' or 'require' call not declared from: ‘xtable’
* checking package vignettes in ‘inst/doc’ ... OK
* checking running R code from vignettes ... SKIPPED
* checking re-building of vignette outputs ... SKIPPED
* checking PDF version of manual ... OK
* DONE

Status: 4 NOTEs
See
  ‘/home/biocbuild/bbs-3.3-bioc/meat/survcomp.Rcheck/00check.log’
for details.


survcomp.Rcheck/00install.out:

* installing *source* package ‘survcomp’ ...
** libs
gcc -std=gnu99 -I/home/biocbuild/bbs-3.3-bioc/R/include -DNDEBUG  -I/usr/local/include    -fpic  -g -O2  -c concordance.index.c -o concordance.index.o
g++ -I/home/biocbuild/bbs-3.3-bioc/R/include -DNDEBUG  -I/usr/local/include    -fpic  -g -O2  -c foo_mrmr_ensemble_surv.cpp -o foo_mrmr_ensemble_surv.o
g++ -I/home/biocbuild/bbs-3.3-bioc/R/include -DNDEBUG  -I/usr/local/include    -fpic  -g -O2  -c foo_mrmr_surv.cpp -o foo_mrmr_surv.o
g++ -shared -L/home/biocbuild/bbs-3.3-bioc/R/lib -L/usr/local/lib -o survcomp.so concordance.index.o foo_mrmr_ensemble_surv.o foo_mrmr_surv.o -L/home/biocbuild/bbs-3.3-bioc/R/lib -lR
installing to /home/biocbuild/bbs-3.3-bioc/meat/survcomp.Rcheck/survcomp/libs
** R
** data
** inst
** preparing package for lazy loading
** help
*** installing help indices
** building package indices
** installing vignettes
** testing if installed package can be loaded
* DONE (survcomp)

survcomp.Rcheck/survcomp-Ex.timings:

nameusersystemelapsed
D.index0.0170.0000.017
breastCancerData0.5030.0080.511
censor.time000
cindex.comp0.0030.0000.003
cindex.comp.meta0.0120.0000.012
combine.est0.0010.0000.001
combine.test0.0010.0000.001
concordance.index0.0010.0030.003
cvpl0.1200.0010.121
dindex.comp0.0090.0000.009
dindex.comp.meta0.0270.0000.027
fisherz0.0010.0000.001
forestplot.surv0.0380.0000.038
getsurv20.0040.0000.004
hazard.ratio0.0070.0000.007
hr.comp0.0090.0000.009
hr.comp.meta0.0210.0000.021
hr.comp20.0060.0000.006
iauc.comp0.3650.0000.365
ibsc.comp0.2320.0040.236
km.coxph.plot0.0270.0000.027
logpl0.0110.0000.011
mainz7g0.1630.0000.163
metaplot.surv0.0020.0000.002
mrmr.cindex0.0090.0000.009
nki7g0.2320.0000.232
no.at.risk0.0110.0000.011
sbrier.score2proba0.1540.0000.154
score2proba0.0120.0030.016
td.sens.spec0.0020.0000.002
tdrocc0.1330.0000.133
test.hetero.est0.0010.0000.001
test.hetero.test0.0000.0000.001
transbig7g0.1630.0050.169
unt7g0.1670.0000.167
upp7g0.1550.0030.159
vdx7g0.1690.0000.169