AnnotationHub 2.4.3 Bioconductor Package Maintainer
Snapshot Date: 2016-10-12 17:20:15 -0700 (Wed, 12 Oct 2016) | URL: https://hedgehog.fhcrc.org/bioconductor/branches/RELEASE_3_3/madman/Rpacks/AnnotationHub | Last Changed Rev: 122245 / Revision: 122332 | Last Changed Date: 2016-10-12 06:49:02 -0700 (Wed, 12 Oct 2016) |
| zin2 | Linux (Ubuntu 14.04.2 LTS) / x86_64 | OK | [ OK ] | OK | | ![YES, new version is higher than in internal repository YES, new version is higher than in internal repository](../120px-Green_Light_Icon.svg.png) |
moscato2 | Windows Server 2008 R2 Enterprise SP1 (64-bit) / x64 | OK | OK | OK | OK | ![YES, new version is higher than in internal repository YES, new version is higher than in internal repository](../120px-Green_Light_Icon.svg.png) |
oaxaca | Mac OS X Mavericks (10.9.5) / x86_64 | OK | OK | OK | OK | ![YES, new version is higher than in internal repository YES, new version is higher than in internal repository](../120px-Green_Light_Icon.svg.png) |
##############################################################################
##############################################################################
###
### Running command:
###
### /home/biocbuild/bbs-3.3-bioc/R/bin/R CMD build --keep-empty-dirs --no-resave-data AnnotationHub
###
##############################################################################
##############################################################################
* checking for file ‘AnnotationHub/DESCRIPTION’ ... OK
* preparing ‘AnnotationHub’:
* checking DESCRIPTION meta-information ... OK
* installing the package to build vignettes
* creating vignettes ... OK
* checking for LF line-endings in source and make files
* checking for empty or unneeded directories
* building ‘AnnotationHub_2.4.3.tar.gz’