AnnotationHubData 1.2.2 Bioconductor Package Maintainer
Snapshot Date: 2016-10-12 17:20:15 -0700 (Wed, 12 Oct 2016) | URL: https://hedgehog.fhcrc.org/bioconductor/branches/RELEASE_3_3/madman/Rpacks/AnnotationHubData | Last Changed Rev: 117513 / Revision: 122332 | Last Changed Date: 2016-05-15 13:18:19 -0700 (Sun, 15 May 2016) |
| zin2 | Linux (Ubuntu 14.04.2 LTS) / x86_64 | OK | OK | OK | | |
moscato2 | Windows Server 2008 R2 Enterprise SP1 (64-bit) / x64 | OK | OK | OK | [ OK ] | |
oaxaca | Mac OS X Mavericks (10.9.5) / x86_64 | OK | OK | OK | OK | |
##############################################################################
##############################################################################
###
### Running command:
###
### cd AnnotationHubData.buildbin-libdir/AnnotationHubData && zip -r ../../AnnotationHubData_1.2.2.zip . & cd ../..
###
##############################################################################
##############################################################################
adding: DESCRIPTION (188 bytes security) (deflated 53%)
adding: doc/ (256 bytes security) (stored 0%)
adding: doc/AnnotationHubData.html (188 bytes security) (deflated 64%)
adding: doc/AnnotationHubData.R (188 bytes security) (deflated 74%)
adding: doc/AnnotationHubData.Rmd (188 bytes security) (deflated 64%)
adding: doc/index.html (188 bytes security) (deflated 61%)
adding: extdata/ (256 bytes security) (stored 0%)
adding: extdata/annotation_haemcode.tsv (188 bytes security) (deflated 83%)
adding: extdata/badUCSCTracks/ (256 bytes security) (stored 0%)
adding: extdata/badUCSCTracks/allBadTracks.rda (188 bytes security) (stored 0%)
adding: extdata/badUCSCTracks/allPossibleTracks.rda (188 bytes security) (stored 0%)
adding: extdata/badUCSCTracks/genomeTrackTable.Rda (188 bytes security) (deflated 0%)
adding: extdata/encodeMetadata.RData (188 bytes security) (deflated 4%)
adding: extdata/haemCodeFileList.txt (188 bytes security) (deflated 73%)
adding: extdata/importTableSamples/ (256 bytes security) (stored 0%)
adding: extdata/importTableSamples/haemCodeSample-10.lines.csv (188 bytes security) (deflated 68%)
adding: extdata/importTableSamples/noHeader.tsv (188 bytes security) (stored 0%)
adding: extdata/importTableSamples/test0.csv (188 bytes security) (deflated 3%)
adding: extdata/importTableSamples/test1.tsv (188 bytes security) (deflated 3%)
adding: extdata/inpDrosPsuedo.rda (188 bytes security) (stored 0%)
adding: extdata/parseEncodeMetadataBug/ (256 bytes security) (stored 0%)
adding: extdata/parseEncodeMetadataBug/wgEncodeHaibRnaSeq.info (188 bytes security) (deflated 56%)
adding: help/ (256 bytes security) (stored 0%)
adding: help/aliases.rds (188 bytes security) (stored 0%)
adding: help/AnIndex (188 bytes security) (deflated 85%)
adding: help/AnnotationHubData.rdb (188 bytes security) (deflated 0%)
adding: help/AnnotationHubData.rdx (188 bytes security) (stored 0%)
adding: help/paths.rds (188 bytes security) (stored 0%)
adding: html/ (256 bytes security) (stored 0%)
adding: html/00Index.html (188 bytes security) (deflated 90%)
adding: html/R.css (188 bytes security) (deflated 75%)
adding: INDEX (188 bytes security) (deflated 59%)
adding: makefile (188 bytes security) (deflated 63%)
adding: MD5 (188 bytes security) (deflated 48%)
adding: Meta/ (256 bytes security) (stored 0%)
adding: Meta/hsearch.rds (188 bytes security) (stored 0%)
adding: Meta/links.rds (188 bytes security) (stored 0%)
adding: Meta/nsInfo.rds (188 bytes security) (stored 0%)
adding: Meta/package.rds (188 bytes security) (stored 0%)
adding: Meta/Rd.rds (188 bytes security) (stored 0%)
adding: Meta/vignette.rds (188 bytes security) (stored 0%)
adding: NAMESPACE (188 bytes security) (deflated 64%)
adding: NEWS (188 bytes security) (deflated 53%)
adding: notes (188 bytes security) (deflated 65%)
adding: R/ (256 bytes security) (stored 0%)
adding: R/AnnotationHubData (188 bytes security) (deflated 41%)
adding: R/AnnotationHubData.rdb (188 bytes security) (deflated 18%)
adding: R/AnnotationHubData.rdx (188 bytes security) (deflated 0%)
adding: scripts/ (256 bytes security) (stored 0%)
adding: scripts/createJsonForTesting.R (188 bytes security) (deflated 67%)
adding: scripts/errorLogCheck.R (188 bytes security) (deflated 48%)
adding: scripts/importEncode.R (188 bytes security) (deflated 75%)
adding: scripts/queriesForMissingFAIs.R (188 bytes security) (deflated 74%)
adding: scripts/updateToLatestEnsembl.R (188 bytes security) (deflated 74%)
adding: unitTests/ (256 bytes security) (stored 0%)
adding: unitTests/cases/ (256 bytes security) (stored 0%)
adding: unitTests/cases/encodeDCCMetadata/ (256 bytes security) (stored 0%)
adding: unitTests/cases/encodeDCCMetadata/downloads/ (256 bytes security) (stored 0%)
adding: unitTests/cases/encodeDCCMetadata/tbl.parsedEncodeMetadata.RData (188 bytes security) (stored 0%)
adding: unitTests/cases/encodeDCCMetadata/wgEncodeAffyRnaChip.info (188 bytes security) (deflated 80%)
adding: unitTests/cases/encodeDCCMetadata/wgEncodeAwgDnaseUniform.info (188 bytes security) (deflated 77%)
adding: unitTests/test_AnnotationHubConstructor.R (188 bytes security) (deflated 63%)
adding: unitTests/test_ImportPreparer-class.R (188 bytes security) (deflated 31%)
adding: unitTests/test_recipe.R (188 bytes security) (deflated 87%)
adding: unitTests/test_webAccessFunctions.R (188 bytes security) (deflated 65%)