##############################################################################
##############################################################################
###
### Running command:
###
### chmod a+r CSSP -R && E:\biocbld\bbs-3.3-bioc\R\bin\R.exe CMD build --keep-empty-dirs --no-resave-data CSSP
###
##############################################################################
##############################################################################
* checking for file 'CSSP/DESCRIPTION' ... OK
* preparing 'CSSP':
* checking DESCRIPTION meta-information ... OK
* cleaning src
* installing the package to build vignettes
* creating vignettes ... OK
* cleaning src
* checking for LF line-endings in source and make files
* checking for empty or unneeded directories
* looking to see if a 'data/datalist' file should be added
* building 'CSSP_1.10.0.tar.gz'