CellNOptR 1.18.0 T.Cokelaer
Snapshot Date: 2016-10-12 17:20:15 -0700 (Wed, 12 Oct 2016) | URL: https://hedgehog.fhcrc.org/bioconductor/branches/RELEASE_3_3/madman/Rpacks/CellNOptR | Last Changed Rev: 117079 / Revision: 122332 | Last Changed Date: 2016-05-03 14:20:18 -0700 (Tue, 03 May 2016) |
| zin2 | Linux (Ubuntu 14.04.2 LTS) / x86_64 | OK | OK | OK | | ![UNNEEDED, same version exists in internal repository UNNEEDED, same version exists in internal repository](../120px-Blue_Light_Icon.svg.png) |
moscato2 | Windows Server 2008 R2 Enterprise SP1 (64-bit) / x64 | [ OK ] | OK | OK | OK | ![UNNEEDED, same version exists in internal repository UNNEEDED, same version exists in internal repository](../120px-Blue_Light_Icon.svg.png) |
oaxaca | Mac OS X Mavericks (10.9.5) / x86_64 | OK | OK | OK | OK | ![UNNEEDED, same version exists in internal repository UNNEEDED, same version exists in internal repository](../120px-Blue_Light_Icon.svg.png) |
##############################################################################
##############################################################################
###
### Running command:
###
### rm -rf CellNOptR.buildbin-libdir && mkdir CellNOptR.buildbin-libdir && C:\cygwin\bin\curl.exe -O http://zin2/BBS/3.3/bioc/src/contrib/CellNOptR_1.18.0.tar.gz && E:\biocbld\bbs-3.3-bioc\R\bin\R.exe CMD INSTALL --build --library=CellNOptR.buildbin-libdir --merge-multiarch CellNOptR_1.18.0.tar.gz && E:\biocbld\bbs-3.3-bioc\R\bin\R.exe CMD INSTALL CellNOptR_1.18.0.zip && rm CellNOptR_1.18.0.tar.gz CellNOptR_1.18.0.zip
###
##############################################################################
##############################################################################
install for i386
* installing *source* package 'CellNOptR' ...
** libs
C:/Rtools/mingw_32/bin/gcc -I"E:/biocbld/BBS-3˜1.3-B/R/include" -DNDEBUG -I"c:/local323/include" -I./include -O3 -Wall -std=gnu99 -mtune=core2 -c getFit.c -o getFit.o
getFit.c: In function 'getFit':
getFit.c:47:6: warning: unused variable 'nReacs' [-Wunused-variable]
int nReacs = INTEGER(nReacs_in)[0];
^
getFit.c:42:6: warning: unused variable 'selCounter' [-Wunused-variable]
int selCounter = 0;
^
getFit.c:41:6: warning: unused variable 'selection' [-Wunused-variable]
int selection[40];
^
getFit.c:40:6: warning: unused variable 'or_max' [-Wunused-variable]
int or_max = 0;
^
getFit.c:39:6: warning: unused variable 'curr_max' [-Wunused-variable]
int curr_max = 0;
^
C:/Rtools/mingw_32/bin/gcc -I"E:/biocbld/BBS-3˜1.3-B/R/include" -DNDEBUG -I"c:/local323/include" -I./include -O3 -Wall -std=gnu99 -mtune=core2 -c simulatorT1.c -o simulatorT1.o
C:/Rtools/mingw_32/bin/gcc -I"E:/biocbld/BBS-3˜1.3-B/R/include" -DNDEBUG -I"c:/local323/include" -I./include -O3 -Wall -std=gnu99 -mtune=core2 -c simulatorTN.c -o simulatorTN.o
C:/Rtools/mingw_32/bin/gcc -shared -s -static-libgcc -o CellNOptR.dll tmp.def getFit.o simulatorT1.o simulatorTN.o -Lc:/local323/lib/i386 -Lc:/local323/lib -LE:/biocbld/BBS-3˜1.3-B/R/bin/i386 -lR
installing to E:/biocbld/bbs-3.3-bioc/meat/CellNOptR.buildbin-libdir/CellNOptR/libs/i386
** R
** data
** inst
** preparing package for lazy loading
** help
*** installing help indices
** building package indices
** installing vignettes
** testing if installed package can be loaded
install for x64
* installing *source* package 'CellNOptR' ...
** libs
C:/Rtools/mingw_64/bin/gcc -I"E:/biocbld/BBS-3˜1.3-B/R/include" -DNDEBUG -I"c:/local323/include" -I./include -O2 -Wall -std=gnu99 -mtune=core2 -c getFit.c -o getFit.o
getFit.c: In function 'getFit':
getFit.c:47:6: warning: unused variable 'nReacs' [-Wunused-variable]
int nReacs = INTEGER(nReacs_in)[0];
^
getFit.c:42:6: warning: unused variable 'selCounter' [-Wunused-variable]
int selCounter = 0;
^
getFit.c:41:6: warning: unused variable 'selection' [-Wunused-variable]
int selection[40];
^
getFit.c:40:6: warning: unused variable 'or_max' [-Wunused-variable]
int or_max = 0;
^
getFit.c:39:6: warning: unused variable 'curr_max' [-Wunused-variable]
int curr_max = 0;
^
C:/Rtools/mingw_64/bin/gcc -I"E:/biocbld/BBS-3˜1.3-B/R/include" -DNDEBUG -I"c:/local323/include" -I./include -O2 -Wall -std=gnu99 -mtune=core2 -c simulatorT1.c -o simulatorT1.o
C:/Rtools/mingw_64/bin/gcc -I"E:/biocbld/BBS-3˜1.3-B/R/include" -DNDEBUG -I"c:/local323/include" -I./include -O2 -Wall -std=gnu99 -mtune=core2 -c simulatorTN.c -o simulatorTN.o
C:/Rtools/mingw_64/bin/gcc -shared -s -static-libgcc -o CellNOptR.dll tmp.def getFit.o simulatorT1.o simulatorTN.o -Lc:/local323/lib/x64 -Lc:/local323/lib -LE:/biocbld/BBS-3˜1.3-B/R/bin/x64 -lR
installing to E:/biocbld/bbs-3.3-bioc/meat/CellNOptR.buildbin-libdir/CellNOptR/libs/x64
** testing if installed package can be loaded
* MD5 sums
packaged installation of 'CellNOptR' as CellNOptR_1.18.0.zip
* DONE (CellNOptR)
* installing to library 'E:/biocbld/bbs-3.3-bioc/R/library'
package 'CellNOptR' successfully unpacked and MD5 sums checked