GOSemSim 1.30.3 Guangchuang Yu
Snapshot Date: 2016-10-12 17:20:15 -0700 (Wed, 12 Oct 2016) | URL: https://hedgehog.fhcrc.org/bioconductor/branches/RELEASE_3_3/madman/Rpacks/GOSemSim | Last Changed Rev: 119446 / Revision: 122332 | Last Changed Date: 2016-07-18 21:49:20 -0700 (Mon, 18 Jul 2016) |
| zin2 | Linux (Ubuntu 14.04.2 LTS) / x86_64 | OK | OK | OK | | |
moscato2 | Windows Server 2008 R2 Enterprise SP1 (64-bit) / x64 | OK | OK | OK | [ OK ] | |
oaxaca | Mac OS X Mavericks (10.9.5) / x86_64 | OK | OK | OK | OK | |
##############################################################################
##############################################################################
###
### Running command:
###
### cd GOSemSim.buildbin-libdir/GOSemSim && zip -r ../../GOSemSim_1.30.3.zip . & cd ../..
###
##############################################################################
##############################################################################
adding: CITATION (188 bytes security) (deflated 59%)
adding: data/ (256 bytes security) (stored 0%)
adding: data/datalist (188 bytes security) (deflated 84%)
adding: data/Info_Contents_anopheles_BP.rda (188 bytes security) (stored 0%)
adding: data/Info_Contents_anopheles_CC.rda (188 bytes security) (stored 0%)
adding: data/Info_Contents_anopheles_MF.rda (188 bytes security) (stored 0%)
adding: data/Info_Contents_arabidopsis_BP.rda (188 bytes security) (stored 0%)
adding: data/Info_Contents_arabidopsis_CC.rda (188 bytes security) (stored 0%)
adding: data/Info_Contents_arabidopsis_MF.rda (188 bytes security) (stored 0%)
adding: data/Info_Contents_bovine_BP.rda (188 bytes security) (stored 0%)
adding: data/Info_Contents_bovine_CC.rda (188 bytes security) (stored 0%)
adding: data/Info_Contents_bovine_MF.rda (188 bytes security) (stored 0%)
adding: data/Info_Contents_canine_BP.rda (188 bytes security) (stored 0%)
adding: data/Info_Contents_canine_CC.rda (188 bytes security) (stored 0%)
adding: data/Info_Contents_canine_MF.rda (188 bytes security) (stored 0%)
adding: data/Info_Contents_celegans_BP.rda (188 bytes security) (stored 0%)
adding: data/Info_Contents_celegans_CC.rda (188 bytes security) (stored 0%)
adding: data/Info_Contents_celegans_MF.rda (188 bytes security) (stored 0%)
adding: data/Info_Contents_chicken_BP.rda (188 bytes security) (stored 0%)
adding: data/Info_Contents_chicken_CC.rda (188 bytes security) (stored 0%)
adding: data/Info_Contents_chicken_MF.rda (188 bytes security) (stored 0%)
adding: data/Info_Contents_chimp_BP.rda (188 bytes security) (stored 0%)
adding: data/Info_Contents_chimp_CC.rda (188 bytes security) (stored 0%)
adding: data/Info_Contents_chimp_MF.rda (188 bytes security) (stored 0%)
adding: data/Info_Contents_coelicolor_BP.rda (188 bytes security) (stored 0%)
adding: data/Info_Contents_coelicolor_CC.rda (188 bytes security) (stored 0%)
adding: data/Info_Contents_coelicolor_MF.rda (188 bytes security) (stored 0%)
adding: data/Info_Contents_ecolik12_BP.rda (188 bytes security) (stored 0%)
adding: data/Info_Contents_ecolik12_CC.rda (188 bytes security) (stored 0%)
adding: data/Info_Contents_ecolik12_MF.rda (188 bytes security) (stored 0%)
adding: data/Info_Contents_ecsakai_BP.rda (188 bytes security) (stored 0%)
adding: data/Info_Contents_ecsakai_CC.rda (188 bytes security) (stored 0%)
adding: data/Info_Contents_ecsakai_MF.rda (188 bytes security) (stored 0%)
adding: data/Info_Contents_fly_BP.rda (188 bytes security) (stored 0%)
adding: data/Info_Contents_fly_CC.rda (188 bytes security) (stored 0%)
adding: data/Info_Contents_fly_MF.rda (188 bytes security) (stored 0%)
adding: data/Info_Contents_gondii_BP.rda (188 bytes security) (stored 0%)
adding: data/Info_Contents_gondii_CC.rda (188 bytes security) (stored 0%)
adding: data/Info_Contents_gondii_MF.rda (188 bytes security) (stored 0%)
adding: data/Info_Contents_human_BP.rda (188 bytes security) (deflated 0%)
adding: data/Info_Contents_human_CC.rda (188 bytes security) (stored 0%)
adding: data/Info_Contents_human_MF.rda (188 bytes security) (stored 0%)
adding: data/Info_Contents_malaria_BP.rda (188 bytes security) (stored 0%)
adding: data/Info_Contents_malaria_CC.rda (188 bytes security) (stored 0%)
adding: data/Info_Contents_malaria_MF.rda (188 bytes security) (stored 0%)
adding: data/Info_Contents_mouse_BP.rda (188 bytes security) (deflated 0%)
adding: data/Info_Contents_mouse_CC.rda (188 bytes security) (stored 0%)
adding: data/Info_Contents_mouse_MF.rda (188 bytes security) (stored 0%)
adding: data/Info_Contents_pig_BP.rda (188 bytes security) (stored 0%)
adding: data/Info_Contents_pig_CC.rda (188 bytes security) (stored 0%)
adding: data/Info_Contents_pig_MF.rda (188 bytes security) (stored 0%)
adding: data/Info_Contents_rat_BP.rda (188 bytes security) (deflated 0%)
adding: data/Info_Contents_rat_CC.rda (188 bytes security) (stored 0%)
adding: data/Info_Contents_rat_MF.rda (188 bytes security) (stored 0%)
adding: data/Info_Contents_rhesus_BP.rda (188 bytes security) (stored 0%)
adding: data/Info_Contents_rhesus_CC.rda (188 bytes security) (stored 0%)
adding: data/Info_Contents_rhesus_MF.rda (188 bytes security) (stored 0%)
adding: data/Info_Contents_xenopus_BP.rda (188 bytes security) (stored 0%)
adding: data/Info_Contents_xenopus_CC.rda (188 bytes security) (stored 0%)
adding: data/Info_Contents_xenopus_MF.rda (188 bytes security) (stored 0%)
adding: data/Info_Contents_yeast_BP.rda (188 bytes security) (stored 0%)
adding: data/Info_Contents_yeast_CC.rda (188 bytes security) (stored 0%)
adding: data/Info_Contents_yeast_MF.rda (188 bytes security) (stored 0%)
adding: data/Info_Contents_zebrafish_BP.rda (188 bytes security) (stored 0%)
adding: data/Info_Contents_zebrafish_CC.rda (188 bytes security) (stored 0%)
adding: data/Info_Contents_zebrafish_MF.rda (188 bytes security) (stored 0%)
adding: DESCRIPTION (188 bytes security) (deflated 46%)
adding: doc/ (256 bytes security) (stored 0%)
adding: doc/GOSemSim.html (188 bytes security) (deflated 66%)
adding: doc/GOSemSim.R (188 bytes security) (deflated 69%)
adding: doc/GOSemSim.Rmd (188 bytes security) (deflated 65%)
adding: doc/index.html (188 bytes security) (deflated 58%)
adding: help/ (256 bytes security) (stored 0%)
adding: help/aliases.rds (188 bytes security) (stored 0%)
adding: help/AnIndex (188 bytes security) (deflated 80%)
adding: help/GOSemSim.rdb (188 bytes security) (deflated 1%)
adding: help/GOSemSim.rdx (188 bytes security) (stored 0%)
adding: help/paths.rds (188 bytes security) (stored 0%)
adding: html/ (256 bytes security) (stored 0%)
adding: html/00Index.html (188 bytes security) (deflated 89%)
adding: html/R.css (188 bytes security) (deflated 75%)
adding: INDEX (188 bytes security) (deflated 67%)
adding: libs/ (256 bytes security) (stored 0%)
adding: libs/i386/ (256 bytes security) (stored 0%)
adding: libs/i386/GOSemSim.dll (188 bytes security) (deflated 65%)
adding: libs/x64/ (256 bytes security) (stored 0%)
adding: libs/x64/GOSemSim.dll (188 bytes security) (deflated 67%)
adding: MD5 (188 bytes security) (deflated 57%)
adding: Meta/ (256 bytes security) (stored 0%)
adding: Meta/data.rds (188 bytes security) (stored 0%)
adding: Meta/hsearch.rds (188 bytes security) (stored 0%)
adding: Meta/links.rds (188 bytes security) (stored 0%)
adding: Meta/nsInfo.rds (188 bytes security) (stored 0%)
adding: Meta/package.rds (188 bytes security) (stored 0%)
adding: Meta/Rd.rds (188 bytes security) (stored 0%)
adding: Meta/vignette.rds (188 bytes security) (stored 0%)
adding: NAMESPACE (188 bytes security) (deflated 65%)
adding: NEWS (188 bytes security) (deflated 70%)
adding: R/ (256 bytes security) (stored 0%)
adding: R/GOSemSim (188 bytes security) (deflated 41%)
adding: R/GOSemSim.rdb (188 bytes security) (deflated 3%)
adding: R/GOSemSim.rdx (188 bytes security) (stored 0%)