InteractionSet 1.0.4 Aaron Lun
Snapshot Date: 2016-10-12 17:20:15 -0700 (Wed, 12 Oct 2016) | URL: https://hedgehog.fhcrc.org/bioconductor/branches/RELEASE_3_3/madman/Rpacks/InteractionSet | Last Changed Rev: 118574 / Revision: 122332 | Last Changed Date: 2016-06-14 10:55:43 -0700 (Tue, 14 Jun 2016) |
| zin2 | Linux (Ubuntu 14.04.2 LTS) / x86_64 | OK | OK | OK | | |
moscato2 | Windows Server 2008 R2 Enterprise SP1 (64-bit) / x64 | [ OK ] | OK | OK | OK | |
oaxaca | Mac OS X Mavericks (10.9.5) / x86_64 | OK | OK | OK | OK | |
##############################################################################
##############################################################################
###
### Running command:
###
### rm -rf InteractionSet.buildbin-libdir && mkdir InteractionSet.buildbin-libdir && C:\cygwin\bin\curl.exe -O http://zin2/BBS/3.3/bioc/src/contrib/InteractionSet_1.0.4.tar.gz && E:\biocbld\bbs-3.3-bioc\R\bin\R.exe CMD INSTALL --build --library=InteractionSet.buildbin-libdir --merge-multiarch InteractionSet_1.0.4.tar.gz && E:\biocbld\bbs-3.3-bioc\R\bin\R.exe CMD INSTALL InteractionSet_1.0.4.zip && rm InteractionSet_1.0.4.tar.gz InteractionSet_1.0.4.zip
###
##############################################################################
##############################################################################
install for i386
* installing *source* package 'InteractionSet' ...
** libs
C:/Rtools/mingw_32/bin/g++ -I"E:/biocbld/BBS-3˜1.3-B/R/include" -DNDEBUG -I"c:/local323/include" -O2 -Wall -mtune=core2 -c box_bounds.cpp -o box_bounds.o
C:/Rtools/mingw_32/bin/g++ -I"E:/biocbld/BBS-3˜1.3-B/R/include" -DNDEBUG -I"c:/local323/include" -O2 -Wall -mtune=core2 -c init.cpp -o init.o
C:/Rtools/mingw_32/bin/g++ -I"E:/biocbld/BBS-3˜1.3-B/R/include" -DNDEBUG -I"c:/local323/include" -O2 -Wall -mtune=core2 -c overlaps.cpp -o overlaps.o
C:/Rtools/mingw_32/bin/g++ -shared -s -static-libgcc -o InteractionSet.dll tmp.def box_bounds.o init.o overlaps.o -Lc:/local323/lib/i386 -Lc:/local323/lib -LE:/biocbld/BBS-3˜1.3-B/R/bin/i386 -lR
installing to E:/biocbld/bbs-3.3-bioc/meat/InteractionSet.buildbin-libdir/InteractionSet/libs/i386
** R
** inst
** preparing package for lazy loading
** help
*** installing help indices
** building package indices
** installing vignettes
** testing if installed package can be loaded
install for x64
* installing *source* package 'InteractionSet' ...
** libs
C:/Rtools/mingw_64/bin/g++ -I"E:/biocbld/BBS-3˜1.3-B/R/include" -DNDEBUG -I"c:/local323/include" -O2 -Wall -mtune=core2 -c box_bounds.cpp -o box_bounds.o
C:/Rtools/mingw_64/bin/g++ -I"E:/biocbld/BBS-3˜1.3-B/R/include" -DNDEBUG -I"c:/local323/include" -O2 -Wall -mtune=core2 -c init.cpp -o init.o
C:/Rtools/mingw_64/bin/g++ -I"E:/biocbld/BBS-3˜1.3-B/R/include" -DNDEBUG -I"c:/local323/include" -O2 -Wall -mtune=core2 -c overlaps.cpp -o overlaps.o
C:/Rtools/mingw_64/bin/g++ -shared -s -static-libgcc -o InteractionSet.dll tmp.def box_bounds.o init.o overlaps.o -Lc:/local323/lib/x64 -Lc:/local323/lib -LE:/biocbld/BBS-3˜1.3-B/R/bin/x64 -lR
installing to E:/biocbld/bbs-3.3-bioc/meat/InteractionSet.buildbin-libdir/InteractionSet/libs/x64
** testing if installed package can be loaded
* MD5 sums
packaged installation of 'InteractionSet' as InteractionSet_1.0.4.zip
* DONE (InteractionSet)
* installing to library 'E:/biocbld/bbs-3.3-bioc/R/library'
package 'InteractionSet' successfully unpacked and MD5 sums checked