##############################################################################
##############################################################################
###
### Running command:
###
### cd MantelCorr.buildbin-libdir/MantelCorr && zip -r ../../MantelCorr_1.41.0.zip . & cd ../..
###
##############################################################################
##############################################################################
adding: data/ (208 bytes security) (stored 0%)
adding: data/GolubTrain.rda (188 bytes security) (deflated 0%)
adding: DESCRIPTION (188 bytes security) (deflated 35%)
adding: doc/ (208 bytes security) (stored 0%)
adding: doc/index.html (188 bytes security) (deflated 60%)
adding: doc/MantelCorrVignette.pdf (188 bytes security) (deflated 6%)
adding: doc/MantelCorrVignette.R (188 bytes security) (deflated 79%)
adding: doc/MantelCorrVignette.Rnw (188 bytes security) (deflated 62%)
adding: help/ (208 bytes security) (stored 0%)
adding: help/aliases.rds (188 bytes security) (stored 0%)
adding: help/AnIndex (188 bytes security) (deflated 49%)
adding: help/MantelCorr.rdb (188 bytes security) (deflated 1%)
adding: help/MantelCorr.rdx (188 bytes security) (stored 0%)
adding: help/paths.rds (188 bytes security) (stored 0%)
adding: html/ (208 bytes security) (stored 0%)
adding: html/00Index.html (188 bytes security) (deflated 62%)
adding: html/R.css (188 bytes security) (deflated 75%)
adding: INDEX (188 bytes security) (deflated 55%)
adding: MD5 (188 bytes security) (deflated 43%)
adding: Meta/ (208 bytes security) (stored 0%)
adding: Meta/data.rds (188 bytes security) (stored 0%)
adding: Meta/hsearch.rds (188 bytes security) (stored 0%)
adding: Meta/links.rds (188 bytes security) (stored 0%)
adding: Meta/nsInfo.rds (188 bytes security) (stored 0%)
adding: Meta/package.rds (188 bytes security) (stored 0%)
adding: Meta/Rd.rds (188 bytes security) (stored 0%)
adding: Meta/vignette.rds (188 bytes security) (stored 0%)
adding: NAMESPACE (188 bytes security) (deflated 25%)
adding: R/ (208 bytes security) (stored 0%)
adding: R/MantelCorr (188 bytes security) (deflated 41%)
adding: R/MantelCorr.rdb (188 bytes security) (deflated 5%)
adding: R/MantelCorr.rdx (188 bytes security) (stored 0%)