Back to the "Multiple platform build/check report" A  B  C  D  E  F  G  H  I  J  K  L  M  N  O [P] Q  R  S  T  U  V  W  X  Y  Z 

BioC 3.3: BUILD report for Prostar on morelia

This page was generated on 2016-04-21 13:27:08 -0700 (Thu, 21 Apr 2016).

Package 890/1210HostnameOS / ArchINSTALLBUILDCHECKBUILD BIN
Prostar 1.3.16
Samuel Wieczorek
Snapshot Date: 2016-04-20 17:20:35 -0700 (Wed, 20 Apr 2016)
URL: https://hedgehog.fhcrc.org/bioconductor/trunk/madman/Rpacks/Prostar
Last Changed Rev: 116589 / Revision: 116626
Last Changed Date: 2016-04-20 07:18:47 -0700 (Wed, 20 Apr 2016)
zin2 Linux (Ubuntu 14.04.2 LTS) / x86_64  OK  ERROR  skipped 
moscato2 Windows Server 2008 R2 Enterprise SP1 (64-bit) / x64  OK  ERROR  skipped  skipped 
morelia Mac OS X Mavericks (10.9.5) / x86_64  OK [ ERROR ] skipped  skipped 

Summary

Package: Prostar
Version: 1.3.16
Command: /Library/Frameworks/R.framework/Versions/Current/Resources/bin/R CMD build --keep-empty-dirs --no-resave-data Prostar
StartedAt: 2016-04-20 22:33:32 -0700 (Wed, 20 Apr 2016)
EndedAt: 2016-04-20 22:33:42 -0700 (Wed, 20 Apr 2016)
EllapsedTime: 10.1 seconds
RetCode: 1
Status:  ERROR 
PackageFile: None
PackageFileSize: NA

Command output

##############################################################################
##############################################################################
###
### Running command:
###
###   /Library/Frameworks/R.framework/Versions/Current/Resources/bin/R CMD build --keep-empty-dirs --no-resave-data Prostar
###
##############################################################################
##############################################################################


* checking for file ‘Prostar/DESCRIPTION’ ... OK
* preparing ‘Prostar’:
* checking DESCRIPTION meta-information ... OK
* installing the package to build vignettes
      -----------------------------------
* installing *source* package ‘Prostar’ ...
** R
** inst
** preparing package for lazy loading
** help
*** installing help indices
** building package indices
** installing vignettes
Error in .build_vignette_index(vigns) : 
  In 'Prostar' vignettes 'Prostar_Tutorial.pdf.asis' and 'Prostar_Tutorial.Rnw' have the same vignette name
ERROR: installing vignettes failed
* removing ‘/private/tmp/Rtmp3Upvty/Rinstd0916245da40/Prostar’
      -----------------------------------
ERROR: package installation failed