Back to the "Multiple platform build/check report" A  B  C  D  E  F  G  H  I  J  K  L  M  N  O  P [Q] R  S  T  U  V  W  X  Y  Z 

BioC 3.3: CHECK report for QDNAseq on morelia

This page was generated on 2016-04-21 13:25:08 -0700 (Thu, 21 Apr 2016).

Package 906/1210HostnameOS / ArchINSTALLBUILDCHECKBUILD BIN
QDNAseq 1.7.5
Daoud Sie
Snapshot Date: 2016-04-20 17:20:35 -0700 (Wed, 20 Apr 2016)
URL: https://hedgehog.fhcrc.org/bioconductor/trunk/madman/Rpacks/QDNAseq
Last Changed Rev: 115213 / Revision: 116626
Last Changed Date: 2016-03-24 04:21:12 -0700 (Thu, 24 Mar 2016)
zin2 Linux (Ubuntu 14.04.2 LTS) / x86_64  OK  OK  OK UNNEEDED, same version exists in internal repository
moscato2 Windows Server 2008 R2 Enterprise SP1 (64-bit) / x64  OK  OK  OK  OK UNNEEDED, same version exists in internal repository
morelia Mac OS X Mavericks (10.9.5) / x86_64  OK  OK [ OK ] OK UNNEEDED, same version exists in internal repository

Summary

Package: QDNAseq
Version: 1.7.5
Command: /Library/Frameworks/R.framework/Versions/Current/Resources/bin/R CMD check --no-vignettes --timings QDNAseq_1.7.5.tar.gz
StartedAt: 2016-04-21 06:24:36 -0700 (Thu, 21 Apr 2016)
EndedAt: 2016-04-21 06:27:16 -0700 (Thu, 21 Apr 2016)
EllapsedTime: 159.7 seconds
RetCode: 0
Status:  OK 
CheckDir: QDNAseq.Rcheck
Warnings: 0

Command output

##############################################################################
##############################################################################
###
### Running command:
###
###   /Library/Frameworks/R.framework/Versions/Current/Resources/bin/R CMD check --no-vignettes --timings QDNAseq_1.7.5.tar.gz
###
##############################################################################
##############################################################################


* using log directory ‘/Users/biocbuild/bbs-3.3-bioc/meat/QDNAseq.Rcheck’
* using R version 3.3.0 beta (2016-04-06 r70435)
* using platform: x86_64-apple-darwin13.4.0 (64-bit)
* using session charset: UTF-8
* using option ‘--no-vignettes’
* checking for file ‘QDNAseq/DESCRIPTION’ ... OK
* this is package ‘QDNAseq’ version ‘1.7.5’
* checking package namespace information ... OK
* checking package dependencies ... OK
* checking if this is a source package ... OK
* checking if there is a namespace ... OK
* checking for hidden files and directories ... OK
* checking for portable file names ... OK
* checking for sufficient/correct file permissions ... OK
* checking whether package ‘QDNAseq’ can be installed ... [9s/9s] OK
* checking installed package size ... OK
* checking package directory ... OK
* checking ‘build’ directory ... OK
* checking DESCRIPTION meta-information ... OK
* checking top-level files ... OK
* checking for left-over files ... OK
* checking index information ... OK
* checking package subdirectories ... OK
* checking R files for non-ASCII characters ... OK
* checking R files for syntax errors ... OK
* checking whether the package can be loaded ... OK
* checking whether the package can be loaded with stated dependencies ... OK
* checking whether the package can be unloaded cleanly ... OK
* checking whether the namespace can be loaded with stated dependencies ... OK
* checking whether the namespace can be unloaded cleanly ... OK
* checking dependencies in R code ... OK
* checking S3 generic/method consistency ... OK
* checking replacement functions ... OK
* checking foreign function calls ... OK
* checking R code for possible problems ... NOTE
estimateCorrection,QDNAseqReadCounts : calculateFits: no visible global
  function definition for ‘formula’
Undefined global functions or variables:
  formula
Consider adding
  importFrom("stats", "formula")
to your NAMESPACE file.
* checking Rd files ... OK
* checking Rd metadata ... OK
* checking Rd cross-references ... OK
* checking for missing documentation entries ... OK
* checking for code/documentation mismatches ... OK
* checking Rd \usage sections ... OK
* checking Rd contents ... OK
* checking for unstated dependencies in examples ... OK
* checking contents of ‘data’ directory ... OK
* checking data for non-ASCII characters ... OK
* checking data for ASCII and uncompressed saves ... OK
* checking sizes of PDF files under ‘inst/doc’ ... OK
* checking installed files from ‘inst/doc’ ... OK
* checking files in ‘vignettes’ ... OK
* checking examples ... [47s/47s] OK
Examples with CPU or elapsed time > 5s
                         user system elapsed
frequencyPlot          12.173  0.122  12.300
callBins               11.983  0.099  12.083
normalizeSegmentedBins  5.207  0.067   5.278
segmentBins             5.119  0.060   5.182
* checking for unstated dependencies in ‘tests’ ... OK
* checking tests ...
  Running ‘QDNAseq,reproducibility.R’ [6s/6s]
  Running ‘QDNAseq.R’ [12s/12s]
 [18s/18s] OK
* checking for unstated dependencies in vignettes ... OK
* checking package vignettes in ‘inst/doc’ ... OK
* checking running R code from vignettes ... SKIPPED
* checking re-building of vignette outputs ... SKIPPED
* checking PDF version of manual ... OK
* DONE

Status: 1 NOTE
See
  ‘/Users/biocbuild/bbs-3.3-bioc/meat/QDNAseq.Rcheck/00check.log’
for details.


QDNAseq.Rcheck/00install.out:

* installing *source* package ‘QDNAseq’ ...
** R
** data
** inst
** preparing package for lazy loading
** help
*** installing help indices
** building package indices
** installing vignettes
** testing if installed package can be loaded
* DONE (QDNAseq)

QDNAseq.Rcheck/QDNAseq-Ex.timings:

nameusersystemelapsed
addPhenodata0.1270.0100.137
applyFilters0.3860.0110.396
binReadCounts0.0010.0000.001
callBins11.983 0.09912.083
compareToReference0.8090.0430.851
correctBins0.7060.0350.740
createBins0.0010.0000.001
estimateCorrection0.7030.0280.732
exportBins000
frequencyPlot12.173 0.12212.300
getBinAnnotations0.0010.0000.001
highlightFilters0.5030.0380.555
isobarPlot0.5390.0240.579
makeCgh0.8320.0390.872
noisePlot0.7840.0350.823
normalizeBins0.7380.0300.768
normalizeSegmentedBins5.2070.0675.278
plot0.7160.0380.755
poolRuns0.1540.0110.166
segmentBins5.1190.0605.182
smoothOutlierBins0.6050.0330.637