Back to the "Multiple platform build/check report" A  B  C  D  E  F  G  H  I  J  K  L  M  N  O  P  Q [R] S  T  U  V  W  X  Y  Z 

BioC 3.3: BUILD report for Rbowtie on morelia

This page was generated on 2016-04-21 13:23:53 -0700 (Thu, 21 Apr 2016).

Package 935/1210HostnameOS / ArchINSTALLBUILDCHECKBUILD BIN
Rbowtie 1.11.1
Michael Stadler
Snapshot Date: 2016-04-20 17:20:35 -0700 (Wed, 20 Apr 2016)
URL: https://hedgehog.fhcrc.org/bioconductor/trunk/madman/Rpacks/Rbowtie
Last Changed Rev: 115955 / Revision: 116626
Last Changed Date: 2016-04-07 07:31:55 -0700 (Thu, 07 Apr 2016)
zin2 Linux (Ubuntu 14.04.2 LTS) / x86_64  OK  OK  OK UNNEEDED, same version exists in internal repository
moscato2 Windows Server 2008 R2 Enterprise SP1 (64-bit) / x64  OK  OK  OK  OK UNNEEDED, same version exists in internal repository
morelia Mac OS X Mavericks (10.9.5) / x86_64  OK [ OK ] OK  OK UNNEEDED, same version exists in internal repository

Summary

Package: Rbowtie
Version: 1.11.1
Command: /Library/Frameworks/R.framework/Versions/Current/Resources/bin/R CMD build --keep-empty-dirs --no-resave-data Rbowtie
StartedAt: 2016-04-20 20:38:47 -0700 (Wed, 20 Apr 2016)
EndedAt: 2016-04-20 20:40:07 -0700 (Wed, 20 Apr 2016)
EllapsedTime: 79.8 seconds
RetCode: 0
Status:  OK 
PackageFile: Rbowtie_1.11.1.tar.gz
PackageFileSize: 4.459 MiB

Command output

##############################################################################
##############################################################################
###
### Running command:
###
###   /Library/Frameworks/R.framework/Versions/Current/Resources/bin/R CMD build --keep-empty-dirs --no-resave-data Rbowtie
###
##############################################################################
##############################################################################


* checking for file ‘Rbowtie/DESCRIPTION’ ... OK
* preparing ‘Rbowtie’:
* checking DESCRIPTION meta-information ... OK
* cleaning src
* installing the package to build vignettes
* creating vignettes ... OK
* cleaning src
* checking for LF line-endings in source and make files
* checking for empty or unneeded directories
* building ‘Rbowtie_1.11.1.tar.gz’