ReportingTools 2.12.2 Jason A. Hackney , Gabriel Becker , Jessica L. Larson
Snapshot Date: 2016-10-12 17:20:15 -0700 (Wed, 12 Oct 2016) | URL: https://hedgehog.fhcrc.org/bioconductor/branches/RELEASE_3_3/madman/Rpacks/ReportingTools | Last Changed Rev: 117513 / Revision: 122332 | Last Changed Date: 2016-05-15 13:18:19 -0700 (Sun, 15 May 2016) |
| zin2 | Linux (Ubuntu 14.04.2 LTS) / x86_64 | OK | OK | OK | | |
moscato2 | Windows Server 2008 R2 Enterprise SP1 (64-bit) / x64 | OK | OK | OK | OK | |
oaxaca | Mac OS X Mavericks (10.9.5) / x86_64 | OK | OK | OK | [ OK ] | |
##############################################################################
##############################################################################
###
### Running command:
###
### rm -rf ReportingTools.buildbin-libdir && mkdir ReportingTools.buildbin-libdir && /Users/biocbuild/BBS/utils/build-universal.sh ReportingTools_2.12.2.tar.gz /Library/Frameworks/R.framework/Versions/Current/Resources/bin/R ReportingTools.buildbin-libdir
###
##############################################################################
##############################################################################
>>>>>>>
>>>>>>> INSTALLATION WITH 'R CMD INSTALL --preclean --no-multiarch --library=ReportingTools.buildbin-libdir ReportingTools_2.12.2.tar.gz'
>>>>>>>
* installing *source* package ‘ReportingTools’ ...
** R
** data
** inst
** byte-compile and prepare package for lazy loading
Warning: replacing previous import ‘ggplot2::Position’ by ‘BiocGenerics::Position’ when loading ‘ggbio’
in method for 'objectToHTML' with signature 'object="ggbio"': no definition for class "ggbio"
Note: no visible binding for '<<-' assignment to '.reportDirectory'
Note: no visible binding for '<<-' assignment to '.reportDirectory'
** help
*** installing help indices
** building package indices
** installing vignettes
** testing if installed package can be loaded
Warning: replacing previous import ‘ggplot2::Position’ by ‘BiocGenerics::Position’ when loading ‘ggbio’
* DONE (ReportingTools)