Back to the "Multiple platform build/check report" A  B  C  D  E  F  G  H  I  J  K  L  M  N  O  P  Q  R [S] T  U  V  W  X  Y  Z 

BioC 3.3: BUILD BIN report for SLqPCR on morelia

This page was generated on 2016-04-21 13:20:11 -0700 (Thu, 21 Apr 2016).

Package 1084/1210HostnameOS / ArchINSTALLBUILDCHECKBUILD BIN
SLqPCR 1.37.0
Matthias Kohl
Snapshot Date: 2016-04-20 17:20:35 -0700 (Wed, 20 Apr 2016)
URL: https://hedgehog.fhcrc.org/bioconductor/trunk/madman/Rpacks/SLqPCR
Last Changed Rev: 109592 / Revision: 116626
Last Changed Date: 2015-10-13 12:59:53 -0700 (Tue, 13 Oct 2015)
zin2 Linux (Ubuntu 14.04.2 LTS) / x86_64  OK  OK  OK UNNEEDED, same version exists in internal repository
moscato2 Windows Server 2008 R2 Enterprise SP1 (64-bit) / x64  OK  OK  OK  OK UNNEEDED, same version exists in internal repository
morelia Mac OS X Mavericks (10.9.5) / x86_64  OK  OK  OK [ OK ]UNNEEDED, same version exists in internal repository

Summary

Package: SLqPCR
Version: 1.37.0
Command: rm -rf SLqPCR.buildbin-libdir && mkdir SLqPCR.buildbin-libdir && /Users/biocbuild/BBS/utils/build-universal.sh SLqPCR_1.37.0.tar.gz /Library/Frameworks/R.framework/Versions/Current/Resources/bin/R SLqPCR.buildbin-libdir
StartedAt: 2016-04-21 09:24:46 -0700 (Thu, 21 Apr 2016)
EndedAt: 2016-04-21 09:24:48 -0700 (Thu, 21 Apr 2016)
EllapsedTime: 1.4 seconds
RetCode: 0
Status:  OK 
PackageFile: SLqPCR_1.37.0.tgz
PackageFileSize: 183.5 KiB

Command output

##############################################################################
##############################################################################
###
### Running command:
###
###   rm -rf SLqPCR.buildbin-libdir && mkdir SLqPCR.buildbin-libdir && /Users/biocbuild/BBS/utils/build-universal.sh SLqPCR_1.37.0.tar.gz /Library/Frameworks/R.framework/Versions/Current/Resources/bin/R SLqPCR.buildbin-libdir
###
##############################################################################
##############################################################################


>>>>>>> 
>>>>>>> INSTALLATION WITH 'R CMD INSTALL --preclean --no-multiarch --library=SLqPCR.buildbin-libdir SLqPCR_1.37.0.tar.gz'
>>>>>>> 

* installing *source* package ‘SLqPCR’ ...
** R
** data
** inst
** preparing package for lazy loading
** help
*** installing help indices
** building package indices
** installing vignettes
** testing if installed package can be loaded
* DONE (SLqPCR)