SeqArray 1.12.9 Xiuwen Zheng
Snapshot Date: 2016-10-12 17:20:15 -0700 (Wed, 12 Oct 2016) | URL: https://hedgehog.fhcrc.org/bioconductor/branches/RELEASE_3_3/madman/Rpacks/SeqArray | Last Changed Rev: 121528 / Revision: 122332 | Last Changed Date: 2016-09-29 01:10:38 -0700 (Thu, 29 Sep 2016) |
| zin2 | Linux (Ubuntu 14.04.2 LTS) / x86_64 | OK | OK | OK | | |
moscato2 | Windows Server 2008 R2 Enterprise SP1 (64-bit) / x64 | OK | [ ERROR ] | skipped | skipped | |
oaxaca | Mac OS X Mavericks (10.9.5) / x86_64 | OK | OK | OK | OK | |
##############################################################################
##############################################################################
###
### Running command:
###
### chmod a+r SeqArray -R && E:\biocbld\bbs-3.3-bioc\R\bin\R.exe CMD build --keep-empty-dirs --no-resave-data SeqArray
###
##############################################################################
##############################################################################
* checking for file 'SeqArray/DESCRIPTION' ... OK
* preparing 'SeqArray':
* checking DESCRIPTION meta-information ... OK
* cleaning src
* installing the package to build vignettes
* creating vignettes ...Warning in file(con, "r") :
cannot open file 'E:\biocbld\bbs-3.3-bioc\tmpdir\RtmpQHgEIz\xshell1490747b2f12': Permission denied
Error in file(con, "r") : cannot open the connection
Execution halted