TargetSearch 1.28.1 Alvaro Cuadros-Inostroza
Snapshot Date: 2016-10-12 17:20:15 -0700 (Wed, 12 Oct 2016) | URL: https://hedgehog.fhcrc.org/bioconductor/branches/RELEASE_3_3/madman/Rpacks/TargetSearch | Last Changed Rev: 117272 / Revision: 122332 | Last Changed Date: 2016-05-10 02:52:01 -0700 (Tue, 10 May 2016) |
| zin2 | Linux (Ubuntu 14.04.2 LTS) / x86_64 | OK | OK | OK | | ![UNNEEDED, same version exists in internal repository UNNEEDED, same version exists in internal repository](../120px-Blue_Light_Icon.svg.png) |
moscato2 | Windows Server 2008 R2 Enterprise SP1 (64-bit) / x64 | [ OK ] | OK | OK | OK | ![UNNEEDED, same version exists in internal repository UNNEEDED, same version exists in internal repository](../120px-Blue_Light_Icon.svg.png) |
oaxaca | Mac OS X Mavericks (10.9.5) / x86_64 | OK | OK | OK | OK | ![UNNEEDED, same version exists in internal repository UNNEEDED, same version exists in internal repository](../120px-Blue_Light_Icon.svg.png) |
##############################################################################
##############################################################################
###
### Running command:
###
### rm -rf TargetSearch.buildbin-libdir && mkdir TargetSearch.buildbin-libdir && C:\cygwin\bin\curl.exe -O http://zin2/BBS/3.3/bioc/src/contrib/TargetSearch_1.28.1.tar.gz && E:\biocbld\bbs-3.3-bioc\R\bin\R.exe CMD INSTALL --build --library=TargetSearch.buildbin-libdir --merge-multiarch TargetSearch_1.28.1.tar.gz && E:\biocbld\bbs-3.3-bioc\R\bin\R.exe CMD INSTALL TargetSearch_1.28.1.zip && rm TargetSearch_1.28.1.tar.gz TargetSearch_1.28.1.zip
###
##############################################################################
##############################################################################
install for i386
* installing *source* package 'TargetSearch' ...
** libs
C:/Rtools/mingw_32/bin/gcc -I"E:/biocbld/BBS-3˜1.3-B/R/include" -DNDEBUG -I"c:/local323/include" -O3 -Wall -std=gnu99 -mtune=core2 -c Rinit.c -o Rinit.o
C:/Rtools/mingw_32/bin/gcc -I"E:/biocbld/BBS-3˜1.3-B/R/include" -DNDEBUG -I"c:/local323/include" -O3 -Wall -std=gnu99 -mtune=core2 -c file.c -o file.o
C:/Rtools/mingw_32/bin/gcc -I"E:/biocbld/BBS-3˜1.3-B/R/include" -DNDEBUG -I"c:/local323/include" -O3 -Wall -std=gnu99 -mtune=core2 -c find_peaks.c -o find_peaks.o
C:/Rtools/mingw_32/bin/gcc -I"E:/biocbld/BBS-3˜1.3-B/R/include" -DNDEBUG -I"c:/local323/include" -O3 -Wall -std=gnu99 -mtune=core2 -c getLine.c -o getLine.o
C:/Rtools/mingw_32/bin/gcc -I"E:/biocbld/BBS-3˜1.3-B/R/include" -DNDEBUG -I"c:/local323/include" -O3 -Wall -std=gnu99 -mtune=core2 -c hpf.c -o hpf.o
C:/Rtools/mingw_32/bin/gcc -I"E:/biocbld/BBS-3˜1.3-B/R/include" -DNDEBUG -I"c:/local323/include" -O3 -Wall -std=gnu99 -mtune=core2 -c ncdf.c -o ncdf.o
C:/Rtools/mingw_32/bin/gcc -I"E:/biocbld/BBS-3˜1.3-B/R/include" -DNDEBUG -I"c:/local323/include" -O3 -Wall -std=gnu99 -mtune=core2 -c netcdf_peak_finding.c -o netcdf_peak_finding.o
C:/Rtools/mingw_32/bin/gcc -I"E:/biocbld/BBS-3˜1.3-B/R/include" -DNDEBUG -I"c:/local323/include" -O3 -Wall -std=gnu99 -mtune=core2 -c peakExtraction.c -o peakExtraction.o
C:/Rtools/mingw_32/bin/gcc -I"E:/biocbld/BBS-3˜1.3-B/R/include" -DNDEBUG -I"c:/local323/include" -O3 -Wall -std=gnu99 -mtune=core2 -c ppc.c -o ppc.o
C:/Rtools/mingw_32/bin/gcc -shared -s -static-libgcc -o TargetSearch.dll tmp.def Rinit.o file.o find_peaks.o getLine.o hpf.o ncdf.o netcdf_peak_finding.o peakExtraction.o ppc.o -Lc:/local323/lib/i386 -Lc:/local323/lib -LE:/biocbld/BBS-3˜1.3-B/R/bin/i386 -lR
installing to E:/biocbld/bbs-3.3-bioc/meat/TargetSearch.buildbin-libdir/TargetSearch/libs/i386
** R
** inst
** preparing package for lazy loading
** help
*** installing help indices
** building package indices
** installing vignettes
** testing if installed package can be loaded
install for x64
* installing *source* package 'TargetSearch' ...
** libs
C:/Rtools/mingw_64/bin/gcc -I"E:/biocbld/BBS-3˜1.3-B/R/include" -DNDEBUG -I"c:/local323/include" -O2 -Wall -std=gnu99 -mtune=core2 -c Rinit.c -o Rinit.o
C:/Rtools/mingw_64/bin/gcc -I"E:/biocbld/BBS-3˜1.3-B/R/include" -DNDEBUG -I"c:/local323/include" -O2 -Wall -std=gnu99 -mtune=core2 -c file.c -o file.o
C:/Rtools/mingw_64/bin/gcc -I"E:/biocbld/BBS-3˜1.3-B/R/include" -DNDEBUG -I"c:/local323/include" -O2 -Wall -std=gnu99 -mtune=core2 -c find_peaks.c -o find_peaks.o
C:/Rtools/mingw_64/bin/gcc -I"E:/biocbld/BBS-3˜1.3-B/R/include" -DNDEBUG -I"c:/local323/include" -O2 -Wall -std=gnu99 -mtune=core2 -c getLine.c -o getLine.o
C:/Rtools/mingw_64/bin/gcc -I"E:/biocbld/BBS-3˜1.3-B/R/include" -DNDEBUG -I"c:/local323/include" -O2 -Wall -std=gnu99 -mtune=core2 -c hpf.c -o hpf.o
C:/Rtools/mingw_64/bin/gcc -I"E:/biocbld/BBS-3˜1.3-B/R/include" -DNDEBUG -I"c:/local323/include" -O2 -Wall -std=gnu99 -mtune=core2 -c ncdf.c -o ncdf.o
C:/Rtools/mingw_64/bin/gcc -I"E:/biocbld/BBS-3˜1.3-B/R/include" -DNDEBUG -I"c:/local323/include" -O2 -Wall -std=gnu99 -mtune=core2 -c netcdf_peak_finding.c -o netcdf_peak_finding.o
C:/Rtools/mingw_64/bin/gcc -I"E:/biocbld/BBS-3˜1.3-B/R/include" -DNDEBUG -I"c:/local323/include" -O2 -Wall -std=gnu99 -mtune=core2 -c peakExtraction.c -o peakExtraction.o
C:/Rtools/mingw_64/bin/gcc -I"E:/biocbld/BBS-3˜1.3-B/R/include" -DNDEBUG -I"c:/local323/include" -O2 -Wall -std=gnu99 -mtune=core2 -c ppc.c -o ppc.o
C:/Rtools/mingw_64/bin/gcc -shared -s -static-libgcc -o TargetSearch.dll tmp.def Rinit.o file.o find_peaks.o getLine.o hpf.o ncdf.o netcdf_peak_finding.o peakExtraction.o ppc.o -Lc:/local323/lib/x64 -Lc:/local323/lib -LE:/biocbld/BBS-3˜1.3-B/R/bin/x64 -lR
installing to E:/biocbld/bbs-3.3-bioc/meat/TargetSearch.buildbin-libdir/TargetSearch/libs/x64
** testing if installed package can be loaded
* MD5 sums
packaged installation of 'TargetSearch' as TargetSearch_1.28.1.zip
* DONE (TargetSearch)
* installing to library 'E:/biocbld/bbs-3.3-bioc/R/library'
package 'TargetSearch' successfully unpacked and MD5 sums checked