UniProt.ws 2.11.0 Bioconductor Package Maintainer
Snapshot Date: 2015-10-26 20:20:04 -0400 (Mon, 26 Oct 2015) | URL: https://hedgehog.fhcrc.org/bioconductor/trunk/madman/Rpacks/UniProt.ws | Last Changed Rev: 109592 / Revision: 109948 | Last Changed Date: 2015-10-13 15:59:53 -0400 (Tue, 13 Oct 2015) |
| linux2.bioconductor.org | Linux (Ubuntu 14.04.2 LTS) / x86_64 | OK | OK | WARNINGS | | |
windows2.bioconductor.org | Windows Server 2012 R2 Enterprise SP1 (64-bit) / x64 | OK | OK | WARNINGS | [ OK ] | |
##############################################################################
##############################################################################
###
### Running command:
###
### cd UniProt.ws.buildbin-libdir/UniProt.ws && zip -r ../../UniProt.ws_2.11.0.zip . & cd ../..
###
##############################################################################
##############################################################################
adding: DESCRIPTION (188 bytes security) (deflated 38%)
adding: doc/ (208 bytes security) (stored 0%)
adding: doc/index.html (188 bytes security) (deflated 58%)
adding: doc/UniProt.ws.pdf (188 bytes security) (deflated 7%)
adding: doc/UniProt.ws.R (188 bytes security) (deflated 78%)
adding: doc/UniProt.ws.Rnw (188 bytes security) (deflated 60%)
adding: extdata/ (208 bytes security) (stored 0%)
adding: extdata/availSpecies.txt (188 bytes security) (deflated 62%)
adding: extdata/extraCols.txt (188 bytes security) (deflated 43%)
adding: extdata/keytypes.txt (188 bytes security) (deflated 67%)
adding: help/ (208 bytes security) (stored 0%)
adding: help/aliases.rds (188 bytes security) (stored 0%)
adding: help/AnIndex (188 bytes security) (deflated 79%)
adding: help/paths.rds (188 bytes security) (stored 0%)
adding: help/UniProt.ws.rdb (188 bytes security) (deflated 2%)
adding: help/UniProt.ws.rdx (188 bytes security) (stored 0%)
adding: html/ (208 bytes security) (stored 0%)
adding: html/00Index.html (188 bytes security) (deflated 92%)
adding: html/R.css (188 bytes security) (deflated 75%)
adding: INDEX (188 bytes security) (deflated 42%)
adding: MD5 (188 bytes security) (deflated 42%)
adding: Meta/ (208 bytes security) (stored 0%)
adding: Meta/hsearch.rds (188 bytes security) (stored 0%)
adding: Meta/links.rds (188 bytes security) (stored 0%)
adding: Meta/nsInfo.rds (188 bytes security) (stored 0%)
adding: Meta/package.rds (188 bytes security) (stored 0%)
adding: Meta/Rd.rds (188 bytes security) (stored 0%)
adding: Meta/vignette.rds (188 bytes security) (stored 0%)
adding: NAMESPACE (188 bytes security) (deflated 53%)
adding: NEWS (188 bytes security) (deflated 52%)
adding: R/ (208 bytes security) (stored 0%)
adding: R/UniProt.ws (188 bytes security) (deflated 41%)
adding: R/UniProt.ws.rdb (188 bytes security) (deflated 27%)
adding: R/UniProt.ws.rdx (188 bytes security) (stored 0%)
adding: script/ (208 bytes security) (stored 0%)
adding: script/processAvailableSpeciesFiles.txt (188 bytes security) (deflated 43%)
adding: script/processDataForBuild.R (188 bytes security) (deflated 76%)
adding: unitTests/ (208 bytes security) (stored 0%)
adding: unitTests/test_select.R (188 bytes security) (deflated 62%)
adding: unitTests/test_serviceAccessors.R (188 bytes security) (deflated 62%)