Back to the "Multiple platform build/check report" A  B  C  D  E  F  G  H  I  J  K  L  M  N  O  P  Q  R  S  T  U  V  W [X] Y  Z 

BioC 3.3: INSTALL report for XVector on windows2.bioconductor.org

This page was generated on 2015-10-27 12:15:16 -0400 (Tue, 27 Oct 2015).

Package 1102/1104HostnameOS / ArchINSTALLBUILDCHECKBUILD BIN
XVector 0.11.0
H. Pages
Snapshot Date: 2015-10-26 20:20:04 -0400 (Mon, 26 Oct 2015)
URL: https://hedgehog.fhcrc.org/bioconductor/trunk/madman/Rpacks/XVector
Last Changed Rev: 109592 / Revision: 109948
Last Changed Date: 2015-10-13 15:59:53 -0400 (Tue, 13 Oct 2015)
linux2.bioconductor.org Linux (Ubuntu 14.04.2 LTS) / x86_64  OK  OK  WARNINGS UNNEEDED, same version exists in internal repository
windows2.bioconductor.org Windows Server 2012 R2 Enterprise SP1 (64-bit) / x64 [ OK ] OK  WARNINGS  OK UNNEEDED, same version exists in internal repository

Summary

Package: XVector
Version: 0.11.0
Command: C:\cygwin64\bin\curl.exe -O http://linux2.bioconductor.org/BBS/3.3/bioc/src/contrib/XVector_0.11.0.tar.gz && c:\biocbld\bbs-3.3-bioc\R\bin\R.exe CMD INSTALL --merge-multiarch XVector_0.11.0.tar.gz && rm XVector_0.11.0.tar.gz
StartedAt: 2015-10-26 21:05:55 -0400 (Mon, 26 Oct 2015)
EndedAt: 2015-10-26 21:06:17 -0400 (Mon, 26 Oct 2015)
EllapsedTime: 22.3 seconds
RetCode: 0
Status:  OK  

Command output

##############################################################################
##############################################################################
###
### Running command:
###
###   C:\cygwin64\bin\curl.exe -O http://linux2.bioconductor.org/BBS/3.3/bioc/src/contrib/XVector_0.11.0.tar.gz && c:\biocbld\bbs-3.3-bioc\R\bin\R.exe CMD INSTALL --merge-multiarch XVector_0.11.0.tar.gz && rm XVector_0.11.0.tar.gz
###
##############################################################################
##############################################################################


  % Total    % Received % Xferd  Average Speed   Time    Time     Time  Current
                                 Dload  Upload   Total   Spent    Left  Speed

  0     0    0     0    0     0      0      0 --:--:-- --:--:-- --:--:--     0
100 62110  100 62110    0     0  11.6M      0 --:--:-- --:--:-- --:--:-- 59.2M

install for i386

* installing to library 'c:/biocbld/bbs-3.3-bioc/R/library'
* installing *source* package 'XVector' ...
** libs
gcc -m32 -I"C:/biocbld/bbs-3.3-bioc/R/library/zlibbioc/include" -I"c:/biocbld/BBS-3˜1.3-B/R/include" -DNDEBUG    -I"c:/biocbld/bbs-3.3-bioc/R/library/S4Vectors/include" -I"c:/biocbld/bbs-3.3-bioc/R/library/IRanges/include" -I"d:/RCompile/r-compiling/local/local320/include"     -O3 -Wall  -std=gnu99 -mtune=core2 -c IRanges_stubs.c -o IRanges_stubs.o
gcc -m32 -I"C:/biocbld/bbs-3.3-bioc/R/library/zlibbioc/include" -I"c:/biocbld/BBS-3˜1.3-B/R/include" -DNDEBUG    -I"c:/biocbld/bbs-3.3-bioc/R/library/S4Vectors/include" -I"c:/biocbld/bbs-3.3-bioc/R/library/IRanges/include" -I"d:/RCompile/r-compiling/local/local320/include"     -O3 -Wall  -std=gnu99 -mtune=core2 -c Ocopy_byteblocks.c -o Ocopy_byteblocks.o
gcc -m32 -I"C:/biocbld/bbs-3.3-bioc/R/library/zlibbioc/include" -I"c:/biocbld/BBS-3˜1.3-B/R/include" -DNDEBUG    -I"c:/biocbld/bbs-3.3-bioc/R/library/S4Vectors/include" -I"c:/biocbld/bbs-3.3-bioc/R/library/IRanges/include" -I"d:/RCompile/r-compiling/local/local320/include"     -O3 -Wall  -std=gnu99 -mtune=core2 -c R_init_XVector.c -o R_init_XVector.o
gcc -m32 -I"C:/biocbld/bbs-3.3-bioc/R/library/zlibbioc/include" -I"c:/biocbld/BBS-3˜1.3-B/R/include" -DNDEBUG    -I"c:/biocbld/bbs-3.3-bioc/R/library/S4Vectors/include" -I"c:/biocbld/bbs-3.3-bioc/R/library/IRanges/include" -I"d:/RCompile/r-compiling/local/local320/include"     -O3 -Wall  -std=gnu99 -mtune=core2 -c S4Vectors_stubs.c -o S4Vectors_stubs.o
gcc -m32 -I"C:/biocbld/bbs-3.3-bioc/R/library/zlibbioc/include" -I"c:/biocbld/BBS-3˜1.3-B/R/include" -DNDEBUG    -I"c:/biocbld/bbs-3.3-bioc/R/library/S4Vectors/include" -I"c:/biocbld/bbs-3.3-bioc/R/library/IRanges/include" -I"d:/RCompile/r-compiling/local/local320/include"     -O3 -Wall  -std=gnu99 -mtune=core2 -c SharedDouble_class.c -o SharedDouble_class.o
gcc -m32 -I"C:/biocbld/bbs-3.3-bioc/R/library/zlibbioc/include" -I"c:/biocbld/BBS-3˜1.3-B/R/include" -DNDEBUG    -I"c:/biocbld/bbs-3.3-bioc/R/library/S4Vectors/include" -I"c:/biocbld/bbs-3.3-bioc/R/library/IRanges/include" -I"d:/RCompile/r-compiling/local/local320/include"     -O3 -Wall  -std=gnu99 -mtune=core2 -c SharedInteger_class.c -o SharedInteger_class.o
gcc -m32 -I"C:/biocbld/bbs-3.3-bioc/R/library/zlibbioc/include" -I"c:/biocbld/BBS-3˜1.3-B/R/include" -DNDEBUG    -I"c:/biocbld/bbs-3.3-bioc/R/library/S4Vectors/include" -I"c:/biocbld/bbs-3.3-bioc/R/library/IRanges/include" -I"d:/RCompile/r-compiling/local/local320/include"     -O3 -Wall  -std=gnu99 -mtune=core2 -c SharedRaw_class.c -o SharedRaw_class.o
SharedRaw_class.c: In function 'SharedRaw_read_complexes_from_subscript':
SharedRaw_class.c:364:13: warning: variable 'src_tag' set but not used [-Wunused-but-set-variable]
gcc -m32 -I"C:/biocbld/bbs-3.3-bioc/R/library/zlibbioc/include" -I"c:/biocbld/BBS-3˜1.3-B/R/include" -DNDEBUG    -I"c:/biocbld/bbs-3.3-bioc/R/library/S4Vectors/include" -I"c:/biocbld/bbs-3.3-bioc/R/library/IRanges/include" -I"d:/RCompile/r-compiling/local/local320/include"     -O3 -Wall  -std=gnu99 -mtune=core2 -c SharedVector_class.c -o SharedVector_class.o
gcc -m32 -I"C:/biocbld/bbs-3.3-bioc/R/library/zlibbioc/include" -I"c:/biocbld/BBS-3˜1.3-B/R/include" -DNDEBUG    -I"c:/biocbld/bbs-3.3-bioc/R/library/S4Vectors/include" -I"c:/biocbld/bbs-3.3-bioc/R/library/IRanges/include" -I"d:/RCompile/r-compiling/local/local320/include"     -O3 -Wall  -std=gnu99 -mtune=core2 -c XRawList_comparison.c -o XRawList_comparison.o
gcc -m32 -I"C:/biocbld/bbs-3.3-bioc/R/library/zlibbioc/include" -I"c:/biocbld/BBS-3˜1.3-B/R/include" -DNDEBUG    -I"c:/biocbld/bbs-3.3-bioc/R/library/S4Vectors/include" -I"c:/biocbld/bbs-3.3-bioc/R/library/IRanges/include" -I"d:/RCompile/r-compiling/local/local320/include"     -O3 -Wall  -std=gnu99 -mtune=core2 -c XVectorList_class.c -o XVectorList_class.o
XVectorList_class.c: In function '_new_XRawList_from_CharAEAE':
XVectorList_class.c:466:33: warning: 'lkup_length' may be used uninitialized in this function [-Wuninitialized]
gcc -m32 -I"C:/biocbld/bbs-3.3-bioc/R/library/zlibbioc/include" -I"c:/biocbld/BBS-3˜1.3-B/R/include" -DNDEBUG    -I"c:/biocbld/bbs-3.3-bioc/R/library/S4Vectors/include" -I"c:/biocbld/bbs-3.3-bioc/R/library/IRanges/include" -I"d:/RCompile/r-compiling/local/local320/include"     -O3 -Wall  -std=gnu99 -mtune=core2 -c XVector_class.c -o XVector_class.o
gcc -m32 -I"C:/biocbld/bbs-3.3-bioc/R/library/zlibbioc/include" -I"c:/biocbld/BBS-3˜1.3-B/R/include" -DNDEBUG    -I"c:/biocbld/bbs-3.3-bioc/R/library/S4Vectors/include" -I"c:/biocbld/bbs-3.3-bioc/R/library/IRanges/include" -I"d:/RCompile/r-compiling/local/local320/include"     -O3 -Wall  -std=gnu99 -mtune=core2 -c io_utils.c -o io_utils.o
gcc -m32 -I"C:/biocbld/bbs-3.3-bioc/R/library/zlibbioc/include" -I"c:/biocbld/BBS-3˜1.3-B/R/include" -DNDEBUG    -I"c:/biocbld/bbs-3.3-bioc/R/library/S4Vectors/include" -I"c:/biocbld/bbs-3.3-bioc/R/library/IRanges/include" -I"d:/RCompile/r-compiling/local/local320/include"     -O3 -Wall  -std=gnu99 -mtune=core2 -c slice_methods.c -o slice_methods.o
gcc -m32 -I"C:/biocbld/bbs-3.3-bioc/R/library/zlibbioc/include" -I"c:/biocbld/BBS-3˜1.3-B/R/include" -DNDEBUG    -I"c:/biocbld/bbs-3.3-bioc/R/library/S4Vectors/include" -I"c:/biocbld/bbs-3.3-bioc/R/library/IRanges/include" -I"d:/RCompile/r-compiling/local/local320/include"     -O3 -Wall  -std=gnu99 -mtune=core2 -c vector_copy.c -o vector_copy.o
gcc -m32 -I"C:/biocbld/bbs-3.3-bioc/R/library/zlibbioc/include" -I"c:/biocbld/BBS-3˜1.3-B/R/include" -DNDEBUG    -I"c:/biocbld/bbs-3.3-bioc/R/library/S4Vectors/include" -I"c:/biocbld/bbs-3.3-bioc/R/library/IRanges/include" -I"d:/RCompile/r-compiling/local/local320/include"     -O3 -Wall  -std=gnu99 -mtune=core2 -c view_summarization_methods.c -o view_summarization_methods.o
view_summarization_methods.c: In function 'get_which_min_from_Ints_holder':
view_summarization_methods.c:219:36: warning: 'cur_min' may be used uninitialized in this function [-Wuninitialized]
view_summarization_methods.c: In function 'get_which_min_from_Doubles_holder':
view_summarization_methods.c:246:36: warning: 'cur_min' may be used uninitialized in this function [-Wuninitialized]
view_summarization_methods.c: In function 'get_which_max_from_Ints_holder':
view_summarization_methods.c:269:36: warning: 'cur_max' may be used uninitialized in this function [-Wuninitialized]
view_summarization_methods.c: In function 'get_which_max_from_Doubles_holder':
view_summarization_methods.c:296:36: warning: 'cur_max' may be used uninitialized in this function [-Wuninitialized]
gcc -m32 -shared -s -static-libgcc -o XVector.dll tmp.def IRanges_stubs.o Ocopy_byteblocks.o R_init_XVector.o S4Vectors_stubs.o SharedDouble_class.o SharedInteger_class.o SharedRaw_class.o SharedVector_class.o XRawList_comparison.o XVectorList_class.o XVector_class.o io_utils.o slice_methods.o vector_copy.o view_summarization_methods.o -LC:/biocbld/bbs-3.3-bioc/R/library/zlibbioc/libs/i386 -lzlib1bioc -Ld:/RCompile/r-compiling/local/local320/lib/i386 -Ld:/RCompile/r-compiling/local/local320/lib -Lc:/biocbld/BBS-3˜1.3-B/R/bin/i386 -lR
installing to c:/biocbld/bbs-3.3-bioc/R/library/XVector/libs/i386
** R
** inst
** preparing package for lazy loading
Creating a generic function for 'toString' from package 'base' in package 'XVector'
** help
*** installing help indices
** building package indices
** testing if installed package can be loaded

install for x64

* installing to library 'c:/biocbld/bbs-3.3-bioc/R/library'
* installing *source* package 'XVector' ...
** libs
gcc -m64 -I"C:/biocbld/bbs-3.3-bioc/R/library/zlibbioc/include" -I"c:/biocbld/BBS-3˜1.3-B/R/include" -DNDEBUG    -I"c:/biocbld/bbs-3.3-bioc/R/library/S4Vectors/include" -I"c:/biocbld/bbs-3.3-bioc/R/library/IRanges/include" -I"d:/RCompile/r-compiling/local/local320/include"     -O2 -Wall  -std=gnu99 -mtune=core2 -c IRanges_stubs.c -o IRanges_stubs.o
gcc -m64 -I"C:/biocbld/bbs-3.3-bioc/R/library/zlibbioc/include" -I"c:/biocbld/BBS-3˜1.3-B/R/include" -DNDEBUG    -I"c:/biocbld/bbs-3.3-bioc/R/library/S4Vectors/include" -I"c:/biocbld/bbs-3.3-bioc/R/library/IRanges/include" -I"d:/RCompile/r-compiling/local/local320/include"     -O2 -Wall  -std=gnu99 -mtune=core2 -c Ocopy_byteblocks.c -o Ocopy_byteblocks.o
gcc -m64 -I"C:/biocbld/bbs-3.3-bioc/R/library/zlibbioc/include" -I"c:/biocbld/BBS-3˜1.3-B/R/include" -DNDEBUG    -I"c:/biocbld/bbs-3.3-bioc/R/library/S4Vectors/include" -I"c:/biocbld/bbs-3.3-bioc/R/library/IRanges/include" -I"d:/RCompile/r-compiling/local/local320/include"     -O2 -Wall  -std=gnu99 -mtune=core2 -c R_init_XVector.c -o R_init_XVector.o
gcc -m64 -I"C:/biocbld/bbs-3.3-bioc/R/library/zlibbioc/include" -I"c:/biocbld/BBS-3˜1.3-B/R/include" -DNDEBUG    -I"c:/biocbld/bbs-3.3-bioc/R/library/S4Vectors/include" -I"c:/biocbld/bbs-3.3-bioc/R/library/IRanges/include" -I"d:/RCompile/r-compiling/local/local320/include"     -O2 -Wall  -std=gnu99 -mtune=core2 -c S4Vectors_stubs.c -o S4Vectors_stubs.o
gcc -m64 -I"C:/biocbld/bbs-3.3-bioc/R/library/zlibbioc/include" -I"c:/biocbld/BBS-3˜1.3-B/R/include" -DNDEBUG    -I"c:/biocbld/bbs-3.3-bioc/R/library/S4Vectors/include" -I"c:/biocbld/bbs-3.3-bioc/R/library/IRanges/include" -I"d:/RCompile/r-compiling/local/local320/include"     -O2 -Wall  -std=gnu99 -mtune=core2 -c SharedDouble_class.c -o SharedDouble_class.o
gcc -m64 -I"C:/biocbld/bbs-3.3-bioc/R/library/zlibbioc/include" -I"c:/biocbld/BBS-3˜1.3-B/R/include" -DNDEBUG    -I"c:/biocbld/bbs-3.3-bioc/R/library/S4Vectors/include" -I"c:/biocbld/bbs-3.3-bioc/R/library/IRanges/include" -I"d:/RCompile/r-compiling/local/local320/include"     -O2 -Wall  -std=gnu99 -mtune=core2 -c SharedInteger_class.c -o SharedInteger_class.o
gcc -m64 -I"C:/biocbld/bbs-3.3-bioc/R/library/zlibbioc/include" -I"c:/biocbld/BBS-3˜1.3-B/R/include" -DNDEBUG    -I"c:/biocbld/bbs-3.3-bioc/R/library/S4Vectors/include" -I"c:/biocbld/bbs-3.3-bioc/R/library/IRanges/include" -I"d:/RCompile/r-compiling/local/local320/include"     -O2 -Wall  -std=gnu99 -mtune=core2 -c SharedRaw_class.c -o SharedRaw_class.o
SharedRaw_class.c: In function 'SharedRaw_read_complexes_from_subscript':
SharedRaw_class.c:364:13: warning: variable 'src_tag' set but not used [-Wunused-but-set-variable]
gcc -m64 -I"C:/biocbld/bbs-3.3-bioc/R/library/zlibbioc/include" -I"c:/biocbld/BBS-3˜1.3-B/R/include" -DNDEBUG    -I"c:/biocbld/bbs-3.3-bioc/R/library/S4Vectors/include" -I"c:/biocbld/bbs-3.3-bioc/R/library/IRanges/include" -I"d:/RCompile/r-compiling/local/local320/include"     -O2 -Wall  -std=gnu99 -mtune=core2 -c SharedVector_class.c -o SharedVector_class.o
gcc -m64 -I"C:/biocbld/bbs-3.3-bioc/R/library/zlibbioc/include" -I"c:/biocbld/BBS-3˜1.3-B/R/include" -DNDEBUG    -I"c:/biocbld/bbs-3.3-bioc/R/library/S4Vectors/include" -I"c:/biocbld/bbs-3.3-bioc/R/library/IRanges/include" -I"d:/RCompile/r-compiling/local/local320/include"     -O2 -Wall  -std=gnu99 -mtune=core2 -c XRawList_comparison.c -o XRawList_comparison.o
gcc -m64 -I"C:/biocbld/bbs-3.3-bioc/R/library/zlibbioc/include" -I"c:/biocbld/BBS-3˜1.3-B/R/include" -DNDEBUG    -I"c:/biocbld/bbs-3.3-bioc/R/library/S4Vectors/include" -I"c:/biocbld/bbs-3.3-bioc/R/library/IRanges/include" -I"d:/RCompile/r-compiling/local/local320/include"     -O2 -Wall  -std=gnu99 -mtune=core2 -c XVectorList_class.c -o XVectorList_class.o
XVectorList_class.c: In function '_new_XRawList_from_CharAEAE':
XVectorList_class.c:466:33: warning: 'lkup_length' may be used uninitialized in this function [-Wuninitialized]
gcc -m64 -I"C:/biocbld/bbs-3.3-bioc/R/library/zlibbioc/include" -I"c:/biocbld/BBS-3˜1.3-B/R/include" -DNDEBUG    -I"c:/biocbld/bbs-3.3-bioc/R/library/S4Vectors/include" -I"c:/biocbld/bbs-3.3-bioc/R/library/IRanges/include" -I"d:/RCompile/r-compiling/local/local320/include"     -O2 -Wall  -std=gnu99 -mtune=core2 -c XVector_class.c -o XVector_class.o
gcc -m64 -I"C:/biocbld/bbs-3.3-bioc/R/library/zlibbioc/include" -I"c:/biocbld/BBS-3˜1.3-B/R/include" -DNDEBUG    -I"c:/biocbld/bbs-3.3-bioc/R/library/S4Vectors/include" -I"c:/biocbld/bbs-3.3-bioc/R/library/IRanges/include" -I"d:/RCompile/r-compiling/local/local320/include"     -O2 -Wall  -std=gnu99 -mtune=core2 -c io_utils.c -o io_utils.o
gcc -m64 -I"C:/biocbld/bbs-3.3-bioc/R/library/zlibbioc/include" -I"c:/biocbld/BBS-3˜1.3-B/R/include" -DNDEBUG    -I"c:/biocbld/bbs-3.3-bioc/R/library/S4Vectors/include" -I"c:/biocbld/bbs-3.3-bioc/R/library/IRanges/include" -I"d:/RCompile/r-compiling/local/local320/include"     -O2 -Wall  -std=gnu99 -mtune=core2 -c slice_methods.c -o slice_methods.o
gcc -m64 -I"C:/biocbld/bbs-3.3-bioc/R/library/zlibbioc/include" -I"c:/biocbld/BBS-3˜1.3-B/R/include" -DNDEBUG    -I"c:/biocbld/bbs-3.3-bioc/R/library/S4Vectors/include" -I"c:/biocbld/bbs-3.3-bioc/R/library/IRanges/include" -I"d:/RCompile/r-compiling/local/local320/include"     -O2 -Wall  -std=gnu99 -mtune=core2 -c vector_copy.c -o vector_copy.o
gcc -m64 -I"C:/biocbld/bbs-3.3-bioc/R/library/zlibbioc/include" -I"c:/biocbld/BBS-3˜1.3-B/R/include" -DNDEBUG    -I"c:/biocbld/bbs-3.3-bioc/R/library/S4Vectors/include" -I"c:/biocbld/bbs-3.3-bioc/R/library/IRanges/include" -I"d:/RCompile/r-compiling/local/local320/include"     -O2 -Wall  -std=gnu99 -mtune=core2 -c view_summarization_methods.c -o view_summarization_methods.o
view_summarization_methods.c: In function 'get_which_min_from_Ints_holder':
view_summarization_methods.c:219:36: warning: 'cur_min' may be used uninitialized in this function [-Wuninitialized]
view_summarization_methods.c: In function 'get_which_min_from_Doubles_holder':
view_summarization_methods.c:246:36: warning: 'cur_min' may be used uninitialized in this function [-Wuninitialized]
view_summarization_methods.c: In function 'get_which_max_from_Ints_holder':
view_summarization_methods.c:269:36: warning: 'cur_max' may be used uninitialized in this function [-Wuninitialized]
view_summarization_methods.c: In function 'get_which_max_from_Doubles_holder':
view_summarization_methods.c:296:36: warning: 'cur_max' may be used uninitialized in this function [-Wuninitialized]
gcc -m64 -shared -s -static-libgcc -o XVector.dll tmp.def IRanges_stubs.o Ocopy_byteblocks.o R_init_XVector.o S4Vectors_stubs.o SharedDouble_class.o SharedInteger_class.o SharedRaw_class.o SharedVector_class.o XRawList_comparison.o XVectorList_class.o XVector_class.o io_utils.o slice_methods.o vector_copy.o view_summarization_methods.o -LC:/biocbld/bbs-3.3-bioc/R/library/zlibbioc/libs/x64 -lzlib1bioc -Ld:/RCompile/r-compiling/local/local320/lib/x64 -Ld:/RCompile/r-compiling/local/local320/lib -Lc:/biocbld/BBS-3˜1.3-B/R/bin/x64 -lR
installing to c:/biocbld/bbs-3.3-bioc/R/library/XVector/libs/x64
** testing if installed package can be loaded
* DONE (XVector)