affyContam 1.29.0 V. Carey
Snapshot Date: 2015-10-26 20:20:04 -0400 (Mon, 26 Oct 2015) | URL: https://hedgehog.fhcrc.org/bioconductor/trunk/madman/Rpacks/affyContam | Last Changed Rev: 109592 / Revision: 109948 | Last Changed Date: 2015-10-13 15:59:53 -0400 (Tue, 13 Oct 2015) |
| linux2.bioconductor.org | Linux (Ubuntu 14.04.2 LTS) / x86_64 | OK | OK | OK | | |
windows2.bioconductor.org | Windows Server 2012 R2 Enterprise SP1 (64-bit) / x64 | [ OK ] | OK | OK | OK | |
##############################################################################
##############################################################################
###
### Running command:
###
### C:\cygwin64\bin\curl.exe -O http://linux2.bioconductor.org/BBS/3.3/bioc/src/contrib/affyContam_1.29.0.tar.gz && c:\biocbld\bbs-3.3-bioc\R\bin\R.exe CMD INSTALL --merge-multiarch affyContam_1.29.0.tar.gz && rm affyContam_1.29.0.tar.gz
###
##############################################################################
##############################################################################
% Total % Received % Xferd Average Speed Time Time Time Current
Dload Upload Total Spent Left Speed
0 0 0 0 0 0 0 0 --:--:-- --:--:-- --:--:-- 0
100 219k 100 219k 0 0 25.5M 0 --:--:-- --:--:-- --:--:-- 71.5M
install for i386
* installing to library 'c:/biocbld/bbs-3.3-bioc/R/library'
* installing *source* package 'affyContam' ...
** R
** preparing package for lazy loading
Package LibPath Item
[1,] "affydata" "c:/biocbld/bbs-3.3-bioc/R/library" "Dilution"
Title
[1,] "AffyBatch instance Dilution"
** help
*** installing help indices
** building package indices
** installing vignettes
** testing if installed package can be loaded
Package LibPath Item
[1,] "affydata" "c:/biocbld/bbs-3.3-bioc/R/library" "Dilution"
Title
[1,] "AffyBatch instance Dilution"
install for x64
* installing to library 'c:/biocbld/bbs-3.3-bioc/R/library'
* installing *source* package 'affyContam' ...
** testing if installed package can be loaded
Package LibPath Item
[1,] "affydata" "c:/biocbld/bbs-3.3-bioc/R/library" "Dilution"
Title
[1,] "AffyBatch instance Dilution"
* DONE (affyContam)