Back to the "Multiple platform build/check report" | A [B] C D E F G H I J K L M N O P Q R S T U V W X Y Z |
This page was generated on 2016-04-21 13:20:18 -0700 (Thu, 21 Apr 2016).
Package 104/1210 | Hostname | OS / Arch | INSTALL | BUILD | CHECK | BUILD BIN | |||||
biocGraph 1.33.0 Florian Hahne
| zin2 | Linux (Ubuntu 14.04.2 LTS) / x86_64 | OK | OK | OK | ![]() | |||||
moscato2 | Windows Server 2008 R2 Enterprise SP1 (64-bit) / x64 | OK | OK | OK | OK | ![]() | |||||
morelia | Mac OS X Mavericks (10.9.5) / x86_64 | OK | [ OK ] | OK | OK | ![]() |
Package: biocGraph |
Version: 1.33.0 |
Command: /Library/Frameworks/R.framework/Versions/Current/Resources/bin/R CMD build --keep-empty-dirs --no-resave-data biocGraph |
StartedAt: 2016-04-20 18:56:21 -0700 (Wed, 20 Apr 2016) |
EndedAt: 2016-04-20 18:56:42 -0700 (Wed, 20 Apr 2016) |
EllapsedTime: 21.0 seconds |
RetCode: 0 |
Status: OK |
PackageFile: biocGraph_1.33.0.tar.gz |
PackageFileSize: 549.5 KiB |
############################################################################## ############################################################################## ### ### Running command: ### ### /Library/Frameworks/R.framework/Versions/Current/Resources/bin/R CMD build --keep-empty-dirs --no-resave-data biocGraph ### ############################################################################## ############################################################################## * checking for file ‘biocGraph/DESCRIPTION’ ... OK * preparing ‘biocGraph’: * checking DESCRIPTION meta-information ... OK * installing the package to build vignettes * creating vignettes ... OK * checking for LF line-endings in source and make files * checking for empty or unneeded directories * building ‘biocGraph_1.33.0.tar.gz’