Back to the "Multiple platform build/check report" A  B [C] D  E  F  G  H  I  J  K  L  M  N  O  P  Q  R  S  T  U  V  W  X  Y  Z 

BioC 3.3: CHECK report for clipper on windows2.bioconductor.org

This page was generated on 2015-10-27 12:15:11 -0400 (Tue, 27 Oct 2015).

Package 181/1104HostnameOS / ArchINSTALLBUILDCHECKBUILD BIN
clipper 1.11.0
Paolo Martini
Snapshot Date: 2015-10-26 20:20:04 -0400 (Mon, 26 Oct 2015)
URL: https://hedgehog.fhcrc.org/bioconductor/trunk/madman/Rpacks/clipper
Last Changed Rev: 109592 / Revision: 109948
Last Changed Date: 2015-10-13 15:59:53 -0400 (Tue, 13 Oct 2015)
linux2.bioconductor.org Linux (Ubuntu 14.04.2 LTS) / x86_64  OK  OK  OK UNNEEDED, same version exists in internal repository
windows2.bioconductor.org Windows Server 2012 R2 Enterprise SP1 (64-bit) / x64  OK  OK [ OK ] OK UNNEEDED, same version exists in internal repository

Summary

Package: clipper
Version: 1.11.0
Command: rm -rf clipper.buildbin-libdir clipper.Rcheck && mkdir clipper.buildbin-libdir clipper.Rcheck && c:\biocbld\bbs-3.3-bioc\R\bin\R.exe CMD INSTALL --build --merge-multiarch --library=clipper.buildbin-libdir clipper_1.11.0.tar.gz >clipper.Rcheck\00install.out 2>&1 && cp clipper.Rcheck\00install.out clipper-install.out && c:\biocbld\bbs-3.3-bioc\R\bin\R.exe CMD check --library=clipper.buildbin-libdir --install="check:clipper-install.out" --force-multiarch --no-vignettes --timings clipper_1.11.0.tar.gz
StartedAt: 2015-10-27 01:23:47 -0400 (Tue, 27 Oct 2015)
EndedAt: 2015-10-27 01:29:10 -0400 (Tue, 27 Oct 2015)
EllapsedTime: 323.6 seconds
RetCode: 0
Status:  OK  
CheckDir: clipper.Rcheck
Warnings: 0

Command output

##############################################################################
##############################################################################
###
### Running command:
###
###   rm -rf clipper.buildbin-libdir clipper.Rcheck && mkdir clipper.buildbin-libdir clipper.Rcheck && c:\biocbld\bbs-3.3-bioc\R\bin\R.exe CMD INSTALL --build --merge-multiarch --library=clipper.buildbin-libdir clipper_1.11.0.tar.gz >clipper.Rcheck\00install.out 2>&1 && cp clipper.Rcheck\00install.out clipper-install.out  && c:\biocbld\bbs-3.3-bioc\R\bin\R.exe CMD check --library=clipper.buildbin-libdir --install="check:clipper-install.out" --force-multiarch --no-vignettes --timings clipper_1.11.0.tar.gz
###
##############################################################################
##############################################################################


* using log directory 'c:/biocbld/bbs-3.3-bioc/meat/clipper.Rcheck'
* using R Under development (unstable) (2015-09-22 r69418)
* using platform: x86_64-w64-mingw32 (64-bit)
* using session charset: ISO8859-1
* using option '--no-vignettes'
* checking for file 'clipper/DESCRIPTION' ... OK
* this is package 'clipper' version '1.11.0'
* checking package namespace information ... OK
* checking package dependencies ... OK
* checking if this is a source package ... OK
* checking if there is a namespace ... OK
* checking for hidden files and directories ... OK
* checking for portable file names ... OK
* checking whether package 'clipper' can be installed ... OK
* checking installed package size ... OK
* checking package directory ... OK
* checking 'build' directory ... OK
* checking DESCRIPTION meta-information ... OK
* checking top-level files ... OK
* checking for left-over files ... OK
* checking index information ... OK
* checking package subdirectories ... OK
* checking R files for non-ASCII characters ... OK
* checking R files for syntax errors ... OK
* loading checks for arch 'i386'
** checking whether the package can be loaded ... OK
** checking whether the package can be loaded with stated dependencies ... OK
** checking whether the package can be unloaded cleanly ... OK
** checking whether the namespace can be loaded with stated dependencies ... OK
** checking whether the namespace can be unloaded cleanly ... OK
* loading checks for arch 'x64'
** checking whether the package can be loaded ... OK
** checking whether the package can be loaded with stated dependencies ... OK
** checking whether the package can be unloaded cleanly ... OK
** checking whether the namespace can be loaded with stated dependencies ... OK
** checking whether the namespace can be unloaded cleanly ... OK
* checking dependencies in R code ... OK
* checking S3 generic/method consistency ... OK
* checking replacement functions ... OK
* checking foreign function calls ... OK
* checking R code for possible problems ... OK
* checking Rd files ... OK
* checking Rd metadata ... OK
* checking Rd cross-references ... OK
* checking for missing documentation entries ... OK
* checking for code/documentation mismatches ... OK
* checking Rd \usage sections ... OK
* checking Rd contents ... OK
* checking for unstated dependencies in examples ... OK
* checking installed files from 'inst/doc' ... OK
* checking files in 'vignettes' ... OK
* checking examples ...
** running examples for arch 'i386' ... [44s] OK
Examples with CPU or elapsed time > 5s
                user system elapsed
clipperAllRoots 9.72   0.03    9.75
pathwayTest     7.28   0.14    7.42
clipper         5.02   0.08    5.13
** running examples for arch 'x64' ... [44s] OK
Examples with CPU or elapsed time > 5s
                 user system elapsed
clipperAllRoots 10.33   0.05   10.37
pathwayTest      7.61   0.03    7.64
* checking for unstated dependencies in 'tests' ... OK
* checking tests ...
** running tests for arch 'i386' ...
  Running 'runTests.R' [10s]
 [11s] OK
** running tests for arch 'x64' ...
  Running 'runTests.R' [13s]
 [13s] OK
* checking for unstated dependencies in vignettes ... OK
* checking package vignettes in 'inst/doc' ... OK
* checking running R code from vignettes ... SKIPPED
* checking re-building of vignette outputs ... SKIPPED
* checking PDF version of manual ... OK
* DONE

Status: OK

clipper.Rcheck/00install.out:


install for i386

* installing *source* package 'clipper' ...
** R
** inst
** preparing package for lazy loading
** help
*** installing help indices
** building package indices
** installing vignettes
** testing if installed package can be loaded

install for x64

* installing *source* package 'clipper' ...
** testing if installed package can be loaded
* MD5 sums
packaged installation of 'clipper' as clipper_1.11.0.zip
* DONE (clipper)

clipper.Rcheck/examples_i386/clipper-Ex.timings:

nameusersystemelapsed
clipper5.020.085.13
clipperAllRoots9.720.039.75
cliqueMeanTest2.490.092.58
cliqueMixedTest2.950.113.06
cliquePairedTest2.980.063.05
cliqueVarianceTest2.860.072.93
deleteEdge0.180.040.24
easyClip2.880.032.90
getGraphEntryGenes0.170.000.17
getJunctionTreePaths0.170.020.19
nameCliques000
pathwayTest7.280.147.42
plotInCytoscape000
prunePaths000

clipper.Rcheck/examples_x64/clipper-Ex.timings:

nameusersystemelapsed
clipper4.720.034.75
clipperAllRoots10.33 0.0510.37
cliqueMeanTest2.560.052.61
cliqueMixedTest2.580.032.61
cliquePairedTest2.880.002.87
cliqueVarianceTest2.530.022.55
deleteEdge0.170.000.17
easyClip2.470.002.47
getGraphEntryGenes0.210.000.21
getJunctionTreePaths0.180.000.18
nameCliques0.000.000.02
pathwayTest7.610.037.64
plotInCytoscape000
prunePaths000