flowCore 1.37.1 M.Jiang
Snapshot Date: 2015-10-26 20:20:04 -0400 (Mon, 26 Oct 2015) | URL: https://hedgehog.fhcrc.org/bioconductor/trunk/madman/Rpacks/flowCore | Last Changed Rev: 109750 / Revision: 109948 | Last Changed Date: 2015-10-19 17:17:45 -0400 (Mon, 19 Oct 2015) |
| linux2.bioconductor.org | Linux (Ubuntu 14.04.2 LTS) / x86_64 | [ OK ] | OK | OK | | ![UNNEEDED, same version exists in internal repository UNNEEDED, same version exists in internal repository](../120px-Blue_Light_Icon.svg.png) |
windows2.bioconductor.org | Windows Server 2012 R2 Enterprise SP1 (64-bit) / x64 | OK | OK | OK | OK | ![UNNEEDED, same version exists in internal repository UNNEEDED, same version exists in internal repository](../120px-Blue_Light_Icon.svg.png) |
##############################################################################
##############################################################################
###
### Running command:
###
### /home/biocbuild/bbs-3.3-bioc/R/bin/R CMD INSTALL flowCore
###
##############################################################################
##############################################################################
* installing to library ‘/home/biocbuild/bbs-3.3-bioc/R/library’
* installing *source* package ‘flowCore’ ...
** libs
g++ -I/home/biocbuild/bbs-3.3-bioc/R/include -DNDEBUG -I/usr/local/include -I"/home/biocbuild/bbs-3.3-bioc/R/library/Rcpp/include" -I"/home/biocbuild/bbs-3.3-bioc/R/library/BH/include" -fpic -g -O2 -c FastLogicle.cpp -o FastLogicle.o
g++ -I/home/biocbuild/bbs-3.3-bioc/R/include -DNDEBUG -I/usr/local/include -I"/home/biocbuild/bbs-3.3-bioc/R/library/Rcpp/include" -I"/home/biocbuild/bbs-3.3-bioc/R/library/BH/include" -fpic -g -O2 -c Hyperlog.cpp -o Hyperlog.o
g++ -I/home/biocbuild/bbs-3.3-bioc/R/include -DNDEBUG -I/usr/local/include -I"/home/biocbuild/bbs-3.3-bioc/R/library/Rcpp/include" -I"/home/biocbuild/bbs-3.3-bioc/R/library/BH/include" -fpic -g -O2 -c Logicle.cpp -o Logicle.o
g++ -I/home/biocbuild/bbs-3.3-bioc/R/include -DNDEBUG -I/usr/local/include -I"/home/biocbuild/bbs-3.3-bioc/R/library/Rcpp/include" -I"/home/biocbuild/bbs-3.3-bioc/R/library/BH/include" -fpic -g -O2 -c RcppExports.cpp -o RcppExports.o
gcc -std=gnu99 -I/home/biocbuild/bbs-3.3-bioc/R/include -DNDEBUG -I/usr/local/include -I"/home/biocbuild/bbs-3.3-bioc/R/library/Rcpp/include" -I"/home/biocbuild/bbs-3.3-bioc/R/library/BH/include" -fpic -g -O2 -c biexponential.c -o biexponential.o
g++ -I/home/biocbuild/bbs-3.3-bioc/R/include -DNDEBUG -I/usr/local/include -I"/home/biocbuild/bbs-3.3-bioc/R/library/Rcpp/include" -I"/home/biocbuild/bbs-3.3-bioc/R/library/BH/include" -fpic -g -O2 -c fcsTextParse.cpp -o fcsTextParse.o
g++ -I/home/biocbuild/bbs-3.3-bioc/R/include -DNDEBUG -I/usr/local/include -I"/home/biocbuild/bbs-3.3-bioc/R/library/Rcpp/include" -I"/home/biocbuild/bbs-3.3-bioc/R/library/BH/include" -fpic -g -O2 -c hyperlogTransform.cpp -o hyperlogTransform.o
gcc -std=gnu99 -I/home/biocbuild/bbs-3.3-bioc/R/include -DNDEBUG -I/usr/local/include -I"/home/biocbuild/bbs-3.3-bioc/R/library/Rcpp/include" -I"/home/biocbuild/bbs-3.3-bioc/R/library/BH/include" -fpic -g -O2 -c inPolygon.c -o inPolygon.o
gcc -std=gnu99 -I/home/biocbuild/bbs-3.3-bioc/R/include -DNDEBUG -I/usr/local/include -I"/home/biocbuild/bbs-3.3-bioc/R/library/Rcpp/include" -I"/home/biocbuild/bbs-3.3-bioc/R/library/BH/include" -fpic -g -O2 -c inPolytope.c -o inPolytope.o
gcc -std=gnu99 -I/home/biocbuild/bbs-3.3-bioc/R/include -DNDEBUG -I/usr/local/include -I"/home/biocbuild/bbs-3.3-bioc/R/library/Rcpp/include" -I"/home/biocbuild/bbs-3.3-bioc/R/library/BH/include" -fpic -g -O2 -c init.c -o init.o
g++ -I/home/biocbuild/bbs-3.3-bioc/R/include -DNDEBUG -I/usr/local/include -I"/home/biocbuild/bbs-3.3-bioc/R/library/Rcpp/include" -I"/home/biocbuild/bbs-3.3-bioc/R/library/BH/include" -fpic -g -O2 -c logicleTransform.cpp -o logicleTransform.o
g++ -I/home/biocbuild/bbs-3.3-bioc/R/include -DNDEBUG -I/usr/local/include -I"/home/biocbuild/bbs-3.3-bioc/R/library/Rcpp/include" -I"/home/biocbuild/bbs-3.3-bioc/R/library/BH/include" -fpic -g -O2 -c pairVectorRcppWrap.cpp -o pairVectorRcppWrap.o
g++ -I/home/biocbuild/bbs-3.3-bioc/R/include -DNDEBUG -I/usr/local/include -I"/home/biocbuild/bbs-3.3-bioc/R/library/Rcpp/include" -I"/home/biocbuild/bbs-3.3-bioc/R/library/BH/include" -fpic -g -O2 -c uint2double.cpp -o uint2double.o
gcc -std=gnu99 -I/home/biocbuild/bbs-3.3-bioc/R/include -DNDEBUG -I/usr/local/include -I"/home/biocbuild/bbs-3.3-bioc/R/library/Rcpp/include" -I"/home/biocbuild/bbs-3.3-bioc/R/library/BH/include" -fpic -g -O2 -c zeroin.c -o zeroin.o
g++ -I/home/biocbuild/bbs-3.3-bioc/R/include -DNDEBUG -I/usr/local/include -I"/home/biocbuild/bbs-3.3-bioc/R/library/Rcpp/include" -I"/home/biocbuild/bbs-3.3-bioc/R/library/BH/include" -fpic -g -O2 -c boost_regex/c_regex_traits.cpp -o boost_regex/c_regex_traits.o
g++ -I/home/biocbuild/bbs-3.3-bioc/R/include -DNDEBUG -I/usr/local/include -I"/home/biocbuild/bbs-3.3-bioc/R/library/Rcpp/include" -I"/home/biocbuild/bbs-3.3-bioc/R/library/BH/include" -fpic -g -O2 -c boost_regex/cpp_regex_traits.cpp -o boost_regex/cpp_regex_traits.o
g++ -I/home/biocbuild/bbs-3.3-bioc/R/include -DNDEBUG -I/usr/local/include -I"/home/biocbuild/bbs-3.3-bioc/R/library/Rcpp/include" -I"/home/biocbuild/bbs-3.3-bioc/R/library/BH/include" -fpic -g -O2 -c boost_regex/cregex.cpp -o boost_regex/cregex.o
g++ -I/home/biocbuild/bbs-3.3-bioc/R/include -DNDEBUG -I/usr/local/include -I"/home/biocbuild/bbs-3.3-bioc/R/library/Rcpp/include" -I"/home/biocbuild/bbs-3.3-bioc/R/library/BH/include" -fpic -g -O2 -c boost_regex/fileiter.cpp -o boost_regex/fileiter.o
g++ -I/home/biocbuild/bbs-3.3-bioc/R/include -DNDEBUG -I/usr/local/include -I"/home/biocbuild/bbs-3.3-bioc/R/library/Rcpp/include" -I"/home/biocbuild/bbs-3.3-bioc/R/library/BH/include" -fpic -g -O2 -c boost_regex/icu.cpp -o boost_regex/icu.o
g++ -I/home/biocbuild/bbs-3.3-bioc/R/include -DNDEBUG -I/usr/local/include -I"/home/biocbuild/bbs-3.3-bioc/R/library/Rcpp/include" -I"/home/biocbuild/bbs-3.3-bioc/R/library/BH/include" -fpic -g -O2 -c boost_regex/instances.cpp -o boost_regex/instances.o
g++ -I/home/biocbuild/bbs-3.3-bioc/R/include -DNDEBUG -I/usr/local/include -I"/home/biocbuild/bbs-3.3-bioc/R/library/Rcpp/include" -I"/home/biocbuild/bbs-3.3-bioc/R/library/BH/include" -fpic -g -O2 -c boost_regex/posix_api.cpp -o boost_regex/posix_api.o
g++ -I/home/biocbuild/bbs-3.3-bioc/R/include -DNDEBUG -I/usr/local/include -I"/home/biocbuild/bbs-3.3-bioc/R/library/Rcpp/include" -I"/home/biocbuild/bbs-3.3-bioc/R/library/BH/include" -fpic -g -O2 -c boost_regex/regex.cpp -o boost_regex/regex.o
g++ -I/home/biocbuild/bbs-3.3-bioc/R/include -DNDEBUG -I/usr/local/include -I"/home/biocbuild/bbs-3.3-bioc/R/library/Rcpp/include" -I"/home/biocbuild/bbs-3.3-bioc/R/library/BH/include" -fpic -g -O2 -c boost_regex/regex_debug.cpp -o boost_regex/regex_debug.o
g++ -I/home/biocbuild/bbs-3.3-bioc/R/include -DNDEBUG -I/usr/local/include -I"/home/biocbuild/bbs-3.3-bioc/R/library/Rcpp/include" -I"/home/biocbuild/bbs-3.3-bioc/R/library/BH/include" -fpic -g -O2 -c boost_regex/regex_raw_buffer.cpp -o boost_regex/regex_raw_buffer.o
g++ -I/home/biocbuild/bbs-3.3-bioc/R/include -DNDEBUG -I/usr/local/include -I"/home/biocbuild/bbs-3.3-bioc/R/library/Rcpp/include" -I"/home/biocbuild/bbs-3.3-bioc/R/library/BH/include" -fpic -g -O2 -c boost_regex/regex_traits_defaults.cpp -o boost_regex/regex_traits_defaults.o
g++ -I/home/biocbuild/bbs-3.3-bioc/R/include -DNDEBUG -I/usr/local/include -I"/home/biocbuild/bbs-3.3-bioc/R/library/Rcpp/include" -I"/home/biocbuild/bbs-3.3-bioc/R/library/BH/include" -fpic -g -O2 -c boost_regex/static_mutex.cpp -o boost_regex/static_mutex.o
g++ -I/home/biocbuild/bbs-3.3-bioc/R/include -DNDEBUG -I/usr/local/include -I"/home/biocbuild/bbs-3.3-bioc/R/library/Rcpp/include" -I"/home/biocbuild/bbs-3.3-bioc/R/library/BH/include" -fpic -g -O2 -c boost_regex/usinstances.cpp -o boost_regex/usinstances.o
g++ -I/home/biocbuild/bbs-3.3-bioc/R/include -DNDEBUG -I/usr/local/include -I"/home/biocbuild/bbs-3.3-bioc/R/library/Rcpp/include" -I"/home/biocbuild/bbs-3.3-bioc/R/library/BH/include" -fpic -g -O2 -c boost_regex/w32_regex_traits.cpp -o boost_regex/w32_regex_traits.o
g++ -I/home/biocbuild/bbs-3.3-bioc/R/include -DNDEBUG -I/usr/local/include -I"/home/biocbuild/bbs-3.3-bioc/R/library/Rcpp/include" -I"/home/biocbuild/bbs-3.3-bioc/R/library/BH/include" -fpic -g -O2 -c boost_regex/wc_regex_traits.cpp -o boost_regex/wc_regex_traits.o
g++ -I/home/biocbuild/bbs-3.3-bioc/R/include -DNDEBUG -I/usr/local/include -I"/home/biocbuild/bbs-3.3-bioc/R/library/Rcpp/include" -I"/home/biocbuild/bbs-3.3-bioc/R/library/BH/include" -fpic -g -O2 -c boost_regex/wide_posix_api.cpp -o boost_regex/wide_posix_api.o
g++ -I/home/biocbuild/bbs-3.3-bioc/R/include -DNDEBUG -I/usr/local/include -I"/home/biocbuild/bbs-3.3-bioc/R/library/Rcpp/include" -I"/home/biocbuild/bbs-3.3-bioc/R/library/BH/include" -fpic -g -O2 -c boost_regex/winstances.cpp -o boost_regex/winstances.o
mkdir -p "/home/biocbuild/bbs-3.3-bioc/R/library/flowCore/lib"
ar rs "/home/biocbuild/bbs-3.3-bioc/R/library/flowCore/lib/libboost_regex.a" boost_regex/c_regex_traits.o boost_regex/cpp_regex_traits.o boost_regex/cregex.o boost_regex/fileiter.o boost_regex/icu.o boost_regex/instances.o boost_regex/posix_api.o boost_regex/regex.o boost_regex/regex_debug.o boost_regex/regex_raw_buffer.o boost_regex/regex_traits_defaults.o boost_regex/static_mutex.o boost_regex/usinstances.o boost_regex/w32_regex_traits.o boost_regex/wc_regex_traits.o boost_regex/wide_posix_api.o boost_regex/winstances.o
ar: creating /home/biocbuild/bbs-3.3-bioc/R/library/flowCore/lib/libboost_regex.a
g++ -shared -L/home/biocbuild/bbs-3.3-bioc/R/lib -L/usr/local/lib -o flowCore.so FastLogicle.o Hyperlog.o Logicle.o RcppExports.o biexponential.o fcsTextParse.o hyperlogTransform.o inPolygon.o inPolytope.o init.o logicleTransform.o pairVectorRcppWrap.o uint2double.o zeroin.o /home/biocbuild/bbs-3.3-bioc/R/library/flowCore/lib/libboost_regex.a -L/home/biocbuild/bbs-3.3-bioc/R/lib -lR
installing to /home/biocbuild/bbs-3.3-bioc/R/library/flowCore/libs
** R
** data
** inst
** preparing package for lazy loading
** help
*** installing help indices
** building package indices
** installing vignettes
‘HowTo-flowCore.Rnw’
** testing if installed package can be loaded
* DONE (flowCore)