flowWorkspace 3.18.11 Greg Finak ,Mike Jiang
Snapshot Date: 2016-10-12 17:20:15 -0700 (Wed, 12 Oct 2016) | URL: https://hedgehog.fhcrc.org/bioconductor/branches/RELEASE_3_3/madman/Rpacks/flowWorkspace | Last Changed Rev: 121570 / Revision: 122332 | Last Changed Date: 2016-09-29 15:07:47 -0700 (Thu, 29 Sep 2016) |
| zin2 | Linux (Ubuntu 14.04.2 LTS) / x86_64 | OK | OK | WARNINGS | | |
moscato2 | Windows Server 2008 R2 Enterprise SP1 (64-bit) / x64 | OK | [ OK ] | WARNINGS | OK | |
oaxaca | Mac OS X Mavericks (10.9.5) / x86_64 | OK | OK | WARNINGS | OK | |
##############################################################################
##############################################################################
###
### Running command:
###
### chmod a+r flowWorkspace -R && E:\biocbld\bbs-3.3-bioc\R\bin\R.exe CMD build --keep-empty-dirs --no-resave-data flowWorkspace
###
##############################################################################
##############################################################################
* checking for file 'flowWorkspace/DESCRIPTION' ... OK
* preparing 'flowWorkspace':
* checking DESCRIPTION meta-information ... OK
* cleaning src
* installing the package to build vignettes
* creating vignettes ... OK
* cleaning src
* checking for LF line-endings in source and make files
* checking for empty or unneeded directories
WARNING: directory 'flowWorkspace/example' is empty
WARNING: directory 'flowWorkspace/inst/include/flowWorkspace' is empty
WARNING: directory 'flowWorkspace/src/boost_serialization/boost/archive' is empty
WARNING: directory 'flowWorkspace/src/boost_serialization/boost/serialization' is empty
WARNING: directory 'flowWorkspace/src/serialization' is empty
WARNING: directory 'flowWorkspace/src/unitTest' is empty
* building 'flowWorkspace_3.18.11.tar.gz'
Warning: file 'flowWorkspace/cleanup' did not have execute permissions: corrected
Warning: file 'flowWorkspace/configure' did not have execute permissions: corrected