Back to the "Multiple platform build/check report" A  B  C  D  E  F [G] H  I  J  K  L  M  N  O  P  Q  R  S  T  U  V  W  X  Y  Z 

BioC 3.3: BUILD BIN report for gage on morelia

This page was generated on 2016-04-21 13:22:01 -0700 (Thu, 21 Apr 2016).

Package 426/1210HostnameOS / ArchINSTALLBUILDCHECKBUILD BIN
gage 2.21.1
Weijun Luo
Snapshot Date: 2016-04-20 17:20:35 -0700 (Wed, 20 Apr 2016)
URL: https://hedgehog.fhcrc.org/bioconductor/trunk/madman/Rpacks/gage
Last Changed Rev: 113823 / Revision: 116626
Last Changed Date: 2016-02-19 13:31:06 -0800 (Fri, 19 Feb 2016)
zin2 Linux (Ubuntu 14.04.2 LTS) / x86_64  OK  OK  OK UNNEEDED, same version exists in internal repository
moscato2 Windows Server 2008 R2 Enterprise SP1 (64-bit) / x64  OK  OK  OK  OK UNNEEDED, same version exists in internal repository
morelia Mac OS X Mavericks (10.9.5) / x86_64  OK  OK  OK [ OK ]UNNEEDED, same version exists in internal repository

Summary

Package: gage
Version: 2.21.1
Command: rm -rf gage.buildbin-libdir && mkdir gage.buildbin-libdir && /Users/biocbuild/BBS/utils/build-universal.sh gage_2.21.1.tar.gz /Library/Frameworks/R.framework/Versions/Current/Resources/bin/R gage.buildbin-libdir
StartedAt: 2016-04-21 08:56:36 -0700 (Thu, 21 Apr 2016)
EndedAt: 2016-04-21 08:56:46 -0700 (Thu, 21 Apr 2016)
EllapsedTime: 10.1 seconds
RetCode: 0
Status:  OK 
PackageFile: gage_2.21.1.tgz
PackageFileSize: 2.499 MiB

Command output

##############################################################################
##############################################################################
###
### Running command:
###
###   rm -rf gage.buildbin-libdir && mkdir gage.buildbin-libdir && /Users/biocbuild/BBS/utils/build-universal.sh gage_2.21.1.tar.gz /Library/Frameworks/R.framework/Versions/Current/Resources/bin/R gage.buildbin-libdir
###
##############################################################################
##############################################################################


>>>>>>> 
>>>>>>> INSTALLATION WITH 'R CMD INSTALL --preclean --no-multiarch --library=gage.buildbin-libdir gage_2.21.1.tar.gz'
>>>>>>> 

* installing *source* package ‘gage’ ...
** R
** data
** inst
** preparing package for lazy loading
** help
*** installing help indices
** building package indices
** installing vignettes
** testing if installed package can be loaded
* DONE (gage)