##############################################################################
##############################################################################
###
### Running command:
###
### chmod a+r genomation -R && E:\biocbld\bbs-3.3-bioc\R\bin\R.exe CMD build --keep-empty-dirs --no-resave-data genomation
###
##############################################################################
##############################################################################
* checking for file 'genomation/DESCRIPTION' ... OK
* preparing 'genomation':
* checking DESCRIPTION meta-information ... OK
* installing the package to build vignettes
* creating vignettes ... OK
* checking for LF line-endings in source and make files
* checking for empty or unneeded directories
WARNING: directory 'genomation/inst/doc/Figures' is empty
WARNING: directory 'genomation/inst/tests' is empty
* looking to see if a 'data/datalist' file should be added
* building 'genomation_1.4.2.tar.gz'
Warning in utils::tar(filepath, pkgname, compression = "gzip", compression_level = 9L, :
storing paths of more than 100 bytes is not portable:
'genomation/vignettes/GenomationManual-knitr_cache/html/ScoreMatrixBinExample_274efa0648441d109ea9402a3f0ea48c.RData'
Warning in utils::tar(filepath, pkgname, compression = "gzip", compression_level = 9L, :
storing paths of more than 100 bytes is not portable:
'genomation/vignettes/GenomationManual-knitr_cache/html/ScoreMatrixBinExample_274efa0648441d109ea9402a3f0ea48c.rdb'
Warning in utils::tar(filepath, pkgname, compression = "gzip", compression_level = 9L, :
storing paths of more than 100 bytes is not portable:
'genomation/vignettes/GenomationManual-knitr_cache/html/ScoreMatrixBinExample_274efa0648441d109ea9402a3f0ea48c.rdx'
Warning in utils::tar(filepath, pkgname, compression = "gzip", compression_level = 9L, :
storing paths of more than 100 bytes is not portable:
'genomation/vignettes/GenomationManual-knitr_cache/html/ScoreMatrixExample_718a849989010848e9ae7f6d80519caa.RData'
Warning in utils::tar(filepath, pkgname, compression = "gzip", compression_level = 9L, :
storing paths of more than 100 bytes is not portable:
'genomation/vignettes/GenomationManual-knitr_cache/html/ScoreMatrixExample_718a849989010848e9ae7f6d80519caa.rdb'
Warning in utils::tar(filepath, pkgname, compression = "gzip", compression_level = 9L, :
storing paths of more than 100 bytes is not portable:
'genomation/vignettes/GenomationManual-knitr_cache/html/ScoreMatrixExample_718a849989010848e9ae7f6d80519caa.rdx'
Warning in utils::tar(filepath, pkgname, compression = "gzip", compression_level = 9L, :
storing paths of more than 100 bytes is not portable:
'genomation/vignettes/GenomationManual-knitr_cache/html/ScoreMatrixList_e5fe1283c0727f53343784599d0565ee.RData'
Warning in utils::tar(filepath, pkgname, compression = "gzip", compression_level = 9L, :
storing paths of more than 100 bytes is not portable:
'genomation/vignettes/GenomationManual-knitr_cache/html/ScoreMatrixList_e5fe1283c0727f53343784599d0565ee.rdb'
Warning in utils::tar(filepath, pkgname, compression = "gzip", compression_level = 9L, :
storing paths of more than 100 bytes is not portable:
'genomation/vignettes/GenomationManual-knitr_cache/html/ScoreMatrixList_e5fe1283c0727f53343784599d0565ee.rdx'
Warning in utils::tar(filepath, pkgname, compression = "gzip", compression_level = 9L, :
storing paths of more than 100 bytes is not portable:
'genomation/vignettes/GenomationManual-knitr_cache/html/annotateCtcf_14231c92fd28c5c61592d58d8e199fe3.RData'
Warning in utils::tar(filepath, pkgname, compression = "gzip", compression_level = 9L, :
storing paths of more than 100 bytes is not portable:
'genomation/vignettes/GenomationManual-knitr_cache/html/annotateCtcf_14231c92fd28c5c61592d58d8e199fe3.rdb'
Warning in utils::tar(filepath, pkgname, compression = "gzip", compression_level = 9L, :
storing paths of more than 100 bytes is not portable:
'genomation/vignettes/GenomationManual-knitr_cache/html/annotateCtcf_14231c92fd28c5c61592d58d8e199fe3.rdx'
Warning in utils::tar(filepath, pkgname, compression = "gzip", compression_level = 9L, :
storing paths of more than 100 bytes is not portable:
'genomation/vignettes/GenomationManual-knitr_cache/html/annotateTargetList_fd531f66a6c4d9822428afc146dbe8ca.RData'
Warning in utils::tar(filepath, pkgname, compression = "gzip", compression_level = 9L, :
storing paths of more than 100 bytes is not portable:
'genomation/vignettes/GenomationManual-knitr_cache/html/annotateTargetList_fd531f66a6c4d9822428afc146dbe8ca.rdb'
Warning in utils::tar(filepath, pkgname, compression = "gzip", compression_level = 9L, :
storing paths of more than 100 bytes is not portable:
'genomation/vignettes/GenomationManual-knitr_cache/html/annotateTargetList_fd531f66a6c4d9822428afc146dbe8ca.rdx'
Warning in utils::tar(filepath, pkgname, compression = "gzip", compression_level = 9L, :
storing paths of more than 100 bytes is not portable:
'genomation/vignettes/GenomationManual-knitr_cache/html/annotationHubExample1_8bebabf01f89682e12689c5128ebdda2.RData'
Warning in utils::tar(filepath, pkgname, compression = "gzip", compression_level = 9L, :
storing paths of more than 100 bytes is not portable:
'genomation/vignettes/GenomationManual-knitr_cache/html/annotationHubExample1_8bebabf01f89682e12689c5128ebdda2.rdb'
Warning in utils::tar(filepath, pkgname, compression = "gzip", compression_level = 9L, :
storing paths of more than 100 bytes is not portable:
'genomation/vignettes/GenomationManual-knitr_cache/html/annotationHubExample1_8bebabf01f89682e12689c5128ebdda2.rdx'
Warning in utils::tar(filepath, pkgname, compression = "gzip", compression_level = 9L, :
storing paths of more than 100 bytes is not portable:
'genomation/vignettes/GenomationManual-knitr_cache/html/ctcfScoreMatrixList_52c9790983c8052ece16301cd36b46c2.RData'
Warning in utils::tar(filepath, pkgname, compression = "gzip", compression_level = 9L, :
storing paths of more than 100 bytes is not portable:
'genomation/vignettes/GenomationManual-knitr_cache/html/ctcfScoreMatrixList_52c9790983c8052ece16301cd36b46c2.rdb'
Warning in utils::tar(filepath, pkgname, compression = "gzip", compression_level = 9L, :
storing paths of more than 100 bytes is not portable:
'genomation/vignettes/GenomationManual-knitr_cache/html/ctcfScoreMatrixList_52c9790983c8052ece16301cd36b46c2.rdx'
Warning in utils::tar(filepath, pkgname, compression = "gzip", compression_level = 9L, :
storing paths of more than 100 bytes is not portable:
'genomation/vignettes/GenomationManual-knitr_cache/html/eadAllPeaks_f06fc748c7a50c4aad889cfc73e5d57e.RData'
Warning in utils::tar(filepath, pkgname, compression = "gzip", compression_level = 9L, :
storing paths of more than 100 bytes is not portable:
'genomation/vignettes/GenomationManual-knitr_cache/html/eadAllPeaks_f06fc748c7a50c4aad889cfc73e5d57e.rdb'
Warning in utils::tar(filepath, pkgname, compression = "gzip", compression_level = 9L, :
storing paths of more than 100 bytes is not portable:
'genomation/vignettes/GenomationManual-knitr_cache/html/eadAllPeaks_f06fc748c7a50c4aad889cfc73e5d57e.rdx'
Warning in utils::tar(filepath, pkgname, compression = "gzip", compression_level = 9L, :
storing paths of more than 100 bytes is not portable:
'genomation/vignettes/GenomationManual-knitr_cache/html/findFeatureComb_1468c94769d843bbd179972d92f2897c.RData'
Warning in utils::tar(filepath, pkgname, compression = "gzip", compression_level = 9L, :
storing paths of more than 100 bytes is not portable:
'genomation/vignettes/GenomationManual-knitr_cache/html/findFeatureComb_1468c94769d843bbd179972d92f2897c.rdb'
Warning in utils::tar(filepath, pkgname, compression = "gzip", compression_level = 9L, :
storing paths of more than 100 bytes is not portable:
'genomation/vignettes/GenomationManual-knitr_cache/html/findFeatureComb_1468c94769d843bbd179972d92f2897c.rdx'
Warning in utils::tar(filepath, pkgname, compression = "gzip", compression_level = 9L, :
storing paths of more than 100 bytes is not portable:
'genomation/vignettes/GenomationManual-knitr_cache/html/genomationDataInfo_96cd24e581e802817afb88e1b0c03ae1.RData'
Warning in utils::tar(filepath, pkgname, compression = "gzip", compression_level = 9L, :
storing paths of more than 100 bytes is not portable:
'genomation/vignettes/GenomationManual-knitr_cache/html/genomationDataInfo_96cd24e581e802817afb88e1b0c03ae1.rdb'
Warning in utils::tar(filepath, pkgname, compression = "gzip", compression_level = 9L, :
storing paths of more than 100 bytes is not portable:
'genomation/vignettes/GenomationManual-knitr_cache/html/genomationDataInfo_96cd24e581e802817afb88e1b0c03ae1.rdx'
Warning in utils::tar(filepath, pkgname, compression = "gzip", compression_level = 9L, :
storing paths of more than 100 bytes is not portable:
'genomation/vignettes/GenomationManual-knitr_cache/html/genomationInfo_293227118e0b877587eb4ff8964379ae.RData'
Warning in utils::tar(filepath, pkgname, compression = "gzip", compression_level = 9L, :
storing paths of more than 100 bytes is not portable:
'genomation/vignettes/GenomationManual-knitr_cache/html/genomationInfo_293227118e0b877587eb4ff8964379ae.rdb'
Warning in utils::tar(filepath, pkgname, compression = "gzip", compression_level = 9L, :
storing paths of more than 100 bytes is not portable:
'genomation/vignettes/GenomationManual-knitr_cache/html/genomationInfo_293227118e0b877587eb4ff8964379ae.rdx'
Warning in utils::tar(filepath, pkgname, compression = "gzip", compression_level = 9L, :
storing paths of more than 100 bytes is not portable:
'genomation/vignettes/GenomationManual-knitr_cache/html/getFiles_annotation_3b0a426f4132db538281fb81e5fec4fe.RData'
Warning in utils::tar(filepath, pkgname, compression = "gzip", compression_level = 9L, :
storing paths of more than 100 bytes is not portable:
'genomation/vignettes/GenomationManual-knitr_cache/html/getFiles_annotation_3b0a426f4132db538281fb81e5fec4fe.rdb'
Warning in utils::tar(filepath, pkgname, compression = "gzip", compression_level = 9L, :
storing paths of more than 100 bytes is not portable:
'genomation/vignettes/GenomationManual-knitr_cache/html/getFiles_annotation_3b0a426f4132db538281fb81e5fec4fe.rdx'
Warning in utils::tar(filepath, pkgname, compression = "gzip", compression_level = 9L, :
storing paths of more than 100 bytes is not portable:
'genomation/vignettes/GenomationManual-knitr_cache/html/heatMatrix1_9af7834cdea00df73e5ce2c1487595d8.RData'
Warning in utils::tar(filepath, pkgname, compression = "gzip", compression_level = 9L, :
storing paths of more than 100 bytes is not portable:
'genomation/vignettes/GenomationManual-knitr_cache/html/heatMatrix1_9af7834cdea00df73e5ce2c1487595d8.rdb'
Warning in utils::tar(filepath, pkgname, compression = "gzip", compression_level = 9L, :
storing paths of more than 100 bytes is not portable:
'genomation/vignettes/GenomationManual-knitr_cache/html/heatMatrix1_9af7834cdea00df73e5ce2c1487595d8.rdx'
Warning in utils::tar(filepath, pkgname, compression = "gzip", compression_level = 9L, :
storing paths of more than 100 bytes is not portable:
'genomation/vignettes/GenomationManual-knitr_cache/html/heatMatrix2_799eb5942cbd55f40d3634e2ec124135.RData'
Warning in utils::tar(filepath, pkgname, compression = "gzip", compression_level = 9L, :
storing paths of more than 100 bytes is not portable:
'genomation/vignettes/GenomationManual-knitr_cache/html/heatMatrix2_799eb5942cbd55f40d3634e2ec124135.rdb'
Warning in utils::tar(filepath, pkgname, compression = "gzip", compression_level = 9L, :
storing paths of more than 100 bytes is not portable:
'genomation/vignettes/GenomationManual-knitr_cache/html/heatMatrix2_799eb5942cbd55f40d3634e2ec124135.rdx'
Warning in utils::tar(filepath, pkgname, compression = "gzip", compression_level = 9L, :
storing paths of more than 100 bytes is not portable:
'genomation/vignettes/GenomationManual-knitr_cache/html/heatMatrixScales_54f1d4f614a054099620c44f5c4e9186.RData'
Warning in utils::tar(filepath, pkgname, compression = "gzip", compression_level = 9L, :
storing paths of more than 100 bytes is not portable:
'genomation/vignettes/GenomationManual-knitr_cache/html/heatMatrixScales_54f1d4f614a054099620c44f5c4e9186.rdb'
Warning in utils::tar(filepath, pkgname, compression = "gzip", compression_level = 9L, :
storing paths of more than 100 bytes is not portable:
'genomation/vignettes/GenomationManual-knitr_cache/html/heatMatrixScales_54f1d4f614a054099620c44f5c4e9186.rdx'
Warning in utils::tar(filepath, pkgname, compression = "gzip", compression_level = 9L, :
storing paths of more than 100 bytes is not portable:
'genomation/vignettes/GenomationManual-knitr_cache/html/listgenomationData_974d785eefe1039f67a05a91a5844368.RData'
Warning in utils::tar(filepath, pkgname, compression = "gzip", compression_level = 9L, :
storing paths of more than 100 bytes is not portable:
'genomation/vignettes/GenomationManual-knitr_cache/html/listgenomationData_974d785eefe1039f67a05a91a5844368.rdb'
Warning in utils::tar(filepath, pkgname, compression = "gzip", compression_level = 9L, :
storing paths of more than 100 bytes is not portable:
'genomation/vignettes/GenomationManual-knitr_cache/html/listgenomationData_974d785eefe1039f67a05a91a5844368.rdx'
Warning in utils::tar(filepath, pkgname, compression = "gzip", compression_level = 9L, :
storing paths of more than 100 bytes is not portable:
'genomation/vignettes/GenomationManual-knitr_cache/html/multiHeatMatrix1_4796c6d4713247c2a5d17ba440bfe9c8.RData'
Warning in utils::tar(filepath, pkgname, compression = "gzip", compression_level = 9L, :
storing paths of more than 100 bytes is not portable:
'genomation/vignettes/GenomationManual-knitr_cache/html/multiHeatMatrix1_4796c6d4713247c2a5d17ba440bfe9c8.rdb'
Warning in utils::tar(filepath, pkgname, compression = "gzip", compression_level = 9L, :
storing paths of more than 100 bytes is not portable:
'genomation/vignettes/GenomationManual-knitr_cache/html/multiHeatMatrix1_4796c6d4713247c2a5d17ba440bfe9c8.rdx'
Warning in utils::tar(filepath, pkgname, compression = "gzip", compression_level = 9L, :
storing paths of more than 100 bytes is not portable:
'genomation/vignettes/GenomationManual-knitr_cache/html/multiHeatMatrix2_cba70dd49556c242d270deb083853b93.RData'
Warning in utils::tar(filepath, pkgname, compression = "gzip", compression_level = 9L, :
storing paths of more than 100 bytes is not portable:
'genomation/vignettes/GenomationManual-knitr_cache/html/multiHeatMatrix2_cba70dd49556c242d270deb083853b93.rdb'
Warning in utils::tar(filepath, pkgname, compression = "gzip", compression_level = 9L, :
storing paths of more than 100 bytes is not portable:
'genomation/vignettes/GenomationManual-knitr_cache/html/multiHeatMatrix2_cba70dd49556c242d270deb083853b93.rdx'
Warning in utils::tar(filepath, pkgname, compression = "gzip", compression_level = 9L, :
storing paths of more than 100 bytes is not portable:
'genomation/vignettes/GenomationManual-knitr_cache/html/plotGeneAnnotation_641481dcd9c6849d0fece5c980ebbb70.RData'
Warning in utils::tar(filepath, pkgname, compression = "gzip", compression_level = 9L, :
storing paths of more than 100 bytes is not portable:
'genomation/vignettes/GenomationManual-knitr_cache/html/plotGeneAnnotation_641481dcd9c6849d0fece5c980ebbb70.rdb'
Warning in utils::tar(filepath, pkgname, compression = "gzip", compression_level = 9L, :
storing paths of more than 100 bytes is not portable:
'genomation/vignettes/GenomationManual-knitr_cache/html/plotGeneAnnotation_641481dcd9c6849d0fece5c980ebbb70.rdx'
Warning in utils::tar(filepath, pkgname, compression = "gzip", compression_level = 9L, :
storing paths of more than 100 bytes is not portable:
'genomation/vignettes/GenomationManual-knitr_cache/html/plotScaledProfile_0b2ed087b822a83d0c0e5312a3dd8a38.RData'
Warning in utils::tar(filepath, pkgname, compression = "gzip", compression_level = 9L, :
storing paths of more than 100 bytes is not portable:
'genomation/vignettes/GenomationManual-knitr_cache/html/plotScaledProfile_0b2ed087b822a83d0c0e5312a3dd8a38.rdb'
Warning in utils::tar(filepath, pkgname, compression = "gzip", compression_level = 9L, :
storing paths of more than 100 bytes is not portable:
'genomation/vignettes/GenomationManual-knitr_cache/html/plotScaledProfile_0b2ed087b822a83d0c0e5312a3dd8a38.rdx'
Warning in utils::tar(filepath, pkgname, compression = "gzip", compression_level = 9L, :
storing paths of more than 100 bytes is not portable:
'genomation/vignettes/GenomationManual-knitr_cache/html/readAllPeaks_annotation_3296d7ead2fbfe07ded969e302415d28.RData'
Warning in utils::tar(filepath, pkgname, compression = "gzip", compression_level = 9L, :
storing paths of more than 100 bytes is not portable:
'genomation/vignettes/GenomationManual-knitr_cache/html/readAllPeaks_annotation_3296d7ead2fbfe07ded969e302415d28.rdb'
Warning in utils::tar(filepath, pkgname, compression = "gzip", compression_level = 9L, :
storing paths of more than 100 bytes is not portable:
'genomation/vignettes/GenomationManual-knitr_cache/html/readAllPeaks_annotation_3296d7ead2fbfe07ded969e302415d28.rdx'
Warning in utils::tar(filepath, pkgname, compression = "gzip", compression_level = 9L, :
storing paths of more than 100 bytes is not portable:
'genomation/vignettes/GenomationManual-knitr_cache/html/readCtcfPeaks_fa91ce12772b265cc934b3df9410614e.RData'
Warning in utils::tar(filepath, pkgname, compression = "gzip", compression_level = 9L, :
storing paths of more than 100 bytes is not portable:
'genomation/vignettes/GenomationManual-knitr_cache/html/readCtcfPeaks_fa91ce12772b265cc934b3df9410614e.rdb'
Warning in utils::tar(filepath, pkgname, compression = "gzip", compression_level = 9L, :
storing paths of more than 100 bytes is not portable:
'genomation/vignettes/GenomationManual-knitr_cache/html/readCtcfPeaks_fa91ce12772b265cc934b3df9410614e.rdx'
Warning in utils::tar(filepath, pkgname, compression = "gzip", compression_level = 9L, :
storing paths of more than 100 bytes is not portable:
'genomation/vignettes/GenomationManual-knitr_cache/html/readFeatureFlank_11da6ea91236459f1225af6ddb1c45ef.RData'
Warning in utils::tar(filepath, pkgname, compression = "gzip", compression_level = 9L, :
storing paths of more than 100 bytes is not portable:
'genomation/vignettes/GenomationManual-knitr_cache/html/readFeatureFlank_11da6ea91236459f1225af6ddb1c45ef.rdb'
Warning in utils::tar(filepath, pkgname, compression = "gzip", compression_level = 9L, :
storing paths of more than 100 bytes is not portable:
'genomation/vignettes/GenomationManual-knitr_cache/html/readFeatureFlank_11da6ea91236459f1225af6ddb1c45ef.rdx'
Warning in utils::tar(filepath, pkgname, compression = "gzip", compression_level = 9L, :
storing paths of more than 100 bytes is not portable:
'genomation/vignettes/GenomationManual-knitr_cache/html/readGeneric1_fe63a12c8055f9e9e9d0d4015791744f.RData'
Warning in utils::tar(filepath, pkgname, compression = "gzip", compression_level = 9L, :
storing paths of more than 100 bytes is not portable:
'genomation/vignettes/GenomationManual-knitr_cache/html/readGeneric1_fe63a12c8055f9e9e9d0d4015791744f.rdb'
Warning in utils::tar(filepath, pkgname, compression = "gzip", compression_level = 9L, :
storing paths of more than 100 bytes is not portable:
'genomation/vignettes/GenomationManual-knitr_cache/html/readGeneric1_fe63a12c8055f9e9e9d0d4015791744f.rdx'
Warning in utils::tar(filepath, pkgname, compression = "gzip", compression_level = 9L, :
storing paths of more than 100 bytes is not portable:
'genomation/vignettes/GenomationManual-knitr_cache/html/readGeneric2_edf448c345f5ae7947abf0b68afc6f82.RData'
Warning in utils::tar(filepath, pkgname, compression = "gzip", compression_level = 9L, :
storing paths of more than 100 bytes is not portable:
'genomation/vignettes/GenomationManual-knitr_cache/html/readGeneric2_edf448c345f5ae7947abf0b68afc6f82.rdb'
Warning in utils::tar(filepath, pkgname, compression = "gzip", compression_level = 9L, :
storing paths of more than 100 bytes is not portable:
'genomation/vignettes/GenomationManual-knitr_cache/html/readGeneric2_edf448c345f5ae7947abf0b68afc6f82.rdx'
Warning in utils::tar(filepath, pkgname, compression = "gzip", compression_level = 9L, :
storing paths of more than 100 bytes is not portable:
'genomation/vignettes/GenomationManual-knitr_cache/html/readGeneric3_14a79b99fcb9ba0b4506a54cb86bdc89.RData'
Warning in utils::tar(filepath, pkgname, compression = "gzip", compression_level = 9L, :
storing paths of more than 100 bytes is not portable:
'genomation/vignettes/GenomationManual-knitr_cache/html/readGeneric3_14a79b99fcb9ba0b4506a54cb86bdc89.rdb'
Warning in utils::tar(filepath, pkgname, compression = "gzip", compression_level = 9L, :
storing paths of more than 100 bytes is not portable:
'genomation/vignettes/GenomationManual-knitr_cache/html/readGeneric3_14a79b99fcb9ba0b4506a54cb86bdc89.rdx'
Warning in utils::tar(filepath, pkgname, compression = "gzip", compression_level = 9L, :
storing paths of more than 100 bytes is not portable:
'genomation/vignettes/GenomationManual-knitr_cache/html/readGeneric4_ff2be2f058a2eeee5ae7bf4e5acfa181.RData'
Warning in utils::tar(filepath, pkgname, compression = "gzip", compression_level = 9L, :
storing paths of more than 100 bytes is not portable:
'genomation/vignettes/GenomationManual-knitr_cache/html/readGeneric4_ff2be2f058a2eeee5ae7bf4e5acfa181.rdb'
Warning in utils::tar(filepath, pkgname, compression = "gzip", compression_level = 9L, :
storing paths of more than 100 bytes is not portable:
'genomation/vignettes/GenomationManual-knitr_cache/html/readGeneric4_ff2be2f058a2eeee5ae7bf4e5acfa181.rdx'
Warning in utils::tar(filepath, pkgname, compression = "gzip", compression_level = 9L, :
storing paths of more than 100 bytes is not portable:
'genomation/vignettes/GenomationManual-knitr_cache/html/readGff1_68af90939f5d30f0c5ff939fd573b84d.RData'
Warning in utils::tar(filepath, pkgname, compression = "gzip", compression_level = 9L, :
storing paths of more than 100 bytes is not portable:
'genomation/vignettes/GenomationManual-knitr_cache/html/readGff2_fa629d81c882d71b3c7df42dd059f584.RData'
Warning in utils::tar(filepath, pkgname, compression = "gzip", compression_level = 9L, :
storing paths of more than 100 bytes is not portable:
'genomation/vignettes/GenomationManual-knitr_cache/html/readTranscriptFeatures_1e4197ee2c994296788605a2c5e8de60.RData'
Warning in utils::tar(filepath, pkgname, compression = "gzip", compression_level = 9L, :
storing paths of more than 100 bytes is not portable:
'genomation/vignettes/GenomationManual-knitr_cache/html/readTranscriptFeatures_1e4197ee2c994296788605a2c5e8de60.rdb'
Warning in utils::tar(filepath, pkgname, compression = "gzip", compression_level = 9L, :
storing paths of more than 100 bytes is not portable:
'genomation/vignettes/GenomationManual-knitr_cache/html/readTranscriptFeatures_1e4197ee2c994296788605a2c5e8de60.rdx'
Warning in utils::tar(filepath, pkgname, compression = "gzip", compression_level = 9L, :
storing paths of more than 100 bytes is not portable:
'genomation/vignettes/GenomationManual-knitr_cache/html/selectBamChipseq_f9c40ccf3d28c7016befa53e4b238077.RData'
Warning in utils::tar(filepath, pkgname, compression = "gzip", compression_level = 9L, :
storing paths of more than 100 bytes is not portable:
'genomation/vignettes/GenomationManual-knitr_cache/html/selectBamChipseq_f9c40ccf3d28c7016befa53e4b238077.rdb'
Warning in utils::tar(filepath, pkgname, compression = "gzip", compression_level = 9L, :
storing paths of more than 100 bytes is not portable:
'genomation/vignettes/GenomationManual-knitr_cache/html/selectBamChipseq_f9c40ccf3d28c7016befa53e4b238077.rdx'
Warning in utils::tar(filepath, pkgname, compression = "gzip", compression_level = 9L, :
storing paths of more than 100 bytes is not portable:
'genomation/vignettes/GenomationManual-knitr_cache/html/unnamed-chunk-1_cd5ffa3669e5d0e414149c58cb064498.RData'
Warning in utils::tar(filepath, pkgname, compression = "gzip", compression_level = 9L, :
storing paths of more than 100 bytes is not portable:
'genomation/vignettes/GenomationManual-knitr_cache/html/unnamed-chunk-1_cd5ffa3669e5d0e414149c58cb064498.rdb'
Warning in utils::tar(filepath, pkgname, compression = "gzip", compression_level = 9L, :
storing paths of more than 100 bytes is not portable:
'genomation/vignettes/GenomationManual-knitr_cache/html/unnamed-chunk-1_cd5ffa3669e5d0e414149c58cb064498.rdx'
Warning in utils::tar(filepath, pkgname, compression = "gzip", compression_level = 9L, :
storing paths of more than 100 bytes is not portable:
'genomation/vignettes/GenomationManual-knitr_cache/html/visualizeFeatureComb_13bdacd25c2ad18e02cdd38bc9151b1c.RData'
Warning in utils::tar(filepath, pkgname, compression = "gzip", compression_level = 9L, :
storing paths of more than 100 bytes is not portable:
'genomation/vignettes/GenomationManual-knitr_cache/html/visualizeFeatureComb_13bdacd25c2ad18e02cdd38bc9151b1c.rdb'
Warning in utils::tar(filepath, pkgname, compression = "gzip", compression_level = 9L, :
storing paths of more than 100 bytes is not portable:
'genomation/vignettes/GenomationManual-knitr_cache/html/visualizeFeatureComb_13bdacd25c2ad18e02cdd38bc9151b1c.rdx'