hopach 2.32.0 Katherine S. Pollard
Snapshot Date: 2016-10-12 17:20:15 -0700 (Wed, 12 Oct 2016) | URL: https://hedgehog.fhcrc.org/bioconductor/branches/RELEASE_3_3/madman/Rpacks/hopach | Last Changed Rev: 117079 / Revision: 122332 | Last Changed Date: 2016-05-03 14:20:18 -0700 (Tue, 03 May 2016) |
| zin2 | Linux (Ubuntu 14.04.2 LTS) / x86_64 | OK | OK | OK | | ![UNNEEDED, same version exists in internal repository UNNEEDED, same version exists in internal repository](../120px-Blue_Light_Icon.svg.png) |
moscato2 | Windows Server 2008 R2 Enterprise SP1 (64-bit) / x64 | [ OK ] | OK | OK | OK | ![UNNEEDED, same version exists in internal repository UNNEEDED, same version exists in internal repository](../120px-Blue_Light_Icon.svg.png) |
oaxaca | Mac OS X Mavericks (10.9.5) / x86_64 | OK | OK | OK | OK | ![UNNEEDED, same version exists in internal repository UNNEEDED, same version exists in internal repository](../120px-Blue_Light_Icon.svg.png) |
##############################################################################
##############################################################################
###
### Running command:
###
### rm -rf hopach.buildbin-libdir && mkdir hopach.buildbin-libdir && C:\cygwin\bin\curl.exe -O http://zin2/BBS/3.3/bioc/src/contrib/hopach_2.32.0.tar.gz && E:\biocbld\bbs-3.3-bioc\R\bin\R.exe CMD INSTALL --build --library=hopach.buildbin-libdir --merge-multiarch hopach_2.32.0.tar.gz && E:\biocbld\bbs-3.3-bioc\R\bin\R.exe CMD INSTALL hopach_2.32.0.zip && rm hopach_2.32.0.tar.gz hopach_2.32.0.zip
###
##############################################################################
##############################################################################
install for i386
* installing *source* package 'hopach' ...
** libs
C:/Rtools/mingw_32/bin/gcc -I"E:/biocbld/BBS-3˜1.3-B/R/include" -DNDEBUG -I"c:/local323/include" -O3 -Wall -std=gnu99 -mtune=core2 -c Rdistances.c -o Rdistances.o
C:/Rtools/mingw_32/bin/gcc -I"E:/biocbld/BBS-3˜1.3-B/R/include" -DNDEBUG -I"c:/local323/include" -O3 -Wall -std=gnu99 -mtune=core2 -c hdist.c -o hdist.o
C:/Rtools/mingw_32/bin/gcc -shared -s -static-libgcc -o hopach.dll tmp.def Rdistances.o hdist.o -Lc:/local323/lib/i386 -Lc:/local323/lib -LE:/biocbld/BBS-3˜1.3-B/R/bin/i386 -lR
installing to E:/biocbld/bbs-3.3-bioc/meat/hopach.buildbin-libdir/hopach/libs/i386
** R
** data
** inst
** preparing package for lazy loading
Creating a generic function from function 'as.hdist' in package 'hopach'
Creating a generic function for 'as.matrix' from package 'base' in package 'hopach'
** help
*** installing help indices
** building package indices
** installing vignettes
** testing if installed package can be loaded
install for x64
* installing *source* package 'hopach' ...
** libs
C:/Rtools/mingw_64/bin/gcc -I"E:/biocbld/BBS-3˜1.3-B/R/include" -DNDEBUG -I"c:/local323/include" -O2 -Wall -std=gnu99 -mtune=core2 -c Rdistances.c -o Rdistances.o
C:/Rtools/mingw_64/bin/gcc -I"E:/biocbld/BBS-3˜1.3-B/R/include" -DNDEBUG -I"c:/local323/include" -O2 -Wall -std=gnu99 -mtune=core2 -c hdist.c -o hdist.o
C:/Rtools/mingw_64/bin/gcc -shared -s -static-libgcc -o hopach.dll tmp.def Rdistances.o hdist.o -Lc:/local323/lib/x64 -Lc:/local323/lib -LE:/biocbld/BBS-3˜1.3-B/R/bin/x64 -lR
installing to E:/biocbld/bbs-3.3-bioc/meat/hopach.buildbin-libdir/hopach/libs/x64
** testing if installed package can be loaded
* MD5 sums
packaged installation of 'hopach' as hopach_2.32.0.zip
* DONE (hopach)
* installing to library 'E:/biocbld/bbs-3.3-bioc/R/library'
package 'hopach' successfully unpacked and MD5 sums checked