##############################################################################
##############################################################################
###
### Running command:
###
### rm -rf iontree.buildbin-libdir && mkdir iontree.buildbin-libdir && /Users/biocbuild/BBS/utils/build-universal.sh iontree_1.17.0.tar.gz /Library/Frameworks/R.framework/Versions/Current/Resources/bin/R iontree.buildbin-libdir
###
##############################################################################
##############################################################################
>>>>>>>
>>>>>>> INSTALLATION WITH 'R CMD INSTALL --preclean --no-multiarch --library=iontree.buildbin-libdir iontree_1.17.0.tar.gz'
>>>>>>>
* installing *source* package ‘iontree’ ...
** R
** inst
** preparing package for lazy loading
Creating a generic function for ‘plot’ from package ‘graphics’ in package ‘iontree’
** help
*** installing help indices
** building package indices
** installing vignettes
** testing if installed package can be loaded
* DONE (iontree)