kebabs 1.5.0 Ulrich Bodenhofer
Snapshot Date: 2015-10-26 20:20:04 -0400 (Mon, 26 Oct 2015) | URL: https://hedgehog.fhcrc.org/bioconductor/trunk/madman/Rpacks/kebabs | Last Changed Rev: 109592 / Revision: 109948 | Last Changed Date: 2015-10-13 15:59:53 -0400 (Tue, 13 Oct 2015) |
| linux2.bioconductor.org | Linux (Ubuntu 14.04.2 LTS) / x86_64 | OK | OK | OK | | |
windows2.bioconductor.org | Windows Server 2012 R2 Enterprise SP1 (64-bit) / x64 | [ OK ] | OK | OK | OK | |
##############################################################################
##############################################################################
###
### Running command:
###
### C:\cygwin64\bin\curl.exe -O http://linux2.bioconductor.org/BBS/3.3/bioc/src/contrib/kebabs_1.5.0.tar.gz && c:\biocbld\bbs-3.3-bioc\R\bin\R.exe CMD INSTALL --merge-multiarch kebabs_1.5.0.tar.gz && rm kebabs_1.5.0.tar.gz
###
##############################################################################
##############################################################################
% Total % Received % Xferd Average Speed Time Time Time Current
Dload Upload Total Spent Left Speed
0 0 0 0 0 0 0 0 --:--:-- --:--:-- --:--:-- 0
100 1767k 100 1767k 0 0 87.8M 0 --:--:-- --:--:-- --:--:-- 107M
install for i386
* installing to library 'c:/biocbld/bbs-3.3-bioc/R/library'
* installing *source* package 'kebabs' ...
** libs
gcc -m32 -I"c:/biocbld/BBS-3˜1.3-B/R/include" -DNDEBUG -I"c:/biocbld/bbs-3.3-bioc/R/library/IRanges/include" -I"c:/biocbld/bbs-3.3-bioc/R/library/XVector/include" -I"c:/biocbld/bbs-3.3-bioc/R/library/Biostrings/include" -I"c:/biocbld/bbs-3.3-bioc/R/library/Rcpp/include" -I"c:/biocbld/bbs-3.3-bioc/R/library/S4Vectors/include" -I"d:/RCompile/r-compiling/local/local320/include" -O3 -Wall -std=gnu99 -mtune=core2 -c Biostrings_stubs.c -o Biostrings_stubs.o
gcc -m32 -I"c:/biocbld/BBS-3˜1.3-B/R/include" -DNDEBUG -I"c:/biocbld/bbs-3.3-bioc/R/library/IRanges/include" -I"c:/biocbld/bbs-3.3-bioc/R/library/XVector/include" -I"c:/biocbld/bbs-3.3-bioc/R/library/Biostrings/include" -I"c:/biocbld/bbs-3.3-bioc/R/library/Rcpp/include" -I"c:/biocbld/bbs-3.3-bioc/R/library/S4Vectors/include" -I"d:/RCompile/r-compiling/local/local320/include" -O3 -Wall -std=gnu99 -mtune=core2 -c ByteStringVector.c -o ByteStringVector.o
g++ -m32 -I"c:/biocbld/BBS-3˜1.3-B/R/include" -DNDEBUG -I"c:/biocbld/bbs-3.3-bioc/R/library/IRanges/include" -I"c:/biocbld/bbs-3.3-bioc/R/library/XVector/include" -I"c:/biocbld/bbs-3.3-bioc/R/library/Biostrings/include" -I"c:/biocbld/bbs-3.3-bioc/R/library/Rcpp/include" -I"c:/biocbld/bbs-3.3-bioc/R/library/S4Vectors/include" -I"d:/RCompile/r-compiling/local/local320/include" -O2 -Wall -mtune=core2 -c ExplicitRepC.cpp -o ExplicitRepC.o
g++ -m32 -I"c:/biocbld/BBS-3˜1.3-B/R/include" -DNDEBUG -I"c:/biocbld/bbs-3.3-bioc/R/library/IRanges/include" -I"c:/biocbld/bbs-3.3-bioc/R/library/XVector/include" -I"c:/biocbld/bbs-3.3-bioc/R/library/Biostrings/include" -I"c:/biocbld/bbs-3.3-bioc/R/library/Rcpp/include" -I"c:/biocbld/bbs-3.3-bioc/R/library/S4Vectors/include" -I"d:/RCompile/r-compiling/local/local320/include" -O2 -Wall -mtune=core2 -c FeatureWeightsPosDepC.cpp -o FeatureWeightsPosDepC.o
g++ -m32 -I"c:/biocbld/BBS-3˜1.3-B/R/include" -DNDEBUG -I"c:/biocbld/bbs-3.3-bioc/R/library/IRanges/include" -I"c:/biocbld/bbs-3.3-bioc/R/library/XVector/include" -I"c:/biocbld/bbs-3.3-bioc/R/library/Biostrings/include" -I"c:/biocbld/bbs-3.3-bioc/R/library/Rcpp/include" -I"c:/biocbld/bbs-3.3-bioc/R/library/S4Vectors/include" -I"d:/RCompile/r-compiling/local/local320/include" -O2 -Wall -mtune=core2 -c GappyPairC.cpp -o GappyPairC.o
gcc -m32 -I"c:/biocbld/BBS-3˜1.3-B/R/include" -DNDEBUG -I"c:/biocbld/bbs-3.3-bioc/R/library/IRanges/include" -I"c:/biocbld/bbs-3.3-bioc/R/library/XVector/include" -I"c:/biocbld/bbs-3.3-bioc/R/library/Biostrings/include" -I"c:/biocbld/bbs-3.3-bioc/R/library/Rcpp/include" -I"c:/biocbld/bbs-3.3-bioc/R/library/S4Vectors/include" -I"d:/RCompile/r-compiling/local/local320/include" -O3 -Wall -std=gnu99 -mtune=core2 -c IRanges_stubs.c -o IRanges_stubs.o
g++ -m32 -I"c:/biocbld/BBS-3˜1.3-B/R/include" -DNDEBUG -I"c:/biocbld/bbs-3.3-bioc/R/library/IRanges/include" -I"c:/biocbld/bbs-3.3-bioc/R/library/XVector/include" -I"c:/biocbld/bbs-3.3-bioc/R/library/Biostrings/include" -I"c:/biocbld/bbs-3.3-bioc/R/library/Rcpp/include" -I"c:/biocbld/bbs-3.3-bioc/R/library/S4Vectors/include" -I"d:/RCompile/r-compiling/local/local320/include" -O2 -Wall -mtune=core2 -c KernelUtils.cpp -o KernelUtils.o
g++ -m32 -I"c:/biocbld/BBS-3˜1.3-B/R/include" -DNDEBUG -I"c:/biocbld/bbs-3.3-bioc/R/library/IRanges/include" -I"c:/biocbld/bbs-3.3-bioc/R/library/XVector/include" -I"c:/biocbld/bbs-3.3-bioc/R/library/Biostrings/include" -I"c:/biocbld/bbs-3.3-bioc/R/library/Rcpp/include" -I"c:/biocbld/bbs-3.3-bioc/R/library/S4Vectors/include" -I"d:/RCompile/r-compiling/local/local320/include" -O2 -Wall -mtune=core2 -c MismatchC.cpp -o MismatchC.o
g++ -m32 -I"c:/biocbld/BBS-3˜1.3-B/R/include" -DNDEBUG -I"c:/biocbld/bbs-3.3-bioc/R/library/IRanges/include" -I"c:/biocbld/bbs-3.3-bioc/R/library/XVector/include" -I"c:/biocbld/bbs-3.3-bioc/R/library/Biostrings/include" -I"c:/biocbld/bbs-3.3-bioc/R/library/Rcpp/include" -I"c:/biocbld/bbs-3.3-bioc/R/library/S4Vectors/include" -I"d:/RCompile/r-compiling/local/local320/include" -O2 -Wall -mtune=core2 -c MotifC.cpp -o MotifC.o
g++ -m32 -I"c:/biocbld/BBS-3˜1.3-B/R/include" -DNDEBUG -I"c:/biocbld/bbs-3.3-bioc/R/library/IRanges/include" -I"c:/biocbld/bbs-3.3-bioc/R/library/XVector/include" -I"c:/biocbld/bbs-3.3-bioc/R/library/Biostrings/include" -I"c:/biocbld/bbs-3.3-bioc/R/library/Rcpp/include" -I"c:/biocbld/bbs-3.3-bioc/R/library/S4Vectors/include" -I"d:/RCompile/r-compiling/local/local320/include" -O2 -Wall -mtune=core2 -c PredictionC.cpp -o PredictionC.o
g++ -m32 -I"c:/biocbld/BBS-3˜1.3-B/R/include" -DNDEBUG -I"c:/biocbld/bbs-3.3-bioc/R/library/IRanges/include" -I"c:/biocbld/bbs-3.3-bioc/R/library/XVector/include" -I"c:/biocbld/bbs-3.3-bioc/R/library/Biostrings/include" -I"c:/biocbld/bbs-3.3-bioc/R/library/Rcpp/include" -I"c:/biocbld/bbs-3.3-bioc/R/library/S4Vectors/include" -I"d:/RCompile/r-compiling/local/local320/include" -O2 -Wall -mtune=core2 -c PredictionProfileC.cpp -o PredictionProfileC.o
g++ -m32 -I"c:/biocbld/BBS-3˜1.3-B/R/include" -DNDEBUG -I"c:/biocbld/bbs-3.3-bioc/R/library/IRanges/include" -I"c:/biocbld/bbs-3.3-bioc/R/library/XVector/include" -I"c:/biocbld/bbs-3.3-bioc/R/library/Biostrings/include" -I"c:/biocbld/bbs-3.3-bioc/R/library/Rcpp/include" -I"c:/biocbld/bbs-3.3-bioc/R/library/S4Vectors/include" -I"d:/RCompile/r-compiling/local/local320/include" -O2 -Wall -mtune=core2 -c R_init_kebabs.cpp -o R_init_kebabs.o
gcc -m32 -I"c:/biocbld/BBS-3˜1.3-B/R/include" -DNDEBUG -I"c:/biocbld/bbs-3.3-bioc/R/library/IRanges/include" -I"c:/biocbld/bbs-3.3-bioc/R/library/XVector/include" -I"c:/biocbld/bbs-3.3-bioc/R/library/Biostrings/include" -I"c:/biocbld/bbs-3.3-bioc/R/library/Rcpp/include" -I"c:/biocbld/bbs-3.3-bioc/R/library/S4Vectors/include" -I"d:/RCompile/r-compiling/local/local320/include" -O3 -Wall -std=gnu99 -mtune=core2 -c Rsvm.c -o Rsvm.o
g++ -m32 -I"c:/biocbld/BBS-3˜1.3-B/R/include" -DNDEBUG -I"c:/biocbld/bbs-3.3-bioc/R/library/IRanges/include" -I"c:/biocbld/bbs-3.3-bioc/R/library/XVector/include" -I"c:/biocbld/bbs-3.3-bioc/R/library/Biostrings/include" -I"c:/biocbld/bbs-3.3-bioc/R/library/Rcpp/include" -I"c:/biocbld/bbs-3.3-bioc/R/library/S4Vectors/include" -I"d:/RCompile/r-compiling/local/local320/include" -O2 -Wall -mtune=core2 -c SparseMatrixHash.cpp -o SparseMatrixHash.o
g++ -m32 -I"c:/biocbld/BBS-3˜1.3-B/R/include" -DNDEBUG -I"c:/biocbld/bbs-3.3-bioc/R/library/IRanges/include" -I"c:/biocbld/bbs-3.3-bioc/R/library/XVector/include" -I"c:/biocbld/bbs-3.3-bioc/R/library/Biostrings/include" -I"c:/biocbld/bbs-3.3-bioc/R/library/Rcpp/include" -I"c:/biocbld/bbs-3.3-bioc/R/library/S4Vectors/include" -I"d:/RCompile/r-compiling/local/local320/include" -O2 -Wall -mtune=core2 -c SpectrumC.cpp -o SpectrumC.o
g++ -m32 -I"c:/biocbld/BBS-3˜1.3-B/R/include" -DNDEBUG -I"c:/biocbld/bbs-3.3-bioc/R/library/IRanges/include" -I"c:/biocbld/bbs-3.3-bioc/R/library/XVector/include" -I"c:/biocbld/bbs-3.3-bioc/R/library/Biostrings/include" -I"c:/biocbld/bbs-3.3-bioc/R/library/Rcpp/include" -I"c:/biocbld/bbs-3.3-bioc/R/library/S4Vectors/include" -I"d:/RCompile/r-compiling/local/local320/include" -O2 -Wall -mtune=core2 -c SymmetricPairC.cpp -o SymmetricPairC.o
g++ -m32 -I"c:/biocbld/BBS-3˜1.3-B/R/include" -DNDEBUG -I"c:/biocbld/bbs-3.3-bioc/R/library/IRanges/include" -I"c:/biocbld/bbs-3.3-bioc/R/library/XVector/include" -I"c:/biocbld/bbs-3.3-bioc/R/library/Biostrings/include" -I"c:/biocbld/bbs-3.3-bioc/R/library/Rcpp/include" -I"c:/biocbld/bbs-3.3-bioc/R/library/S4Vectors/include" -I"d:/RCompile/r-compiling/local/local320/include" -O2 -Wall -mtune=core2 -c Utils.cpp -o Utils.o
gcc -m32 -I"c:/biocbld/BBS-3˜1.3-B/R/include" -DNDEBUG -I"c:/biocbld/bbs-3.3-bioc/R/library/IRanges/include" -I"c:/biocbld/bbs-3.3-bioc/R/library/XVector/include" -I"c:/biocbld/bbs-3.3-bioc/R/library/Biostrings/include" -I"c:/biocbld/bbs-3.3-bioc/R/library/Rcpp/include" -I"c:/biocbld/bbs-3.3-bioc/R/library/S4Vectors/include" -I"d:/RCompile/r-compiling/local/local320/include" -O3 -Wall -std=gnu99 -mtune=core2 -c XVector_stubs.c -o XVector_stubs.o
g++ -m32 -I"c:/biocbld/BBS-3˜1.3-B/R/include" -DNDEBUG -I"c:/biocbld/bbs-3.3-bioc/R/library/IRanges/include" -I"c:/biocbld/bbs-3.3-bioc/R/library/XVector/include" -I"c:/biocbld/bbs-3.3-bioc/R/library/Biostrings/include" -I"c:/biocbld/bbs-3.3-bioc/R/library/Rcpp/include" -I"c:/biocbld/bbs-3.3-bioc/R/library/S4Vectors/include" -I"d:/RCompile/r-compiling/local/local320/include" -O2 -Wall -mtune=core2 -c svm.cpp -o svm.o
g++ -m32 -shared -s -static-libgcc -o kebabs.dll tmp.def Biostrings_stubs.o ByteStringVector.o ExplicitRepC.o FeatureWeightsPosDepC.o GappyPairC.o IRanges_stubs.o KernelUtils.o MismatchC.o MotifC.o PredictionC.o PredictionProfileC.o R_init_kebabs.o Rsvm.o SparseMatrixHash.o SpectrumC.o SymmetricPairC.o Utils.o XVector_stubs.o svm.o -Ld:/RCompile/r-compiling/local/local320/lib/i386 -Ld:/RCompile/r-compiling/local/local320/lib -Lc:/biocbld/BBS-3˜1.3-B/R/bin/i386 -lR
installing to c:/biocbld/bbs-3.3-bioc/R/library/kebabs/libs/i386
** R
** data
** inst
** preparing package for lazy loading
Creating a new generic function for 'heatmap' in package 'kebabs'
** help
*** installing help indices
** building package indices
** installing vignettes
** testing if installed package can be loaded
install for x64
* installing to library 'c:/biocbld/bbs-3.3-bioc/R/library'
* installing *source* package 'kebabs' ...
** libs
gcc -m64 -I"c:/biocbld/BBS-3˜1.3-B/R/include" -DNDEBUG -I"c:/biocbld/bbs-3.3-bioc/R/library/IRanges/include" -I"c:/biocbld/bbs-3.3-bioc/R/library/XVector/include" -I"c:/biocbld/bbs-3.3-bioc/R/library/Biostrings/include" -I"c:/biocbld/bbs-3.3-bioc/R/library/Rcpp/include" -I"c:/biocbld/bbs-3.3-bioc/R/library/S4Vectors/include" -I"d:/RCompile/r-compiling/local/local320/include" -O2 -Wall -std=gnu99 -mtune=core2 -c Biostrings_stubs.c -o Biostrings_stubs.o
gcc -m64 -I"c:/biocbld/BBS-3˜1.3-B/R/include" -DNDEBUG -I"c:/biocbld/bbs-3.3-bioc/R/library/IRanges/include" -I"c:/biocbld/bbs-3.3-bioc/R/library/XVector/include" -I"c:/biocbld/bbs-3.3-bioc/R/library/Biostrings/include" -I"c:/biocbld/bbs-3.3-bioc/R/library/Rcpp/include" -I"c:/biocbld/bbs-3.3-bioc/R/library/S4Vectors/include" -I"d:/RCompile/r-compiling/local/local320/include" -O2 -Wall -std=gnu99 -mtune=core2 -c ByteStringVector.c -o ByteStringVector.o
g++ -m64 -I"c:/biocbld/BBS-3˜1.3-B/R/include" -DNDEBUG -I"c:/biocbld/bbs-3.3-bioc/R/library/IRanges/include" -I"c:/biocbld/bbs-3.3-bioc/R/library/XVector/include" -I"c:/biocbld/bbs-3.3-bioc/R/library/Biostrings/include" -I"c:/biocbld/bbs-3.3-bioc/R/library/Rcpp/include" -I"c:/biocbld/bbs-3.3-bioc/R/library/S4Vectors/include" -I"d:/RCompile/r-compiling/local/local320/include" -O2 -Wall -mtune=core2 -c ExplicitRepC.cpp -o ExplicitRepC.o
g++ -m64 -I"c:/biocbld/BBS-3˜1.3-B/R/include" -DNDEBUG -I"c:/biocbld/bbs-3.3-bioc/R/library/IRanges/include" -I"c:/biocbld/bbs-3.3-bioc/R/library/XVector/include" -I"c:/biocbld/bbs-3.3-bioc/R/library/Biostrings/include" -I"c:/biocbld/bbs-3.3-bioc/R/library/Rcpp/include" -I"c:/biocbld/bbs-3.3-bioc/R/library/S4Vectors/include" -I"d:/RCompile/r-compiling/local/local320/include" -O2 -Wall -mtune=core2 -c FeatureWeightsPosDepC.cpp -o FeatureWeightsPosDepC.o
g++ -m64 -I"c:/biocbld/BBS-3˜1.3-B/R/include" -DNDEBUG -I"c:/biocbld/bbs-3.3-bioc/R/library/IRanges/include" -I"c:/biocbld/bbs-3.3-bioc/R/library/XVector/include" -I"c:/biocbld/bbs-3.3-bioc/R/library/Biostrings/include" -I"c:/biocbld/bbs-3.3-bioc/R/library/Rcpp/include" -I"c:/biocbld/bbs-3.3-bioc/R/library/S4Vectors/include" -I"d:/RCompile/r-compiling/local/local320/include" -O2 -Wall -mtune=core2 -c GappyPairC.cpp -o GappyPairC.o
gcc -m64 -I"c:/biocbld/BBS-3˜1.3-B/R/include" -DNDEBUG -I"c:/biocbld/bbs-3.3-bioc/R/library/IRanges/include" -I"c:/biocbld/bbs-3.3-bioc/R/library/XVector/include" -I"c:/biocbld/bbs-3.3-bioc/R/library/Biostrings/include" -I"c:/biocbld/bbs-3.3-bioc/R/library/Rcpp/include" -I"c:/biocbld/bbs-3.3-bioc/R/library/S4Vectors/include" -I"d:/RCompile/r-compiling/local/local320/include" -O2 -Wall -std=gnu99 -mtune=core2 -c IRanges_stubs.c -o IRanges_stubs.o
g++ -m64 -I"c:/biocbld/BBS-3˜1.3-B/R/include" -DNDEBUG -I"c:/biocbld/bbs-3.3-bioc/R/library/IRanges/include" -I"c:/biocbld/bbs-3.3-bioc/R/library/XVector/include" -I"c:/biocbld/bbs-3.3-bioc/R/library/Biostrings/include" -I"c:/biocbld/bbs-3.3-bioc/R/library/Rcpp/include" -I"c:/biocbld/bbs-3.3-bioc/R/library/S4Vectors/include" -I"d:/RCompile/r-compiling/local/local320/include" -O2 -Wall -mtune=core2 -c KernelUtils.cpp -o KernelUtils.o
g++ -m64 -I"c:/biocbld/BBS-3˜1.3-B/R/include" -DNDEBUG -I"c:/biocbld/bbs-3.3-bioc/R/library/IRanges/include" -I"c:/biocbld/bbs-3.3-bioc/R/library/XVector/include" -I"c:/biocbld/bbs-3.3-bioc/R/library/Biostrings/include" -I"c:/biocbld/bbs-3.3-bioc/R/library/Rcpp/include" -I"c:/biocbld/bbs-3.3-bioc/R/library/S4Vectors/include" -I"d:/RCompile/r-compiling/local/local320/include" -O2 -Wall -mtune=core2 -c MismatchC.cpp -o MismatchC.o
g++ -m64 -I"c:/biocbld/BBS-3˜1.3-B/R/include" -DNDEBUG -I"c:/biocbld/bbs-3.3-bioc/R/library/IRanges/include" -I"c:/biocbld/bbs-3.3-bioc/R/library/XVector/include" -I"c:/biocbld/bbs-3.3-bioc/R/library/Biostrings/include" -I"c:/biocbld/bbs-3.3-bioc/R/library/Rcpp/include" -I"c:/biocbld/bbs-3.3-bioc/R/library/S4Vectors/include" -I"d:/RCompile/r-compiling/local/local320/include" -O2 -Wall -mtune=core2 -c MotifC.cpp -o MotifC.o
g++ -m64 -I"c:/biocbld/BBS-3˜1.3-B/R/include" -DNDEBUG -I"c:/biocbld/bbs-3.3-bioc/R/library/IRanges/include" -I"c:/biocbld/bbs-3.3-bioc/R/library/XVector/include" -I"c:/biocbld/bbs-3.3-bioc/R/library/Biostrings/include" -I"c:/biocbld/bbs-3.3-bioc/R/library/Rcpp/include" -I"c:/biocbld/bbs-3.3-bioc/R/library/S4Vectors/include" -I"d:/RCompile/r-compiling/local/local320/include" -O2 -Wall -mtune=core2 -c PredictionC.cpp -o PredictionC.o
g++ -m64 -I"c:/biocbld/BBS-3˜1.3-B/R/include" -DNDEBUG -I"c:/biocbld/bbs-3.3-bioc/R/library/IRanges/include" -I"c:/biocbld/bbs-3.3-bioc/R/library/XVector/include" -I"c:/biocbld/bbs-3.3-bioc/R/library/Biostrings/include" -I"c:/biocbld/bbs-3.3-bioc/R/library/Rcpp/include" -I"c:/biocbld/bbs-3.3-bioc/R/library/S4Vectors/include" -I"d:/RCompile/r-compiling/local/local320/include" -O2 -Wall -mtune=core2 -c PredictionProfileC.cpp -o PredictionProfileC.o
g++ -m64 -I"c:/biocbld/BBS-3˜1.3-B/R/include" -DNDEBUG -I"c:/biocbld/bbs-3.3-bioc/R/library/IRanges/include" -I"c:/biocbld/bbs-3.3-bioc/R/library/XVector/include" -I"c:/biocbld/bbs-3.3-bioc/R/library/Biostrings/include" -I"c:/biocbld/bbs-3.3-bioc/R/library/Rcpp/include" -I"c:/biocbld/bbs-3.3-bioc/R/library/S4Vectors/include" -I"d:/RCompile/r-compiling/local/local320/include" -O2 -Wall -mtune=core2 -c R_init_kebabs.cpp -o R_init_kebabs.o
gcc -m64 -I"c:/biocbld/BBS-3˜1.3-B/R/include" -DNDEBUG -I"c:/biocbld/bbs-3.3-bioc/R/library/IRanges/include" -I"c:/biocbld/bbs-3.3-bioc/R/library/XVector/include" -I"c:/biocbld/bbs-3.3-bioc/R/library/Biostrings/include" -I"c:/biocbld/bbs-3.3-bioc/R/library/Rcpp/include" -I"c:/biocbld/bbs-3.3-bioc/R/library/S4Vectors/include" -I"d:/RCompile/r-compiling/local/local320/include" -O2 -Wall -std=gnu99 -mtune=core2 -c Rsvm.c -o Rsvm.o
g++ -m64 -I"c:/biocbld/BBS-3˜1.3-B/R/include" -DNDEBUG -I"c:/biocbld/bbs-3.3-bioc/R/library/IRanges/include" -I"c:/biocbld/bbs-3.3-bioc/R/library/XVector/include" -I"c:/biocbld/bbs-3.3-bioc/R/library/Biostrings/include" -I"c:/biocbld/bbs-3.3-bioc/R/library/Rcpp/include" -I"c:/biocbld/bbs-3.3-bioc/R/library/S4Vectors/include" -I"d:/RCompile/r-compiling/local/local320/include" -O2 -Wall -mtune=core2 -c SparseMatrixHash.cpp -o SparseMatrixHash.o
g++ -m64 -I"c:/biocbld/BBS-3˜1.3-B/R/include" -DNDEBUG -I"c:/biocbld/bbs-3.3-bioc/R/library/IRanges/include" -I"c:/biocbld/bbs-3.3-bioc/R/library/XVector/include" -I"c:/biocbld/bbs-3.3-bioc/R/library/Biostrings/include" -I"c:/biocbld/bbs-3.3-bioc/R/library/Rcpp/include" -I"c:/biocbld/bbs-3.3-bioc/R/library/S4Vectors/include" -I"d:/RCompile/r-compiling/local/local320/include" -O2 -Wall -mtune=core2 -c SpectrumC.cpp -o SpectrumC.o
g++ -m64 -I"c:/biocbld/BBS-3˜1.3-B/R/include" -DNDEBUG -I"c:/biocbld/bbs-3.3-bioc/R/library/IRanges/include" -I"c:/biocbld/bbs-3.3-bioc/R/library/XVector/include" -I"c:/biocbld/bbs-3.3-bioc/R/library/Biostrings/include" -I"c:/biocbld/bbs-3.3-bioc/R/library/Rcpp/include" -I"c:/biocbld/bbs-3.3-bioc/R/library/S4Vectors/include" -I"d:/RCompile/r-compiling/local/local320/include" -O2 -Wall -mtune=core2 -c SymmetricPairC.cpp -o SymmetricPairC.o
g++ -m64 -I"c:/biocbld/BBS-3˜1.3-B/R/include" -DNDEBUG -I"c:/biocbld/bbs-3.3-bioc/R/library/IRanges/include" -I"c:/biocbld/bbs-3.3-bioc/R/library/XVector/include" -I"c:/biocbld/bbs-3.3-bioc/R/library/Biostrings/include" -I"c:/biocbld/bbs-3.3-bioc/R/library/Rcpp/include" -I"c:/biocbld/bbs-3.3-bioc/R/library/S4Vectors/include" -I"d:/RCompile/r-compiling/local/local320/include" -O2 -Wall -mtune=core2 -c Utils.cpp -o Utils.o
gcc -m64 -I"c:/biocbld/BBS-3˜1.3-B/R/include" -DNDEBUG -I"c:/biocbld/bbs-3.3-bioc/R/library/IRanges/include" -I"c:/biocbld/bbs-3.3-bioc/R/library/XVector/include" -I"c:/biocbld/bbs-3.3-bioc/R/library/Biostrings/include" -I"c:/biocbld/bbs-3.3-bioc/R/library/Rcpp/include" -I"c:/biocbld/bbs-3.3-bioc/R/library/S4Vectors/include" -I"d:/RCompile/r-compiling/local/local320/include" -O2 -Wall -std=gnu99 -mtune=core2 -c XVector_stubs.c -o XVector_stubs.o
g++ -m64 -I"c:/biocbld/BBS-3˜1.3-B/R/include" -DNDEBUG -I"c:/biocbld/bbs-3.3-bioc/R/library/IRanges/include" -I"c:/biocbld/bbs-3.3-bioc/R/library/XVector/include" -I"c:/biocbld/bbs-3.3-bioc/R/library/Biostrings/include" -I"c:/biocbld/bbs-3.3-bioc/R/library/Rcpp/include" -I"c:/biocbld/bbs-3.3-bioc/R/library/S4Vectors/include" -I"d:/RCompile/r-compiling/local/local320/include" -O2 -Wall -mtune=core2 -c svm.cpp -o svm.o
g++ -m64 -shared -s -static-libgcc -o kebabs.dll tmp.def Biostrings_stubs.o ByteStringVector.o ExplicitRepC.o FeatureWeightsPosDepC.o GappyPairC.o IRanges_stubs.o KernelUtils.o MismatchC.o MotifC.o PredictionC.o PredictionProfileC.o R_init_kebabs.o Rsvm.o SparseMatrixHash.o SpectrumC.o SymmetricPairC.o Utils.o XVector_stubs.o svm.o -Ld:/RCompile/r-compiling/local/local320/lib/x64 -Ld:/RCompile/r-compiling/local/local320/lib -Lc:/biocbld/BBS-3˜1.3-B/R/bin/x64 -lR
installing to c:/biocbld/bbs-3.3-bioc/R/library/kebabs/libs/x64
** testing if installed package can be loaded
* DONE (kebabs)