##############################################################################
##############################################################################
###
### Running command:
###
### cd lmdme.buildbin-libdir/lmdme && zip -r ../../lmdme_1.13.0.zip . & cd ../..
###
##############################################################################
##############################################################################
adding: CITATION (188 bytes security) (deflated 65%)
adding: DESCRIPTION (188 bytes security) (deflated 46%)
adding: doc/ (208 bytes security) (stored 0%)
adding: doc/index.html (188 bytes security) (deflated 57%)
adding: doc/lmdme-vignette.pdf (188 bytes security) (deflated 13%)
adding: doc/lmdme-vignette.R (188 bytes security) (deflated 75%)
adding: doc/lmdme-vignette.Rnw (188 bytes security) (deflated 65%)
adding: help/ (208 bytes security) (stored 0%)
adding: help/aliases.rds (188 bytes security) (stored 0%)
adding: help/AnIndex (188 bytes security) (deflated 82%)
adding: help/lmdme.rdb (188 bytes security) (deflated 1%)
adding: help/lmdme.rdx (188 bytes security) (stored 0%)
adding: help/paths.rds (188 bytes security) (stored 0%)
adding: html/ (208 bytes security) (stored 0%)
adding: html/00Index.html (188 bytes security) (deflated 87%)
adding: html/R.css (188 bytes security) (deflated 75%)
adding: INDEX (188 bytes security) (deflated 62%)
adding: MD5 (188 bytes security) (deflated 42%)
adding: Meta/ (208 bytes security) (stored 0%)
adding: Meta/hsearch.rds (188 bytes security) (stored 0%)
adding: Meta/links.rds (188 bytes security) (stored 0%)
adding: Meta/nsInfo.rds (188 bytes security) (stored 0%)
adding: Meta/package.rds (188 bytes security) (stored 0%)
adding: Meta/Rd.rds (188 bytes security) (stored 0%)
adding: Meta/vignette.rds (188 bytes security) (stored 0%)
adding: NAMESPACE (188 bytes security) (deflated 72%)
adding: NEWS (188 bytes security) (deflated 68%)
adding: R/ (208 bytes security) (stored 0%)
adding: R/lmdme (188 bytes security) (deflated 41%)
adding: R/lmdme.rdb (188 bytes security) (deflated 40%)
adding: R/lmdme.rdx (188 bytes security) (stored 0%)