missMethyl 1.6.2 Belinda Phipson , Jovana Maksimovic
Snapshot Date: 2016-06-07 17:20:13 -0700 (Tue, 07 Jun 2016) | URL: https://hedgehog.fhcrc.org/bioconductor/branches/RELEASE_3_3/madman/Rpacks/missMethyl | Last Changed Rev: 117513 / Revision: 118278 | Last Changed Date: 2016-05-15 13:18:19 -0700 (Sun, 15 May 2016) |
| zin2 | Linux (Ubuntu 14.04.2 LTS) / x86_64 | OK | OK | OK | | ![UNNEEDED, same version exists in internal repository UNNEEDED, same version exists in internal repository](../120px-Blue_Light_Icon.svg.png) |
moscato2 | Windows Server 2008 R2 Enterprise SP1 (64-bit) / x64 | OK | OK | OK | [ OK ] | ![UNNEEDED, same version exists in internal repository UNNEEDED, same version exists in internal repository](../120px-Blue_Light_Icon.svg.png) |
oaxaca | Mac OS X Mavericks (10.9.5) / x86_64 | OK | OK | OK | OK | ![UNNEEDED, same version exists in internal repository UNNEEDED, same version exists in internal repository](../120px-Blue_Light_Icon.svg.png) |
##############################################################################
##############################################################################
###
### Running command:
###
### cd missMethyl.buildbin-libdir/missMethyl && zip -r ../../missMethyl_1.6.2.zip . & cd ../..
###
##############################################################################
##############################################################################
adding: CITATION (188 bytes security) (deflated 70%)
adding: DESCRIPTION (188 bytes security) (deflated 47%)
adding: doc/ (256 bytes security) (stored 0%)
adding: doc/index.html (188 bytes security) (deflated 58%)
adding: doc/missMethyl.pdf (188 bytes security) (deflated 19%)
adding: doc/missMethyl.R (188 bytes security) (deflated 73%)
adding: doc/missMethyl.Rnw (188 bytes security) (deflated 65%)
adding: help/ (256 bytes security) (stored 0%)
adding: help/aliases.rds (188 bytes security) (stored 0%)
adding: help/AnIndex (188 bytes security) (deflated 56%)
adding: help/missMethyl.rdb (188 bytes security) (deflated 1%)
adding: help/missMethyl.rdx (188 bytes security) (stored 0%)
adding: help/paths.rds (188 bytes security) (stored 0%)
adding: html/ (256 bytes security) (stored 0%)
adding: html/00Index.html (188 bytes security) (deflated 72%)
adding: html/R.css (188 bytes security) (deflated 75%)
adding: INDEX (188 bytes security) (deflated 61%)
adding: MD5 (188 bytes security) (deflated 42%)
adding: Meta/ (256 bytes security) (stored 0%)
adding: Meta/hsearch.rds (188 bytes security) (stored 0%)
adding: Meta/links.rds (188 bytes security) (stored 0%)
adding: Meta/nsInfo.rds (188 bytes security) (stored 0%)
adding: Meta/package.rds (188 bytes security) (stored 0%)
adding: Meta/Rd.rds (188 bytes security) (stored 0%)
adding: Meta/vignette.rds (188 bytes security) (stored 0%)
adding: NAMESPACE (188 bytes security) (deflated 46%)
adding: NEWS.Rd (188 bytes security) (deflated 63%)
adding: R/ (256 bytes security) (stored 0%)
adding: R/missMethyl (188 bytes security) (deflated 41%)
adding: R/missMethyl.rdb (188 bytes security) (deflated 2%)
adding: R/missMethyl.rdx (188 bytes security) (stored 0%)