monocle 1.6.2 Cole Trapnell
Snapshot Date: 2016-10-12 17:20:15 -0700 (Wed, 12 Oct 2016) | URL: https://hedgehog.fhcrc.org/bioconductor/branches/RELEASE_3_3/madman/Rpacks/monocle | Last Changed Rev: 117513 / Revision: 122332 | Last Changed Date: 2016-05-15 13:18:19 -0700 (Sun, 15 May 2016) |
| zin2 | Linux (Ubuntu 14.04.2 LTS) / x86_64 | OK | OK | OK | | ![UNNEEDED, same version exists in internal repository UNNEEDED, same version exists in internal repository](../120px-Blue_Light_Icon.svg.png) |
moscato2 | Windows Server 2008 R2 Enterprise SP1 (64-bit) / x64 | [ OK ] | OK | OK | OK | ![UNNEEDED, same version exists in internal repository UNNEEDED, same version exists in internal repository](../120px-Blue_Light_Icon.svg.png) |
oaxaca | Mac OS X Mavericks (10.9.5) / x86_64 | OK | OK | OK | OK | ![UNNEEDED, same version exists in internal repository UNNEEDED, same version exists in internal repository](../120px-Blue_Light_Icon.svg.png) |
##############################################################################
##############################################################################
###
### Running command:
###
### rm -rf monocle.buildbin-libdir && mkdir monocle.buildbin-libdir && C:\cygwin\bin\curl.exe -O http://zin2/BBS/3.3/bioc/src/contrib/monocle_1.6.2.tar.gz && E:\biocbld\bbs-3.3-bioc\R\bin\R.exe CMD INSTALL --build --library=monocle.buildbin-libdir --merge-multiarch monocle_1.6.2.tar.gz && E:\biocbld\bbs-3.3-bioc\R\bin\R.exe CMD INSTALL monocle_1.6.2.zip && rm monocle_1.6.2.tar.gz monocle_1.6.2.zip
###
##############################################################################
##############################################################################
install for i386
* installing *source* package 'monocle' ...
** R
** inst
** preparing package for lazy loading
No methods found in "BiocGenerics" for requests: as.vector, unlist
** help
*** installing help indices
** building package indices
** installing vignettes
** testing if installed package can be loaded
No methods found in "BiocGenerics" for requests: as.vector, unlist
install for x64
* installing *source* package 'monocle' ...
** testing if installed package can be loaded
No methods found in "BiocGenerics" for requests: as.vector, unlist
* MD5 sums
packaged installation of 'monocle' as monocle_1.6.2.zip
* DONE (monocle)
* installing to library 'E:/biocbld/bbs-3.3-bioc/R/library'
package 'monocle' successfully unpacked and MD5 sums checked