Back to the "Multiple platform build/check report" | A B C D E F G H I J K L M N O [P] Q R S T U V W X Y Z |
This page was generated on 2015-10-27 12:14:03 -0400 (Tue, 27 Oct 2015).
Package 763/1104 | Hostname | OS / Arch | INSTALL | BUILD | CHECK | BUILD BIN | |||||
pdmclass 1.43.0 James W. MacDonald
| linux2.bioconductor.org | Linux (Ubuntu 14.04.2 LTS) / x86_64 | OK | OK | WARNINGS | ![]() | |||||
windows2.bioconductor.org | Windows Server 2012 R2 Enterprise SP1 (64-bit) / x64 | OK | [ OK ] | WARNINGS | OK | ![]() |
Package: pdmclass |
Version: 1.43.0 |
Command: chmod a+r pdmclass -R && c:\biocbld\bbs-3.3-bioc\R\bin\R.exe CMD build --keep-empty-dirs --no-resave-data pdmclass |
StartedAt: 2015-10-26 21:23:01 -0400 (Mon, 26 Oct 2015) |
EndedAt: 2015-10-26 21:23:27 -0400 (Mon, 26 Oct 2015) |
EllapsedTime: 25.4 seconds |
RetCode: 0 |
Status: OK |
PackageFile: pdmclass_1.43.0.tar.gz |
PackageFileSize: 120.8 KiB |
############################################################################## ############################################################################## ### ### Running command: ### ### chmod a+r pdmclass -R && c:\biocbld\bbs-3.3-bioc\R\bin\R.exe CMD build --keep-empty-dirs --no-resave-data pdmclass ### ############################################################################## ############################################################################## * checking for file 'pdmclass/DESCRIPTION' ... OK * preparing 'pdmclass': * checking DESCRIPTION meta-information ... OK * installing the package to build vignettes * creating vignettes ... OK * checking for LF line-endings in source and make files * checking for empty or unneeded directories * building 'pdmclass_1.43.0.tar.gz'