Back to the "Multiple platform build/check report" A  B  C  D  E  F  G  H  I  J  K  L  M  N  O  P  Q [R] S  T  U  V  W  X  Y  Z 

BioC 3.3: CHECK report for rBiopaxParser on morelia

This page was generated on 2016-04-21 13:23:57 -0700 (Thu, 21 Apr 2016).

Package 933/1210HostnameOS / ArchINSTALLBUILDCHECKBUILD BIN
rBiopaxParser 2.9.0
Frank Kramer
Snapshot Date: 2016-04-20 17:20:35 -0700 (Wed, 20 Apr 2016)
URL: https://hedgehog.fhcrc.org/bioconductor/trunk/madman/Rpacks/rBiopaxParser
Last Changed Rev: 109592 / Revision: 116626
Last Changed Date: 2015-10-13 12:59:53 -0700 (Tue, 13 Oct 2015)
zin2 Linux (Ubuntu 14.04.2 LTS) / x86_64  OK  OK  OK UNNEEDED, same version exists in internal repository
moscato2 Windows Server 2008 R2 Enterprise SP1 (64-bit) / x64  OK  OK  OK  OK UNNEEDED, same version exists in internal repository
morelia Mac OS X Mavericks (10.9.5) / x86_64  OK  OK [ OK ] OK UNNEEDED, same version exists in internal repository

Summary

Package: rBiopaxParser
Version: 2.9.0
Command: /Library/Frameworks/R.framework/Versions/Current/Resources/bin/R CMD check --no-vignettes --timings rBiopaxParser_2.9.0.tar.gz
StartedAt: 2016-04-21 06:38:16 -0700 (Thu, 21 Apr 2016)
EndedAt: 2016-04-21 06:38:59 -0700 (Thu, 21 Apr 2016)
EllapsedTime: 42.5 seconds
RetCode: 0
Status:  OK 
CheckDir: rBiopaxParser.Rcheck
Warnings: 0

Command output

##############################################################################
##############################################################################
###
### Running command:
###
###   /Library/Frameworks/R.framework/Versions/Current/Resources/bin/R CMD check --no-vignettes --timings rBiopaxParser_2.9.0.tar.gz
###
##############################################################################
##############################################################################


* using log directory ‘/Users/biocbuild/bbs-3.3-bioc/meat/rBiopaxParser.Rcheck’
* using R version 3.3.0 beta (2016-04-06 r70435)
* using platform: x86_64-apple-darwin13.4.0 (64-bit)
* using session charset: UTF-8
* using option ‘--no-vignettes’
* checking for file ‘rBiopaxParser/DESCRIPTION’ ... OK
* checking extension type ... Package
* this is package ‘rBiopaxParser’ version ‘2.9.0’
* checking package namespace information ... OK
* checking package dependencies ... OK
* checking if this is a source package ... OK
* checking if there is a namespace ... OK
* checking for hidden files and directories ... OK
* checking for portable file names ... OK
* checking for sufficient/correct file permissions ... OK
* checking whether package ‘rBiopaxParser’ can be installed ... [2s/2s] OK
* checking installed package size ... OK
* checking package directory ... OK
* checking ‘build’ directory ... OK
* checking DESCRIPTION meta-information ... OK
* checking top-level files ... OK
* checking for left-over files ... OK
* checking index information ... OK
* checking package subdirectories ... OK
* checking R files for non-ASCII characters ... OK
* checking R files for syntax errors ... OK
* checking whether the package can be loaded ... OK
* checking whether the package can be loaded with stated dependencies ... OK
* checking whether the package can be unloaded cleanly ... OK
* checking whether the namespace can be loaded with stated dependencies ... OK
* checking whether the namespace can be unloaded cleanly ... OK
* checking dependencies in R code ... NOTE
'library' or 'require' calls in package code:
  ‘RBGL’ ‘RCurl’ ‘Rgraphviz’ ‘graph’ ‘nem’
  Please use :: or requireNamespace() instead.
  See section 'Suggested packages' in the 'Writing R Extensions' manual.
* checking S3 generic/method consistency ... OK
* checking replacement functions ... OK
* checking foreign function calls ... OK
* checking R code for possible problems ... NOTE
addBiopaxInstance: no visible binding for global variable ‘property’
addBiopaxInstances: no visible binding for global variable ‘id’
addBiopaxInstances: no visible binding for global variable ‘property’
addPropertiesToBiopaxInstance: no visible binding for global variable
  ‘property’
colorGraphNodes: no visible global function definition for ‘hcl’
createBiopax: no visible binding for global variable ‘id’
createBiopax: no visible binding for global variable ‘property’
getReferencedIDs: no visible binding for global variable
  ‘property_attr’
getReferencedIDs: no visible binding for global variable ‘property’
getReferencingIDs: no visible binding for global variable
  ‘property_attr’
getReferencingIDs: no visible binding for global variable ‘property’
internal_XMLInstance2DF: no visible binding for global variable ‘i’
internal_XMLInstance2DF: no visible binding for global variable ‘p’
internal_generateXMLfromBiopax: no visible binding for global variable
  ‘id’
internal_getBiopaxModelAsDataFrame: no visible binding for global
  variable ‘property’
internal_propertyListToDF: no visible binding for global variable
  ‘property’
layoutRegulatoryGraph: no visible global function definition for
  ‘nodes’
listInstances: no visible binding for global variable ‘property_value’
listInstances: no visible binding for global variable ‘property’
pathway2AdjacancyMatrix: no visible global function definition for ‘as’
pathway2RegulatoryGraph: no visible global function definition for
  ‘new’
pathway2RegulatoryGraph: no visible global function definition for
  ‘getClassDef’
pathway2RegulatoryGraph: no visible binding for global variable ‘id’
pathway2RegulatoryGraph: no visible binding for global variable
  ‘property’
plotRegulatoryGraph: no visible global function definition for ‘nodes’
removeNodes: no visible global function definition for ‘edgeWeights’
removeNodes: no visible global function definition for ‘na.omit’
removeNodes: no visible global function definition for ‘removeNode’
removeNodes: no visible global function definition for ‘addEdge’
removeProperties: no visible binding for global variable ‘property’
selectInstances: no visible binding for global variable
  ‘property_value’
transitiveReduction: no visible global function definition for ‘as’
Undefined global functions or variables:
  addEdge as edgeWeights getClassDef hcl i id na.omit new nodes p
  property property_attr property_value removeNode
Consider adding
  importFrom("grDevices", "hcl")
  importFrom("methods", "as", "getClassDef", "new")
  importFrom("stats", "na.omit")
to your NAMESPACE file (and ensure that your DESCRIPTION Imports field
contains 'methods').
* checking Rd files ... OK
* checking Rd metadata ... OK
* checking Rd cross-references ... OK
* checking for missing documentation entries ... OK
* checking for code/documentation mismatches ... OK
* checking Rd \usage sections ... OK
* checking Rd contents ... OK
* checking for unstated dependencies in examples ... OK
* checking contents of ‘data’ directory ... OK
* checking data for non-ASCII characters ... OK
* checking data for ASCII and uncompressed saves ... OK
* checking sizes of PDF files under ‘inst/doc’ ... OK
* checking installed files from ‘inst/doc’ ... OK
* checking files in ‘vignettes’ ... OK
* checking examples ... [17s/17s] OK
* checking for unstated dependencies in ‘tests’ ... OK
* checking tests ...
  Running ‘runTests.R’ [1s/1s]
 [1s/1s] OK
* checking for unstated dependencies in vignettes ... OK
* checking package vignettes in ‘inst/doc’ ... OK
* checking running R code from vignettes ... SKIPPED
* checking re-building of vignette outputs ... SKIPPED
* checking PDF version of manual ... OK
* DONE

Status: 2 NOTEs
See
  ‘/Users/biocbuild/bbs-3.3-bioc/meat/rBiopaxParser.Rcheck/00check.log’
for details.


rBiopaxParser.Rcheck/00install.out:

* installing *source* package ‘rBiopaxParser’ ...
** R
** data
** inst
** preparing package for lazy loading
** help
*** installing help indices
** building package indices
** installing vignettes
** testing if installed package can be loaded
* DONE (rBiopaxParser)

rBiopaxParser.Rcheck/rBiopaxParser-Ex.timings:

nameusersystemelapsed
addBiochemicalReaction0.0750.0010.077
addBiopaxInstance0.0090.0000.009
addBiopaxInstances0.0370.0050.041
addControl0.0530.0010.054
addPathway0.0720.0010.072
addPathwayComponents0.0420.0010.042
addPhysicalEntity0.0130.0000.014
addPhysicalEntityParticipant0.0220.0010.023
addPropertiesToBiopaxInstance0.0130.0000.013
biopax0.0100.0010.011
calcGraphOverlap2.1740.0202.196
colorGraphNodes1.5800.0161.597
combineNodes0.0030.0000.004
createBiopax0.0050.0000.005
diffGraphs2.0130.0102.024
downloadBiopaxData0.0000.0000.001
getClassProperties0.0010.0000.001
getInstanceClass0.0040.0010.004
getInstanceProperty0.0120.0010.014
getReferencedIDs0.0260.0010.028
getReferencingIDs0.0280.0010.029
getSubClasses0.0010.0000.001
getSuperClasses0.0010.0000.001
getXrefAnnotations0.1470.0010.149
intersectGraphs1.7140.0081.722
listComplexComponents0.0140.0000.015
listInstances0.0220.0030.024
listInteractionComponents0.0150.0000.015
listPathwayComponents0.0150.0010.016
listPathways0.0080.0010.008
pathway2AdjacancyMatrix1.0480.0051.054
pathway2Geneset0.3800.0020.383
pathway2RegulatoryGraph1.3810.0071.389
plotRegulatoryGraph1.3910.0081.401
print.biopax0.0110.0010.013
rBiopaxParser-package000
readBiopax000
removeNodes1.4040.0061.414
selectInstances0.0230.0020.026
splitComplex0.0370.0010.038
uniteGraphs2.1160.0142.133
writeBiopax0.0020.0010.027