Back to the "Multiple platform build/check report" A  B  C  D  E  F  G  H  I  J  K  L  M  N  O  P  Q [R] S  T  U  V  W  X  Y  Z 

BioC 3.3: BUILD report for rGADEM on morelia

This page was generated on 2016-04-21 13:21:32 -0700 (Thu, 21 Apr 2016).

Package 964/1210HostnameOS / ArchINSTALLBUILDCHECKBUILD BIN
rGADEM 2.19.0
Arnaud Droit
Snapshot Date: 2016-04-20 17:20:35 -0700 (Wed, 20 Apr 2016)
URL: https://hedgehog.fhcrc.org/bioconductor/trunk/madman/Rpacks/rGADEM
Last Changed Rev: 109592 / Revision: 116626
Last Changed Date: 2015-10-13 12:59:53 -0700 (Tue, 13 Oct 2015)
zin2 Linux (Ubuntu 14.04.2 LTS) / x86_64  OK  OK  OK UNNEEDED, same version exists in internal repository
moscato2 Windows Server 2008 R2 Enterprise SP1 (64-bit) / x64  OK  OK  OK  OK UNNEEDED, same version exists in internal repository
morelia Mac OS X Mavericks (10.9.5) / x86_64  OK [ OK ] OK  OK UNNEEDED, same version exists in internal repository

Summary

Package: rGADEM
Version: 2.19.0
Command: /Library/Frameworks/R.framework/Versions/Current/Resources/bin/R CMD build --keep-empty-dirs --no-resave-data rGADEM
StartedAt: 2016-04-20 19:21:22 -0700 (Wed, 20 Apr 2016)
EndedAt: 2016-04-20 19:22:33 -0700 (Wed, 20 Apr 2016)
EllapsedTime: 71.4 seconds
RetCode: 0
Status:  OK 
PackageFile: rGADEM_2.19.0.tar.gz
PackageFileSize: 277.2 KiB

Command output

##############################################################################
##############################################################################
###
### Running command:
###
###   /Library/Frameworks/R.framework/Versions/Current/Resources/bin/R CMD build --keep-empty-dirs --no-resave-data rGADEM
###
##############################################################################
##############################################################################


* checking for file ‘rGADEM/DESCRIPTION’ ... OK
* preparing ‘rGADEM’:
* checking DESCRIPTION meta-information ... OK
* cleaning src
* installing the package to build vignettes
* creating vignettes ... OK
* cleaning src
* checking for LF line-endings in source and make files
* checking for empty or unneeded directories
* building ‘rGADEM_2.19.0.tar.gz’