scater 1.0.4 Davis McCarthy
Snapshot Date: 2016-10-12 17:20:15 -0700 (Wed, 12 Oct 2016) | URL: https://hedgehog.fhcrc.org/bioconductor/branches/RELEASE_3_3/madman/Rpacks/scater | Last Changed Rev: 118503 / Revision: 122332 | Last Changed Date: 2016-06-12 09:38:27 -0700 (Sun, 12 Jun 2016) |
| zin2 | Linux (Ubuntu 14.04.2 LTS) / x86_64 | OK | OK | OK | | |
moscato2 | Windows Server 2008 R2 Enterprise SP1 (64-bit) / x64 | [ OK ] | OK | OK | OK | |
oaxaca | Mac OS X Mavericks (10.9.5) / x86_64 | OK | OK | OK | OK | |
##############################################################################
##############################################################################
###
### Running command:
###
### rm -rf scater.buildbin-libdir && mkdir scater.buildbin-libdir && C:\cygwin\bin\curl.exe -O http://zin2/BBS/3.3/bioc/src/contrib/scater_1.0.4.tar.gz && E:\biocbld\bbs-3.3-bioc\R\bin\R.exe CMD INSTALL --build --library=scater.buildbin-libdir --merge-multiarch scater_1.0.4.tar.gz && E:\biocbld\bbs-3.3-bioc\R\bin\R.exe CMD INSTALL scater_1.0.4.zip && rm scater_1.0.4.tar.gz scater_1.0.4.zip
###
##############################################################################
##############################################################################
install for i386
* installing *source* package 'scater' ...
** R
** data
*** moving datasets to lazyload DB
** inst
** preparing package for lazy loading
Creating a new generic function for 'mutate' in package 'scater'
Creating a new generic function for 'filter' in package 'scater'
Creating a generic function for 'plot' from package 'graphics' in package 'scater'
** help
*** installing help indices
** building package indices
** installing vignettes
** testing if installed package can be loaded
install for x64
* installing *source* package 'scater' ...
** testing if installed package can be loaded
* MD5 sums
packaged installation of 'scater' as scater_1.0.4.zip
* DONE (scater)
* installing to library 'E:/biocbld/bbs-3.3-bioc/R/library'
package 'scater' successfully unpacked and MD5 sums checked