Back to the "Multiple platform build/check report" A  B  C  D  E  F  G  H  I  J  K  L  M  N  O  P  Q  R [S] T  U  V  W  X  Y  Z 

BioC 3.3: CHECK report for snm on windows2.bioconductor.org

This page was generated on 2015-10-27 12:14:44 -0400 (Tue, 27 Oct 2015).

Package 991/1104HostnameOS / ArchINSTALLBUILDCHECKBUILD BIN
snm 1.19.0
John D. Storey
Snapshot Date: 2015-10-26 20:20:04 -0400 (Mon, 26 Oct 2015)
URL: https://hedgehog.fhcrc.org/bioconductor/trunk/madman/Rpacks/snm
Last Changed Rev: 109592 / Revision: 109948
Last Changed Date: 2015-10-13 15:59:53 -0400 (Tue, 13 Oct 2015)
linux2.bioconductor.org Linux (Ubuntu 14.04.2 LTS) / x86_64  OK  OK  OK UNNEEDED, same version exists in internal repository
windows2.bioconductor.org Windows Server 2012 R2 Enterprise SP1 (64-bit) / x64  OK  OK [ OK ] OK UNNEEDED, same version exists in internal repository

Summary

Package: snm
Version: 1.19.0
Command: rm -rf snm.buildbin-libdir snm.Rcheck && mkdir snm.buildbin-libdir snm.Rcheck && c:\biocbld\bbs-3.3-bioc\R\bin\R.exe CMD INSTALL --build --merge-multiarch --library=snm.buildbin-libdir snm_1.19.0.tar.gz >snm.Rcheck\00install.out 2>&1 && cp snm.Rcheck\00install.out snm-install.out && c:\biocbld\bbs-3.3-bioc\R\bin\R.exe CMD check --library=snm.buildbin-libdir --install="check:snm-install.out" --force-multiarch --no-vignettes --timings snm_1.19.0.tar.gz
StartedAt: 2015-10-27 06:11:21 -0400 (Tue, 27 Oct 2015)
EndedAt: 2015-10-27 06:22:04 -0400 (Tue, 27 Oct 2015)
EllapsedTime: 642.7 seconds
RetCode: 0
Status:  OK  
CheckDir: snm.Rcheck
Warnings: 0

Command output

##############################################################################
##############################################################################
###
### Running command:
###
###   rm -rf snm.buildbin-libdir snm.Rcheck && mkdir snm.buildbin-libdir snm.Rcheck && c:\biocbld\bbs-3.3-bioc\R\bin\R.exe CMD INSTALL --build --merge-multiarch --library=snm.buildbin-libdir snm_1.19.0.tar.gz >snm.Rcheck\00install.out 2>&1 && cp snm.Rcheck\00install.out snm-install.out  && c:\biocbld\bbs-3.3-bioc\R\bin\R.exe CMD check --library=snm.buildbin-libdir --install="check:snm-install.out" --force-multiarch --no-vignettes --timings snm_1.19.0.tar.gz
###
##############################################################################
##############################################################################


* using log directory 'c:/biocbld/bbs-3.3-bioc/meat/snm.Rcheck'
* using R Under development (unstable) (2015-09-22 r69418)
* using platform: x86_64-w64-mingw32 (64-bit)
* using session charset: ISO8859-1
* using option '--no-vignettes'
* checking for file 'snm/DESCRIPTION' ... OK
* checking extension type ... Package
* this is package 'snm' version '1.19.0'
* checking package namespace information ... OK
* checking package dependencies ... OK
* checking if this is a source package ... OK
* checking if there is a namespace ... OK
* checking for hidden files and directories ... OK
* checking for portable file names ... OK
* checking whether package 'snm' can be installed ... OK
* checking installed package size ... OK
* checking package directory ... OK
* checking 'build' directory ... OK
* checking DESCRIPTION meta-information ... OK
* checking top-level files ... OK
* checking for left-over files ... OK
* checking index information ... OK
* checking package subdirectories ... OK
* checking R files for non-ASCII characters ... OK
* checking R files for syntax errors ... OK
* loading checks for arch 'i386'
** checking whether the package can be loaded ... OK
** checking whether the package can be loaded with stated dependencies ... OK
** checking whether the package can be unloaded cleanly ... OK
** checking whether the namespace can be loaded with stated dependencies ... OK
** checking whether the namespace can be unloaded cleanly ... OK
* loading checks for arch 'x64'
** checking whether the package can be loaded ... OK
** checking whether the package can be loaded with stated dependencies ... OK
** checking whether the package can be unloaded cleanly ... OK
** checking whether the namespace can be loaded with stated dependencies ... OK
** checking whether the namespace can be unloaded cleanly ... OK
* checking dependencies in R code ... OK
* checking S3 generic/method consistency ... OK
* checking replacement functions ... OK
* checking foreign function calls ... OK
* checking R code for possible problems ... OK
* checking Rd files ... OK
* checking Rd metadata ... OK
* checking Rd cross-references ... OK
* checking for missing documentation entries ... OK
* checking for code/documentation mismatches ... OK
* checking Rd \usage sections ... OK
* checking Rd contents ... OK
* checking for unstated dependencies in examples ... OK
* checking installed files from 'inst/doc' ... OK
* checking files in 'vignettes' ... OK
* checking examples ...
** running examples for arch 'i386' ... [322s] OK
Examples with CPU or elapsed time > 5s
                user system elapsed
sim.refDesign 166.42   9.58  176.00
snm           127.32  13.03  140.35
** running examples for arch 'x64' ... [265s] OK
Examples with CPU or elapsed time > 5s
                user system elapsed
sim.refDesign 138.19   3.19  141.37
snm           109.86   8.40  118.29
* checking for unstated dependencies in vignettes ... OK
* checking package vignettes in 'inst/doc' ... OK
* checking running R code from vignettes ... SKIPPED
* checking re-building of vignette outputs ... SKIPPED
* checking PDF version of manual ... OK
* DONE

Status: OK

snm.Rcheck/00install.out:


install for i386

* installing *source* package 'snm' ...
** R
** inst
** preparing package for lazy loading
** help
*** installing help indices
** building package indices
** installing vignettes
** testing if installed package can be loaded

install for x64

* installing *source* package 'snm' ...
** testing if installed package can be loaded
* MD5 sums
packaged installation of 'snm' as snm_1.19.0.zip
* DONE (snm)

snm.Rcheck/examples_i386/snm-Ex.timings:

nameusersystemelapsed
fitted.snm000
plot.snm000
sim.doubleChannel000
sim.preProcessed2.950.123.07
sim.refDesign166.42 9.58176.00
sim.singleChannel000
snm127.32 13.03140.35
summary.snm000

snm.Rcheck/examples_x64/snm-Ex.timings:

nameusersystemelapsed
fitted.snm000
plot.snm000
sim.doubleChannel000
sim.preProcessed2.950.123.08
sim.refDesign138.19 3.19141.37
sim.singleChannel000
snm109.86 8.40118.29
summary.snm000