viper 1.7.4 Mariano J Alvarez
Snapshot Date: 2016-10-12 17:20:15 -0700 (Wed, 12 Oct 2016) | URL: https://hedgehog.fhcrc.org/bioconductor/branches/RELEASE_3_3/madman/Rpacks/viper | Last Changed Rev: 121252 / Revision: 122332 | Last Changed Date: 2016-09-22 11:55:03 -0700 (Thu, 22 Sep 2016) |
| zin2 | Linux (Ubuntu 14.04.2 LTS) / x86_64 | OK | OK | WARNINGS | | |
moscato2 | Windows Server 2008 R2 Enterprise SP1 (64-bit) / x64 | [ OK ] | OK | WARNINGS | OK | |
oaxaca | Mac OS X Mavericks (10.9.5) / x86_64 | OK | OK | WARNINGS | OK | |
##############################################################################
##############################################################################
###
### Running command:
###
### rm -rf viper.buildbin-libdir && mkdir viper.buildbin-libdir && C:\cygwin\bin\curl.exe -O http://zin2/BBS/3.3/bioc/src/contrib/viper_1.7.4.tar.gz && E:\biocbld\bbs-3.3-bioc\R\bin\R.exe CMD INSTALL --build --library=viper.buildbin-libdir --merge-multiarch viper_1.7.4.tar.gz && E:\biocbld\bbs-3.3-bioc\R\bin\R.exe CMD INSTALL viper_1.7.4.zip && rm viper_1.7.4.tar.gz viper_1.7.4.zip
###
##############################################################################
##############################################################################
install for i386
* installing *source* package 'viper' ...
** R
** inst
** preparing package for lazy loading
** help
*** installing help indices
** building package indices
** installing vignettes
'viper.Rnw'
** testing if installed package can be loaded
install for x64
* installing *source* package 'viper' ...
** testing if installed package can be loaded
* MD5 sums
packaged installation of 'viper' as viper_1.7.4.zip
* DONE (viper)
* installing to library 'E:/biocbld/bbs-3.3-bioc/R/library'
package 'viper' successfully unpacked and MD5 sums checked