xcms 1.48.0 Steffen Neumann
Snapshot Date: 2016-10-12 17:20:15 -0700 (Wed, 12 Oct 2016) | URL: https://hedgehog.fhcrc.org/bioconductor/branches/RELEASE_3_3/madman/Rpacks/xcms | Last Changed Rev: 117079 / Revision: 122332 | Last Changed Date: 2016-05-03 14:20:18 -0700 (Tue, 03 May 2016) |
| zin2 | Linux (Ubuntu 14.04.2 LTS) / x86_64 | OK | OK | OK | | ![UNNEEDED, same version exists in internal repository UNNEEDED, same version exists in internal repository](../120px-Blue_Light_Icon.svg.png) |
moscato2 | Windows Server 2008 R2 Enterprise SP1 (64-bit) / x64 | OK | OK | OK | [ OK ] | ![UNNEEDED, same version exists in internal repository UNNEEDED, same version exists in internal repository](../120px-Blue_Light_Icon.svg.png) |
oaxaca | Mac OS X Mavericks (10.9.5) / x86_64 | OK | OK | OK | OK | ![UNNEEDED, same version exists in internal repository UNNEEDED, same version exists in internal repository](../120px-Blue_Light_Icon.svg.png) |
##############################################################################
##############################################################################
###
### Running command:
###
### cd xcms.buildbin-libdir/xcms && zip -r ../../xcms_1.48.0.zip . & cd ../..
###
##############################################################################
##############################################################################
adding: CHANGELOG (188 bytes security) (deflated 60%)
adding: CITATION (188 bytes security) (deflated 61%)
adding: DESCRIPTION (188 bytes security) (deflated 41%)
adding: doc/ (256 bytes security) (stored 0%)
adding: doc/index.html (188 bytes security) (deflated 74%)
adding: doc/xcmsDirect.pdf (188 bytes security) (deflated 9%)
adding: doc/xcmsDirect.R (188 bytes security) (deflated 70%)
adding: doc/xcmsDirect.Rnw (188 bytes security) (deflated 56%)
adding: doc/xcmsInstall.pdf (188 bytes security) (deflated 9%)
adding: doc/xcmsInstall.Rnw (188 bytes security) (deflated 61%)
adding: doc/xcmsMSn.pdf (188 bytes security) (deflated 7%)
adding: doc/xcmsMSn.R (188 bytes security) (deflated 76%)
adding: doc/xcmsMSn.Rnw (188 bytes security) (deflated 52%)
adding: doc/xcmsPreprocess.pdf (188 bytes security) (deflated 11%)
adding: doc/xcmsPreprocess.R (188 bytes security) (deflated 79%)
adding: doc/xcmsPreprocess.Rnw (188 bytes security) (deflated 63%)
adding: help/ (256 bytes security) (stored 0%)
adding: help/aliases.rds (188 bytes security) (stored 0%)
adding: help/AnIndex (188 bytes security) (deflated 82%)
adding: help/paths.rds (188 bytes security) (stored 0%)
adding: help/xcms.rdb (188 bytes security) (deflated 1%)
adding: help/xcms.rdx (188 bytes security) (deflated 2%)
adding: html/ (256 bytes security) (stored 0%)
adding: html/00Index.html (188 bytes security) (deflated 89%)
adding: html/R.css (188 bytes security) (deflated 75%)
adding: INDEX (188 bytes security) (deflated 71%)
adding: libs/ (256 bytes security) (stored 0%)
adding: libs/i386/ (256 bytes security) (stored 0%)
adding: libs/i386/xcms.dll (188 bytes security) (deflated 64%)
adding: libs/x64/ (256 bytes security) (stored 0%)
adding: libs/x64/xcms.dll (188 bytes security) (deflated 65%)
adding: LICENSE (188 bytes security) (deflated 62%)
adding: MD5 (188 bytes security) (deflated 48%)
adding: Meta/ (256 bytes security) (stored 0%)
adding: Meta/hsearch.rds (188 bytes security) (deflated 2%)
adding: Meta/links.rds (188 bytes security) (stored 0%)
adding: Meta/nsInfo.rds (188 bytes security) (stored 0%)
adding: Meta/package.rds (188 bytes security) (stored 0%)
adding: Meta/Rd.rds (188 bytes security) (stored 0%)
adding: Meta/vignette.rds (188 bytes security) (stored 0%)
adding: NAMESPACE (188 bytes security) (deflated 76%)
adding: NEWS (188 bytes security) (deflated 65%)
adding: R/ (256 bytes security) (stored 0%)
adding: R/xcms (188 bytes security) (deflated 41%)
adding: R/xcms.rdb (188 bytes security) (deflated 43%)
adding: R/xcms.rdx (188 bytes security) (deflated 4%)
adding: unitTests/ (256 bytes security) (stored 0%)
adding: unitTests/Makefile (188 bytes security) (deflated 27%)
adding: unitTests/mzQuantML_1_0_0.xsd (188 bytes security) (deflated 87%)
adding: unitTests/report.html (188 bytes security) (deflated 88%)
adding: unitTests/report.txt (188 bytes security) (deflated 83%)
adding: unitTests/reportSummary.txt (188 bytes security) (deflated 42%)
adding: unitTests/runit.absentPresent.R (188 bytes security) (deflated 85%)
adding: unitTests/runit.diffreport.R (188 bytes security) (deflated 57%)
adding: unitTests/runit.fillPeaks.R (188 bytes security) (deflated 68%)
adding: unitTests/runit.findPeaksCentWave.fitGauss.plot.R (188 bytes security) (deflated 20%)
adding: unitTests/runit.findPeaksMassIfQuant.R (188 bytes security) (deflated 21%)
adding: unitTests/runit.getEIC.R (188 bytes security) (deflated 66%)
adding: unitTests/runit.getXcmsRaw.R (188 bytes security) (deflated 58%)
adding: unitTests/runit.group.R (188 bytes security) (deflated 54%)
adding: unitTests/runit.msms.R (188 bytes security) (deflated 65%)
adding: unitTests/runit.obiwarp.R (188 bytes security) (deflated 76%)
adding: unitTests/runit.phenoData.R (188 bytes security) (deflated 76%)
adding: unitTests/runit.ramp.R (188 bytes security) (deflated 46%)
adding: unitTests/runit.rawMat.R (188 bytes security) (deflated 23%)
adding: unitTests/runit.sampclass.R (188 bytes security) (deflated 63%)
adding: unitTests/runit.scanrage.R (188 bytes security) (deflated 78%)
adding: unitTests/runit.snames.R (188 bytes security) (deflated 50%)
adding: unitTests/runit.specDist.R (188 bytes security) (deflated 61%)
adding: unitTests/runit.splitCombine.R (188 bytes security) (deflated 72%)
adding: unitTests/runit.splitRaw.R (188 bytes security) (deflated 80%)
adding: unitTests/runit.unusedGroups.R (188 bytes security) (deflated 42%)
adding: unitTests/runit.writecdf.R (188 bytes security) (deflated 44%)
adding: unitTests/runit.writemzdata.R (188 bytes security) (deflated 77%)
adding: unitTests/runit.writemzquantml.R (188 bytes security) (deflated 31%)
adding: unitTests/runit.xcmsRawCopy.R (188 bytes security) (deflated 44%)
adding: unitTests/runit.xcmsSet.R (188 bytes security) (deflated 78%)