##############################################################################
##############################################################################
###
### Running command:
###
### cd SomatiCAData.buildbin-libdir/SomatiCAData && zip -r ../../SomatiCAData_1.10.0.zip . & cd ../..
###
##############################################################################
##############################################################################
Scanning files
adding: data/ (256 bytes security) (stored 0%)
adding: data/datalist (188 bytes security) (stored 0%)
adding: data/Rdata.rdb (188 bytes security) (deflated 1%)
adding: data/Rdata.rds (188 bytes security) (deflated 1%)
adding: data/Rdata.rdx (188 bytes security) (stored 0%)
adding: DESCRIPTION (188 bytes security) (deflated 40%)
adding: help/ (256 bytes security) (stored 0%)
adding: help/aliases.rds (188 bytes security) (stored 0%)
adding: help/AnIndex (188 bytes security) (deflated 54%)
adding: help/paths.rds (188 bytes security) (stored 0%)
adding: help/SomatiCAData.rdb (188 bytes security) (stored 0%)
adding: help/SomatiCAData.rdx (188 bytes security) (stored 0%)
adding: html/ (256 bytes security) (stored 0%)
adding: html/00Index.html (188 bytes security) (deflated 60%)
adding: html/R.css (188 bytes security) (deflated 75%)
adding: INDEX (188 bytes security) (deflated 46%)
adding: MD5 (188 bytes security) (deflated 43%)
adding: Meta/ (256 bytes security) (stored 0%)
adding: Meta/data.rds (188 bytes security) (stored 0%)
adding: Meta/hsearch.rds (188 bytes security) (stored 0%)
adding: Meta/links.rds (188 bytes security) (stored 0%)
adding: Meta/nsInfo.rds (188 bytes security) (stored 0%)
adding: Meta/package.rds (188 bytes security) (stored 0%)
adding: Meta/Rd.rds (188 bytes security) (stored 0%)
adding: NAMESPACE (188 bytes security) (stored 0%)
adding: R/ (256 bytes security) (stored 0%)
adding: R/SomatiCAData (188 bytes security) (deflated 41%)
adding: R/SomatiCAData.rdb (188 bytes security) (deflated 30%)
adding: R/SomatiCAData.rdx (188 bytes security) (stored 0%)