##############################################################################
##############################################################################
###
### Running command:
###
### cd cnvGSAdata.buildbin-libdir/cnvGSAdata && zip -r ../../cnvGSAdata_1.8.0.zip . & cd ../..
###
##############################################################################
##############################################################################
adding: data/ (256 bytes security) (stored 0%)
adding: data/cnvGSA_input_example.RData (188 bytes security) (deflated 2%)
adding: data/cnvGSA_output_example.RData (188 bytes security) (deflated 2%)
adding: data/datalist (188 bytes security) (deflated 38%)
adding: data/gs_data_example.RData (188 bytes security) (deflated 0%)
adding: DESCRIPTION (188 bytes security) (deflated 40%)
adding: extdata/ (256 bytes security) (stored 0%)
adding: extdata/cnv_AGP_demo.txt (188 bytes security) (deflated 65%)
adding: extdata/enrGeneric_AGP_demo.txt (188 bytes security) (deflated 58%)
adding: extdata/enrGMT_AGP_demo.gmt (188 bytes security) (deflated 57%)
adding: extdata/gene_ID_demo.txt (188 bytes security) (deflated 72%)
adding: extdata/kl_gene_AGP_demo.txt (188 bytes security) (stored 0%)
adding: extdata/kl_loci_AGP_demo.txt (188 bytes security) (deflated 57%)
adding: extdata/ph_AGP_demo.txt (188 bytes security) (deflated 90%)
adding: help/ (256 bytes security) (stored 0%)
adding: help/aliases.rds (188 bytes security) (stored 0%)
adding: help/AnIndex (188 bytes security) (deflated 70%)
adding: help/cnvGSAdata.rdb (188 bytes security) (deflated 1%)
adding: help/cnvGSAdata.rdx (188 bytes security) (stored 0%)
adding: help/paths.rds (188 bytes security) (stored 0%)
adding: html/ (256 bytes security) (stored 0%)
adding: html/00Index.html (188 bytes security) (deflated 73%)
adding: html/R.css (188 bytes security) (deflated 75%)
adding: INDEX (188 bytes security) (deflated 67%)
adding: MD5 (188 bytes security) (deflated 45%)
adding: Meta/ (256 bytes security) (stored 0%)
adding: Meta/data.rds (188 bytes security) (stored 0%)
adding: Meta/hsearch.rds (188 bytes security) (stored 0%)
adding: Meta/links.rds (188 bytes security) (stored 0%)
adding: Meta/nsInfo.rds (188 bytes security) (stored 0%)
adding: Meta/package.rds (188 bytes security) (stored 0%)
adding: Meta/Rd.rds (188 bytes security) (stored 0%)
adding: NAMESPACE (188 bytes security) (stored 0%)