##############################################################################
##############################################################################
###
### Running command:
###
### E:\biocbld\bbs-3.3-bioc\R\bin\R.exe --arch i386 CMD INSTALL --no-multiarch msdata
###
##############################################################################
##############################################################################
* installing to library 'E:/biocbld/bbs-3.3-bioc/R/library'
* installing *source* package 'msdata' ...
** data
** inst
** help
*** installing help indices
** building package indices
** testing if installed package can be loaded
* DONE (msdata)