ballgown 2.5.2 Jack Fu
Snapshot Date: 2016-09-19 19:15:14 -0700 (Mon, 19 Sep 2016) | URL: https://hedgehog.fhcrc.org/bioconductor/trunk/madman/Rpacks/ballgown | Last Changed Rev: 117512 / Revision: 121152 | Last Changed Date: 2016-05-15 13:14:22 -0700 (Sun, 15 May 2016) |
| zin1 | Linux (Ubuntu 16.04 LTS) / x86_64 | OK | OK | OK | | ![UNNEEDED, same version exists in internal repository UNNEEDED, same version exists in internal repository](../120px-Blue_Light_Icon.svg.png) |
moscato1 | Windows Server 2008 R2 Standard (64-bit) / x64 | [ OK ] | OK | OK | OK | ![UNNEEDED, same version exists in internal repository UNNEEDED, same version exists in internal repository](../120px-Blue_Light_Icon.svg.png) |
morelia | Mac OS X Mavericks (10.9.5) / x86_64 | OK | OK | OK | OK | ![UNNEEDED, same version exists in internal repository UNNEEDED, same version exists in internal repository](../120px-Blue_Light_Icon.svg.png) |
##############################################################################
##############################################################################
###
### Running command:
###
### rm -rf ballgown.buildbin-libdir && mkdir ballgown.buildbin-libdir && C:\cygwin\bin\curl.exe -O http://zin1/BBS/3.4/bioc/src/contrib/ballgown_2.5.2.tar.gz && D:\biocbld\bbs-3.4-bioc\R\bin\R.exe CMD INSTALL --build --library=ballgown.buildbin-libdir --merge-multiarch ballgown_2.5.2.tar.gz && D:\biocbld\bbs-3.4-bioc\R\bin\R.exe CMD INSTALL ballgown_2.5.2.zip && rm ballgown_2.5.2.tar.gz ballgown_2.5.2.zip
###
##############################################################################
##############################################################################
% Total % Received % Xferd Average Speed Time Time Time Current
Dload Upload Total Spent Left Speed
0 0 0 0 0 0 0 0 --:--:-- --:--:-- --:--:-- 0
100 3328k 100 3328k 0 0 79.1M 0 --:--:-- --:--:-- --:--:-- 85.5M
install for i386
* installing *source* package 'ballgown' ...
** R
** data
** inst
** preparing package for lazy loading
Creating a new generic function for 'structure' in package 'ballgown'
** help
*** installing help indices
** building package indices
** installing vignettes
'ballgown.Rmd'
** testing if installed package can be loaded
install for x64
* installing *source* package 'ballgown' ...
** testing if installed package can be loaded
* MD5 sums
packaged installation of 'ballgown' as ballgown_2.5.2.zip
* DONE (ballgown)
* installing to library 'D:/biocbld/bbs-3.4-bioc/R/library'
package 'ballgown' successfully unpacked and MD5 sums checked