gQTLstats 1.6.0 VJ Carey
Snapshot Date: 2017-04-14 17:17:13 -0400 (Fri, 14 Apr 2017) | URL: https://hedgehog.fhcrc.org/bioconductor/branches/RELEASE_3_4/madman/Rpacks/gQTLstats | Last Changed Rev: 122710 / Revision: 128728 | Last Changed Date: 2016-10-17 14:45:06 -0400 (Mon, 17 Oct 2016) |
| malbec1 | Linux (Ubuntu 16.04.1 LTS) / x86_64 | OK | OK | OK | | ![UNNEEDED, same version exists in internal repository UNNEEDED, same version exists in internal repository](../120px-Blue_Light_Icon.svg.png) |
tokay1 | Windows Server 2012 R2 Standard / x64 | OK | OK | OK | [ OK ] | ![UNNEEDED, same version exists in internal repository UNNEEDED, same version exists in internal repository](../120px-Blue_Light_Icon.svg.png) |
morelia | Mac OS X Mavericks (10.9.5) / x86_64 | OK | OK | OK | OK | ![UNNEEDED, same version exists in internal repository UNNEEDED, same version exists in internal repository](../120px-Blue_Light_Icon.svg.png) |
##############################################################################
##############################################################################
###
### Running command:
###
### cd gQTLstats.buildbin-libdir/gQTLstats && zip -r ../../gQTLstats_1.6.0.zip . & cd ../..
###
##############################################################################
##############################################################################
adding: data/ (324 bytes security) (stored 0%)
adding: data/bigfiltFDR.rda (284 bytes security) (deflated 0%)
adding: data/bigrawFDR.rda (284 bytes security) (deflated 0%)
adding: data/datalist (284 bytes security) (deflated 3%)
adding: data/filtFDR.rda (284 bytes security) (deflated 2%)
adding: data/hmm878.rda (284 bytes security) (deflated 0%)
adding: data/rawFDR.rda (284 bytes security) (deflated 0%)
adding: data/sensByProbe.rda (284 bytes security) (deflated 1%)
adding: data/sigInlit.rda (284 bytes security) (deflated 1%)
adding: DESCRIPTION (284 bytes security) (deflated 43%)
adding: doc/ (324 bytes security) (stored 0%)
adding: doc/gQTLstats.html (284 bytes security) (deflated 62%)
adding: doc/gQTLstats.R (284 bytes security) (deflated 67%)
adding: doc/gQTLstats.Rmd (284 bytes security) (deflated 59%)
adding: doc/index.html (284 bytes security) (deflated 58%)
adding: help/ (324 bytes security) (stored 0%)
adding: help/aliases.rds (284 bytes security) (stored 0%)
adding: help/AnIndex (284 bytes security) (deflated 68%)
adding: help/gQTLstats.rdb (284 bytes security) (deflated 1%)
adding: help/gQTLstats.rdx (284 bytes security) (stored 0%)
adding: help/paths.rds (284 bytes security) (stored 0%)
adding: html/ (324 bytes security) (stored 0%)
adding: html/00Index.html (284 bytes security) (deflated 80%)
adding: html/R.css (284 bytes security) (deflated 75%)
adding: INDEX (284 bytes security) (deflated 61%)
adding: MD5 (284 bytes security) (deflated 46%)
adding: Meta/ (324 bytes security) (stored 0%)
adding: Meta/data.rds (284 bytes security) (stored 0%)
adding: Meta/hsearch.rds (284 bytes security) (stored 0%)
adding: Meta/links.rds (284 bytes security) (stored 0%)
adding: Meta/nsInfo.rds (284 bytes security) (stored 0%)
adding: Meta/package.rds (284 bytes security) (stored 0%)
adding: Meta/Rd.rds (284 bytes security) (stored 0%)
adding: Meta/vignette.rds (284 bytes security) (stored 0%)
adding: NAMESPACE (284 bytes security) (deflated 51%)
adding: R/ (324 bytes security) (stored 0%)
adding: R/gQTLstats (284 bytes security) (deflated 41%)
adding: R/gQTLstats.rdb (284 bytes security) (deflated 21%)
adding: R/gQTLstats.rdx (284 bytes security) (stored 0%)
adding: scripts/ (324 bytes security) (stored 0%)
adding: scripts/geuvFull/ (324 bytes security) (stored 0%)
adding: scripts/geuvFull/gsvs.rda (284 bytes security) (deflated 0%)
adding: scripts/geuvFull/runit.R (284 bytes security) (deflated 46%)
adding: scripts/geuvFull/runit3.R (284 bytes security) (deflated 48%)
adding: scripts/geuvFull/tg_250k.rda (284 bytes security) (deflated 4%)
adding: scripts/README.txt (284 bytes security) (deflated 13%)
adding: scripts/sensByProbe/ (324 bytes security) (stored 0%)
adding: scripts/sensByProbe/sensanal2.R (284 bytes security) (deflated 54%)
adding: scripts/sensBySNP/ (324 bytes security) (stored 0%)
adding: scripts/sensBySNP/bysnpBat.R (284 bytes security) (deflated 23%)
adding: unitTests/ (324 bytes security) (stored 0%)
adding: unitTests/test_gQTLstats.R (284 bytes security) (deflated 59%)
adding: vcf/ (324 bytes security) (stored 0%)
adding: vcf/c20exch.vcf.gz (284 bytes security) (deflated 0%)
adding: vcf/c20exch.vcf.gz.tbi (284 bytes security) (deflated 1%)
adding: vcf/GLdemo.vcf (284 bytes security) (deflated 40%)
adding: vcf/lit20.vcf.gz (284 bytes security) (deflated 0%)
adding: vcf/lit20.vcf.gz.tbi (284 bytes security) (deflated 5%)
adding: vcf/litv.vcf.gz (284 bytes security) (deflated 2%)
adding: vcf/litv.vcf.gz.tbi (284 bytes security) (deflated 14%)
adding: vcf/mixedVcfToSM.R (284 bytes security) (deflated 53%)
adding: vcf/polytype.vcf (284 bytes security) (deflated 53%)
adding: vcf/polytypeSNV.vcf (284 bytes security) (deflated 57%)
adding: vcf/README.txt (284 bytes security) (deflated 24%)
adding: vcf/small_1.vcf.gz (284 bytes security) (deflated 2%)
adding: vcf/small_1.vcf.gz.tbi (284 bytes security) (deflated 27%)