##############################################################################
##############################################################################
###
### Running command:
###
### cd a4Preproc.buildbin-libdir/a4Preproc && zip -r ../../a4Preproc_1.21.0.zip . & cd ../..
###
##############################################################################
##############################################################################
adding: DESCRIPTION (188 bytes security) (deflated 40%)
adding: help/ (208 bytes security) (stored 0%)
adding: help/a4Preproc.rdb (188 bytes security) (stored 0%)
adding: help/a4Preproc.rdx (188 bytes security) (stored 0%)
adding: help/aliases.rds (188 bytes security) (deflated 1%)
adding: help/AnIndex (188 bytes security) (deflated 28%)
adding: help/paths.rds (188 bytes security) (stored 0%)
adding: html/ (208 bytes security) (stored 0%)
adding: html/00Index.html (188 bytes security) (deflated 49%)
adding: html/R.css (188 bytes security) (deflated 75%)
adding: INDEX (188 bytes security) (deflated 31%)
adding: MD5 (188 bytes security) (deflated 40%)
adding: Meta/ (208 bytes security) (stored 0%)
adding: Meta/hsearch.rds (188 bytes security) (stored 0%)
adding: Meta/links.rds (188 bytes security) (stored 0%)
adding: Meta/nsInfo.rds (188 bytes security) (stored 0%)
adding: Meta/package.rds (188 bytes security) (stored 0%)
adding: Meta/Rd.rds (188 bytes security) (stored 0%)
adding: NAMESPACE (188 bytes security) (stored 0%)
adding: NEWS (188 bytes security) (deflated 8%)
adding: R/ (208 bytes security) (stored 0%)
adding: R/a4Preproc (188 bytes security) (deflated 41%)
adding: R/a4Preproc.rdb (188 bytes security) (deflated 8%)
adding: R/a4Preproc.rdx (188 bytes security) (stored 0%)