graphite 1.19.0 Gabriele Sales
Snapshot Date: 2016-09-10 19:15:46 -0700 (Sat, 10 Sep 2016) | URL: https://hedgehog.fhcrc.org/bioconductor/trunk/madman/Rpacks/graphite | Last Changed Rev: 117081 / Revision: 120833 | Last Changed Date: 2016-05-03 14:30:44 -0700 (Tue, 03 May 2016) |
| zin1 | Linux (Ubuntu 16.04 LTS) / x86_64 | OK | OK | OK | | ![UNNEEDED, same version exists in internal repository UNNEEDED, same version exists in internal repository](../120px-Blue_Light_Icon.svg.png) |
moscato1 | Windows Server 2008 R2 Standard (64-bit) / x64 | OK | [ ERROR ] | skipped | skipped | |
morelia | Mac OS X Mavericks (10.9.5) / x86_64 | OK | ERROR | skipped | skipped | |
##############################################################################
##############################################################################
###
### Running command:
###
### chmod a+r graphite -R && D:\biocbld\bbs-3.4-bioc\R\bin\R.exe CMD build --keep-empty-dirs --no-resave-data graphite
###
##############################################################################
##############################################################################
* checking for file 'graphite/DESCRIPTION' ... OK
* preparing 'graphite':
* checking DESCRIPTION meta-information ... OK
* installing the package to build vignettes
* creating vignettes ...Warning: running command '"D:/biocbld/bbs-3.4-bioc/R/bin/x64/Rscript" --vanilla --default-packages= -e "tools::buildVignettes(dir = '.', tangle = TRUE)"' had status 1
ERROR
Loading required package: BiocGenerics
Loading required package: parallel
Attaching package: 'BiocGenerics'
The following objects are masked from 'package:parallel':
clusterApply, clusterApplyLB, clusterCall, clusterEvalQ, clusterExport,
clusterMap, parApply, parCapply, parLapply, parLapplyLB, parRapply,
parSapply, parSapplyLB
The following objects are masked from 'package:stats':
IQR, mad, xtabs
The following objects are masked from 'package:base':
Filter, Find, Map, Position, Reduce, anyDuplicated, append, as.data.frame,
cbind, colnames, do.call, duplicated, eval, evalq, get, grep, grepl,
intersect, is.unsorted, lapply, lengths, mapply, match, mget, order, paste,
pmax, pmax.int, pmin, pmin.int, rank, rbind, rownames, sapply, setdiff,
sort, table, tapply, union, unique, unsplit, which, which.max, which.min
'select()' returned 1:1 mapping between keys and columns
'select()' returned 1:1 mapping between keys and columns
'select()' returned 1:1 mapping between keys and columns
'select()' returned 1:1 mapping between keys and columns
'select()' returned 1:many mapping between keys and columns
'select()' returned 1:many mapping between keys and columns
'select()' returned 1:1 mapping between keys and columns
'select()' returned 1:1 mapping between keys and columns
'select()' returned 1:1 mapping between keys and columns
'select()' returned 1:1 mapping between keys and columns
'select()' returned 1:1 mapping between keys and columns
'select()' returned 1:1 mapping between keys and columns
Loading required package: KEGGgraph
Attaching package: 'KEGGgraph'
The following object is masked from 'package:graphics':
plot
Warning: Object "biocarta" is deprecated and will be removed from the next release.
Use the pathways() function instead.
Error: processing vignette 'graphite.Rnw' failed with diagnostics:
chunk 13 (label = dg1)
Error in library(DEGraph) : there is no package called 'DEGraph'
Execution halted